BEGIN:VCALENDAR
VERSION:2.0
PRODID:-//Trieste Cultura - ECPv6.15.20//NONSGML v1.0//EN
CALSCALE:GREGORIAN
METHOD:PUBLISH
X-WR-CALNAME:Trieste Cultura
X-ORIGINAL-URL:https://triestecultura.it
X-WR-CALDESC:Eventi per Trieste Cultura
REFRESH-INTERVAL;VALUE=DURATION:PT1H
X-Robots-Tag:noindex
X-PUBLISHED-TTL:PT1H
BEGIN:VTIMEZONE
TZID:Europe/Rome
BEGIN:DAYLIGHT
TZOFFSETFROM:+0100
TZOFFSETTO:+0200
TZNAME:CEST
DTSTART:20250330T010000
END:DAYLIGHT
BEGIN:STANDARD
TZOFFSETFROM:+0200
TZOFFSETTO:+0100
TZNAME:CET
DTSTART:20251026T010000
END:STANDARD
BEGIN:DAYLIGHT
TZOFFSETFROM:+0100
TZOFFSETTO:+0200
TZNAME:CEST
DTSTART:20260329T010000
END:DAYLIGHT
BEGIN:STANDARD
TZOFFSETFROM:+0200
TZOFFSETTO:+0100
TZNAME:CET
DTSTART:20261025T010000
END:STANDARD
BEGIN:DAYLIGHT
TZOFFSETFROM:+0100
TZOFFSETTO:+0200
TZNAME:CEST
DTSTART:20270328T010000
END:DAYLIGHT
BEGIN:STANDARD
TZOFFSETFROM:+0200
TZOFFSETTO:+0100
TZNAME:CET
DTSTART:20271031T010000
END:STANDARD
END:VTIMEZONE
BEGIN:VEVENT
DTSTART;TZID=Europe/Rome:20260404T100000
DTEND;TZID=Europe/Rome:20260404T100000
DTSTAMP:20260419T150054
CREATED:20260319T082603Z
LAST-MODIFIED:20260330T142927Z
UID:10006055-1775296800-1775296800@triestecultura.it
SUMMARY:Benvenuta Primavera! – Passeggiata guidata
DESCRIPTION:Pasqua all’orto botanico. La nuova stagione dell’Orto Botanico si apre con due attività speciali dedicate alle festività pasquali. \nIn occasione della riapertura stagionale\, un’affascinante passeggiata guidata alla scoperta dell’Orto Botanico di Trieste. Il percorso condurrà i partecipanti attraverso la storia di questo prezioso spazio verde cittadino\, raccontandone le funzioni scientifiche e didattiche\, le trasformazioni nel tempo e il suo assetto attuale. \nUn’opportunità speciale per visitarlo nel momento più suggestivo dell’anno: quando la natura si risveglia e l’Orto si riempie di nuovi germogli\, profumi e colori che annunciano l’arrivo della primavera. \nPer info e prenotazioni: Benvenuta Primavera! | CoopCulture \nSi informa chela passeggiata guidata “Benvenuta Primavera!”\, in programma sabato 4 aprile alle ore 11.00 presso l’Orto Botanico di Trieste\, ha registrato il tutto esaurito. È stato quindi aggiunto un nuovo turno della visita guidata alle ore 10.00 della stessa giornata.
URL:https://triestecultura.it/evento/benvenuta-primavera-passeggiata-guidata/2026-04-04/1/
LOCATION:Orto Botanico\, via Marchesetti 2\, Trieste\, Trieste\, Trieste\, Italy
CATEGORIES:Attività per bambini
ATTACH;FMTTYPE=image/jpeg:https://triestecultura.it/wp-content/uploads/2026/03/Pasqua_Orto_Passeggiata.jpg
END:VEVENT
BEGIN:VEVENT
DTSTART;TZID=Europe/Rome:20260404T110000
DTEND;TZID=Europe/Rome:20260404T110000
DTSTAMP:20260419T150054
CREATED:20260319T082603Z
LAST-MODIFIED:20260330T142927Z
UID:10006054-1775300400-1775300400@triestecultura.it
SUMMARY:Benvenuta Primavera! – Passeggiata guidata
DESCRIPTION:Pasqua all’orto botanico. La nuova stagione dell’Orto Botanico si apre con due attività speciali dedicate alle festività pasquali. \nIn occasione della riapertura stagionale\, un’affascinante passeggiata guidata alla scoperta dell’Orto Botanico di Trieste. Il percorso condurrà i partecipanti attraverso la storia di questo prezioso spazio verde cittadino\, raccontandone le funzioni scientifiche e didattiche\, le trasformazioni nel tempo e il suo assetto attuale. \nUn’opportunità speciale per visitarlo nel momento più suggestivo dell’anno: quando la natura si risveglia e l’Orto si riempie di nuovi germogli\, profumi e colori che annunciano l’arrivo della primavera. \nPer info e prenotazioni: Benvenuta Primavera! | CoopCulture \nSi informa chela passeggiata guidata “Benvenuta Primavera!”\, in programma sabato 4 aprile alle ore 11.00 presso l’Orto Botanico di Trieste\, ha registrato il tutto esaurito. È stato quindi aggiunto un nuovo turno della visita guidata alle ore 10.00 della stessa giornata.
URL:https://triestecultura.it/evento/benvenuta-primavera-passeggiata-guidata/2026-04-04/3/
LOCATION:Orto Botanico\, via Marchesetti 2\, Trieste\, Trieste\, Trieste\, Italy
CATEGORIES:Attività per bambini
ATTACH;FMTTYPE=image/jpeg:https://triestecultura.it/wp-content/uploads/2026/03/Pasqua_Orto_Passeggiata.jpg
END:VEVENT
BEGIN:VEVENT
DTSTART;TZID=Europe/Rome:20260404T150000
DTEND;TZID=Europe/Rome:20260404T150000
DTSTAMP:20260419T150054
CREATED:20260319T082846Z
LAST-MODIFIED:20260319T094253Z
UID:10006015-1775314800-1775314800@triestecultura.it
SUMMARY:La Natura a colori – visita gioco per famiglie
DESCRIPTION:Tra i vialetti dell’Orto chi si è già svegliato dal lungo inverno? Chi riposa ancora? Quali colori fanno già capolino tra le zolle? \nUna visita-gioco a tappe pensata per tutta la famiglia\, per osservare da vicino i primi segni del risveglio della natura e scoprire\, attraverso piccoli indizi e attività\, i tempi e i cicli della vita dell’Orto. \nPer info e prenotazioni: La Natura a colori | CoopCulture \nLe attività si svolgeranno all’aperto e in caso di maltempo verranno rinviate a una nuova data da definirsi.
URL:https://triestecultura.it/evento/la-natura-a-colori-visita-gioco-per-famiglie/
LOCATION:Orto Botanico\, via Marchesetti 2\, Trieste\, Trieste\, Trieste\, Italy
CATEGORIES:Attività per bambini
ATTACH;FMTTYPE=image/jpeg:https://triestecultura.it/wp-content/uploads/2026/03/Pasqua_Orto_Visita_Gioco.jpg
END:VEVENT
END:VCALENDAR