BEGIN:VCALENDAR
VERSION:2.0
PRODID:-//Trieste Cultura - ECPv6.15.20//NONSGML v1.0//EN
CALSCALE:GREGORIAN
METHOD:PUBLISH
X-ORIGINAL-URL:https://triestecultura.it
X-WR-CALDESC:Eventi per Trieste Cultura
REFRESH-INTERVAL;VALUE=DURATION:PT1H
X-Robots-Tag:noindex
X-PUBLISHED-TTL:PT1H
BEGIN:VTIMEZONE
TZID:Europe/Rome
BEGIN:DAYLIGHT
TZOFFSETFROM:+0100
TZOFFSETTO:+0200
TZNAME:CEST
DTSTART:20250330T010000
END:DAYLIGHT
BEGIN:STANDARD
TZOFFSETFROM:+0200
TZOFFSETTO:+0100
TZNAME:CET
DTSTART:20251026T010000
END:STANDARD
BEGIN:DAYLIGHT
TZOFFSETFROM:+0100
TZOFFSETTO:+0200
TZNAME:CEST
DTSTART:20260329T010000
END:DAYLIGHT
BEGIN:STANDARD
TZOFFSETFROM:+0200
TZOFFSETTO:+0100
TZNAME:CET
DTSTART:20261025T010000
END:STANDARD
BEGIN:DAYLIGHT
TZOFFSETFROM:+0100
TZOFFSETTO:+0200
TZNAME:CEST
DTSTART:20270328T010000
END:DAYLIGHT
BEGIN:STANDARD
TZOFFSETFROM:+0200
TZOFFSETTO:+0100
TZNAME:CET
DTSTART:20271031T010000
END:STANDARD
END:VTIMEZONE
BEGIN:VEVENT
DTSTART;TZID=Europe/Rome:20260228T180000
DTEND;TZID=Europe/Rome:20260228T180000
DTSTAMP:20260420T082348
CREATED:20260224T163930Z
LAST-MODIFIED:20260224T163930Z
UID:10005965-1772301600-1772301600@triestecultura.it
SUMMARY:Opera in salotto.... incontriamo Donizetti
DESCRIPTION:Un viaggio affascinante nella vita e nelle opere di uno dei più grandi protagonisti del melodramma ottocentesco\, il compositore Gaetano Donizetti: si presenta così lo spettacolo-concerto “Opera in salotto… Incontriamo Donizetti” che l’Accademia Lirica Santa Croce di Trieste propone sabato 28 febbraio\, alle ore 18.00\, alla Sala Luttazzi del Magazzino 26\, in Porto Vecchio – Porto Vivo\, a Trieste\, con il contributo del Consiglio regionale del Friuli Venezia Giulia. \nL’evento – a ingresso libero – è inserito nella rassegna “Una Luce sempre accesa”\, promossa e organizzata dal Comune di Trieste – Assessorato alle politiche della cultura e del turismo. \n  \n“Il concerto intreccia musica e narrazione” – afferma il direttore artistico dell’Accademia\, M° Alessando Svab\, che impersonerà Donizetti – “offrendo al pubblico non solo l’ascolto delle arie più celebri\, bensì anche uno sguardo intimo sull’uomo Donizetti: compositore instancabile\, legato alle proprie radici e artista capace di passare con naturalezza dal comico al tragico”. \nTra un’esecuzione e l’altra di brani tratti da L’Elisir d’Amore\, Don Pasquale\, Lucia di \nLammermoor\, Lucrezia Borgia e altri\, il pubblico sarà guidato da brevi interventi narrativi sulla sua vita: la formazione a Bergamo\, il successo nei grandi teatri fino agli ultimi anni segnati dalla malattia. L’atmosfera dello spettacolo sarà elegante e coinvolgente con le musiche affidate a cantanti e musicisti specializzati nel repertorio donizettiano\, capaci di emozionare gli appassionati d’opera e allo stesso tempo di avvicinare un pubblico più ampio. \n  \nProtagonisti \nAlessandro Svab che impersonerà Donizetti \nAurora Romano attrice nel ruolo dell’intervistatrice \nDelia Stabile Soprano \nMassimiliano Svab Basso \nFabio Zanin al pianoforte \nE la partecipazione del coro dell’Accademia Lirica Santa Croce di Trieste \n  \nAccademia Lirica Santa Croce di Trieste \nL’Accademia Lirica Santa Croce di Trieste è stata costituita nell’aprile 2009\, sotto la direzione artistica del M° Alessandro Svab\, in seguito al successo de ”Le Nozze di Figaro” messa in scena l’anno precedente nell’ambito del Festival del Mare patrocinato dall’Associazione Pro S. Croce. \nL’obiettivo primario che si propone è quello di contribuire alla crescita e alla formazione artistica di giovani cantanti lirici organizzando periodicamente delle masterclass dedicate allo studio della tecnica vocale e dell’interpretazione dando loro la possibilità di esibirsi in concerti e allestimenti di opere liriche nell’ambito di progetti transfrontalieri e internazionali. \n  \nI corsi diventano un’opportunità di crescita professionale e di confronto in un contesto multiculturale. Contemporaneamente inizia un’attività di divulgazione musicale in campo didattico collaborando con diverse realtà della Regione FVG e degli stati limitrofi\, promuovendo lo studio e la conoscenza del repertorio classico-lirico ad un pubblico sempre più vasto.
URL:https://triestecultura.it/evento/opera-in-salotto-incontriamo-donizetti/
LOCATION:Sala Lelio Luttazzi\, Magazzino 26 - Porto Vecchio\, Trieste\, TS\, 34135\, Italy
CATEGORIES:Concerto,Spettacolo
ATTACH;FMTTYPE=image/jpeg:https://triestecultura.it/wp-content/uploads/2026/02/Accademia-Lirica-Santa-Croce.jpg
END:VEVENT
END:VCALENDAR