BEGIN:VCALENDAR
VERSION:2.0
PRODID:-//Trieste Cultura - ECPv6.15.20//NONSGML v1.0//EN
CALSCALE:GREGORIAN
METHOD:PUBLISH
X-WR-CALNAME:Trieste Cultura
X-ORIGINAL-URL:https://triestecultura.it
X-WR-CALDESC:Eventi per Trieste Cultura
REFRESH-INTERVAL;VALUE=DURATION:PT1H
X-Robots-Tag:noindex
X-PUBLISHED-TTL:PT1H
BEGIN:VTIMEZONE
TZID:Europe/Rome
BEGIN:DAYLIGHT
TZOFFSETFROM:+0100
TZOFFSETTO:+0200
TZNAME:CEST
DTSTART:20250330T010000
END:DAYLIGHT
BEGIN:STANDARD
TZOFFSETFROM:+0200
TZOFFSETTO:+0100
TZNAME:CET
DTSTART:20251026T010000
END:STANDARD
BEGIN:DAYLIGHT
TZOFFSETFROM:+0100
TZOFFSETTO:+0200
TZNAME:CEST
DTSTART:20260329T010000
END:DAYLIGHT
BEGIN:STANDARD
TZOFFSETFROM:+0200
TZOFFSETTO:+0100
TZNAME:CET
DTSTART:20261025T010000
END:STANDARD
BEGIN:DAYLIGHT
TZOFFSETFROM:+0100
TZOFFSETTO:+0200
TZNAME:CEST
DTSTART:20270328T010000
END:DAYLIGHT
BEGIN:STANDARD
TZOFFSETFROM:+0200
TZOFFSETTO:+0100
TZNAME:CET
DTSTART:20271031T010000
END:STANDARD
END:VTIMEZONE
BEGIN:VEVENT
DTSTART;TZID=Europe/Rome:20260119T173000
DTEND;TZID=Europe/Rome:20260119T173000
DTSTAMP:20260424T180314
CREATED:20260115T085410Z
LAST-MODIFIED:20260115T090002Z
UID:10005861-1768843800-1768843800@triestecultura.it
SUMMARY:Laboratorio di lettura condivisa Paideia
DESCRIPTION:Prende avvio\, lunedì 19 gennaio alle ore 17.30\, presso la Sala Forum LETS (Piazza Hortis 4)\, un nuovo ciclo di incontri dedicati alla lettura. PAIDEIA è un laboratorio di lettura condivisa dedicato ai testi di saggistica\, pensato come spazio di ricerca\, confronto e formazione culturale. \nIl progetto\, coordinato da Mavis Toffoletto\, si propone di esplorare la lettura come pratica critica e collettiva\, capace di generare consapevolezza e nuove prospettive sul presente. Un nuovo tassello che arricchisce gli incontri di LETSread ed inaugura uno spazio di formazione permanente e partecipata\, in cui la lettura diventa strumento attivo di ricerca\, relazione e crescita culturale\, restituendo centralità al tempo dell’ascolto\, dell’approfondimento e del pensiero condiviso. \nIl nome del laboratorio si ispira al significato originario del termine greco Paideia: un concetto che\, a partire dall’educazione\, evolve in “formazione umana” fino a indicare la cultura nel suo senso più alto\, personale e profondo. In questa prospettiva\, la “paideia” non è un traguardo statico\, ma un processo continuo\, che accompagna l’essere umano lungo tutto l’arco della vita\, permettendogli di realizzarsi come soggetto autonomo\, consapevole e in armonia con il mondo. \nAll’interno di questo quadro teorico e culturale\, Paideia si configura come un laboratorio aperto\, non rivolto esclusivamente a chi opera nei campi dell’educazione o della cura\, ma a chiunque desideri mettersi in gioco attraverso la lettura\, la discussione e la condivisione delle proprie esperienze\, per pensare in modo nuovo e costruttivo la Paideia del nostro tempo. \nIl percorso sarà inoltre arricchito da incontri pubblici con esperti\, chiamati a dialogare con i testi affrontati e a integrare il dibattito emerso all’interno del laboratorio\, stimolando ulteriori riflessioni e connessioni interdisciplinari. \nL’incontro di lunedì sarà dedicato alla presentazione del progetto e all’organizzazione dei successivi appuntamenti che avranno cadenza mensile. \nIl progetto fa parte de “L’officina della lettura”\, promosso dal Comune di Trieste nell’ambito del Patto per la Lettura\, realizzato con il finanziamento del CEPELL – Centro per il Libro e la Lettura. \nInfo: mavis.toffoletto@comune.trieste.it | 3408530624\nfb ig letteraturatrieste\nfb bibliotecahortis
URL:https://triestecultura.it/evento/laboratorio-di-lettura-condivisa-paideia/
LOCATION:Museo LETS – Letteratura Trieste\, Piazza Hortis\, 4\, Trieste\, Italy
CATEGORIES:Evento
ATTACH;FMTTYPE=image/jpeg:https://triestecultura.it/wp-content/uploads/2026/01/gruppo-di-lettura.jpg
END:VEVENT
BEGIN:VEVENT
DTSTART;TZID=Europe/Rome:20260119T173000
DTEND;TZID=Europe/Rome:20260119T173000
DTSTAMP:20260424T180314
CREATED:20260115T090655Z
LAST-MODIFIED:20260115T090655Z
UID:10005862-1768843800-1768843800@triestecultura.it
SUMMARY:Giuseppe Tartini. Il genio dell'arco
DESCRIPTION:È dedicata a “Giuseppe Tartini\, genio dell’arco” la conversazione di Mirko Schipilliti e Ivano Cavallini in calendario lunedì 19 gennaio 2026\, alle ore 17.30\, alla Sala Bazlen di Palazzo Gopcevich (Via Rossini 4)\, per il cartellone dei «Lunedì dello Schmidl»\, il ciclo di incontri e approfondimenti a cura di Stefano Bianchi che il Museo Teatrale da vent’anni offre al pubblico dei cultori della musica e del teatro. \nLa conversazione prende a prestito il titolo dell’ultimo libro di Mirko Schipilliti\, recentemente pubblicato da Zecchini Editore\, con il sostegno del Comune di Pirano\, della Comunità degli Italiani di Pirano\, della Comunità autogestita della nazionalità italiana di Pirano e con la collaborazione del Comune di Padova e degli Amici della Musica di Padova. \nNel Settecento Tartini è stato il più importante violinista e uno dei più affermati musicisti\, appassionato studioso\, didatta di fama internazionale\, scopritore del “terzo suono”. \nConsiderato «uno dei più celebri violinisti» (Leopold Mozart)\, “il maggiore compositore di questi tempi” (Eulero)\, “Maestro delle nazioni” (Lalande)\, è da sempre stato circondato da approssimazioni\, mito e leggenda\, con una vita che nasconde ancora aspetti misteriosi o poco indagati. Negli ultimi decenni le numerose ricerche concentrate in testi di non facile reperimento e in analisi sparse\, hanno tuttavia collezionato notizie frammentarie\, focalizzandosi su aspetti isolati del musicista. \nAttraverso un’analisi comparata delle fonti\, dei documenti e degli studi fino ad ora compiuti\, in relazione al contesto storico-culturale e con nuove evidenze e deduzioni\, Mirko Schipilliti offre un quadro organico su una tra le più complesse\, audaci\, affascinanti ed enigmatiche personalità musicali di tutto il XVIII secolo\, ripercorrendo una ricostruzione fedele e lineare del percorso biografico del violinista e della sua produzione musicale. \n“Un lavoro enorme – precisa Schipilliti – che dalla nascita alla morte di Tartini ne analizza le relazioni con la storia contemporanea e la storia della musica\, le composizioni e i trattati”\, restituendoci l’immagine di un compositore geniale che visse al di fuori dell’ordinario\, massima espressione del suo tempo e precursore del Classicismo in una dimensione europea. \nMirko Schipilliti si è laureato in direzione d’orchestra e in pianoforte col massimo dei voti e lode presso il Conservatorio B. Marcello di Venezia\, dove ha inoltre seguito gli studi in composizione. Perfezionatosi in direzione d’orchestra con Giancarlo Andretta e Isaac Karabtchevsky\, ha ottenuto master e diplomi di alto perfezionamento sotto la guida di Neeme Jarvi\, Jorma Panula\, Kurt Masur\, Jesus Lopez-Cobos e ha frequentato i seminari di Riccardo Muti e Gustav Kuhn. Ha diretto numerose orchestre in Italia e all’estero e ha suonato in formazioni cameristiche. \nCritico musicale per “Musica” e per la rivista francese “Opéra Magazine”\, membro dell’Associazione Nazionale Critici Musicali\, ha collaborato dal 1999 per i quotidiani “Il Mattino di Padova”\, “La Nuova Venezia”\, “La Tribuna di Treviso”. Appassionato studioso\, si dedica a saggi musicologici per i programmi di sala di importanti istituzioni. Nel 2015 ha pubblicato il saggio “Zanetto. Mascagni tra verismo e stile liberty” (ed. La Caravella). Dirigente medico di Pronto Soccorso\, si è laureato in Medicina e Chirurgia e specializzato in Medicina interna presso l’Università di Padova. \nIvano Cavallini\, già professore di Storia della musica al Conservatorio di Trieste e di Musicologia all’università di Palermo\, è membro dei comitati scientifici dei periodici “Recercare” (Roma)\, “Arti Musices” (Zagabria)\, “De Musica Disserenda” (Lubiana). \nNel 1998 ha vinto il premio “Città di Iglesias” con il libro “Il direttore d’orchestra: genesi e storia di un’arte”. Dal 2002 al 2007 è stato membro del comitato scientifico della Fondazione Levi di Venezia. Nel 2012 ha ricevuto la nomina di membro onorario per meriti scientifici dalla Società Croata di Musicologia. Nel 2020\, con la plaquette “Fango pannonico: un paradigma populista per Miroslav Krleža” (EUT)\, ha ricevuto il premio Experimenta Saggistica d’Arte e nel 2025 ha ricevuto la nomina di socio “ad honorem” dell’Accademia Filarmonica di Bologna. Si occupa di storiografia della musica e dei rapporti tra la musica italiana e i paesi dell’Europa Centro-orientale nella prima età moderna. \nL’ingresso alla manifestazione è libero fino ad esaurimento di posti disponibili.
URL:https://triestecultura.it/evento/giuseppe-tartini-il-genio-dellarco/
LOCATION:Sala Bobi Bazlen\, Via Gioachino Rossini\, 4\, Trieste\, Trieste\, Italy
CATEGORIES:Conferenza,Evento
ATTACH;FMTTYPE=image/jpeg:https://triestecultura.it/wp-content/uploads/2026/01/Tartini_Fanzago-1_jENtAQc.jpg
END:VEVENT
END:VCALENDAR