BEGIN:VCALENDAR
VERSION:2.0
PRODID:-//Trieste Cultura - ECPv6.15.20//NONSGML v1.0//EN
CALSCALE:GREGORIAN
METHOD:PUBLISH
X-ORIGINAL-URL:https://triestecultura.it
X-WR-CALDESC:Eventi per Trieste Cultura
REFRESH-INTERVAL;VALUE=DURATION:PT1H
X-Robots-Tag:noindex
X-PUBLISHED-TTL:PT1H
BEGIN:VTIMEZONE
TZID:Europe/Rome
BEGIN:DAYLIGHT
TZOFFSETFROM:+0100
TZOFFSETTO:+0200
TZNAME:CEST
DTSTART:20250330T010000
END:DAYLIGHT
BEGIN:STANDARD
TZOFFSETFROM:+0200
TZOFFSETTO:+0100
TZNAME:CET
DTSTART:20251026T010000
END:STANDARD
BEGIN:DAYLIGHT
TZOFFSETFROM:+0100
TZOFFSETTO:+0200
TZNAME:CEST
DTSTART:20260329T010000
END:DAYLIGHT
BEGIN:STANDARD
TZOFFSETFROM:+0200
TZOFFSETTO:+0100
TZNAME:CET
DTSTART:20261025T010000
END:STANDARD
BEGIN:DAYLIGHT
TZOFFSETFROM:+0100
TZOFFSETTO:+0200
TZNAME:CEST
DTSTART:20270328T010000
END:DAYLIGHT
BEGIN:STANDARD
TZOFFSETFROM:+0200
TZOFFSETTO:+0100
TZNAME:CET
DTSTART:20271031T010000
END:STANDARD
END:VTIMEZONE
BEGIN:VEVENT
DTSTART;TZID=Europe/Rome:20260307T110000
DTEND;TZID=Europe/Rome:20260307T110000
DTSTAMP:20260424T143251
CREATED:20260225T135537Z
LAST-MODIFIED:20260225T135606Z
UID:10005968-1772881200-1772881200@triestecultura.it
SUMMARY:Visita guidata "Casanova in viaggio. L’approdo a Trieste"
DESCRIPTION:Sabato 7 marzo il Museo Petrarchesco Piccolomineo propone due eventi dedicati alla Giornata Internazionale della Donna\, con un programma che intreccia valorizzazione del patrimonio culturale e riflessione sul ruolo delle donne nella storia della conoscenza. \nLa giornata si aprirà alle ore 11.00 con una visita guidata alla mostra “Casanova in viaggio. L’approdo a Trieste”\, a cura della curatrice Alessandra Sirugo. L’incontro\, ad ingresso libero\, offrirà al pubblico l’opportunità di approfondire il percorso espositivo attraverso il racconto e la guida della curatrice. \nL’appuntamento è inserito nel calendario delle iniziative promosse dal Comune di Trieste per le celebrazioni della Giornata internazionale della donna. \nPer informazioni\n+39 040 675 8184\nmuseopetrarchesco@comune.trieste.it\nfb @museopetrarchesco
URL:https://triestecultura.it/evento/visita-guidata-casanova-in-viaggio-lapprodo-a-trieste/
LOCATION:Museo Petrarchesco Piccolomineo\, via Madonna del Mare 13\, Trieste\, Italy
CATEGORIES:Visita guidata
ATTACH;FMTTYPE=image/png:https://triestecultura.it/wp-content/uploads/2026/02/SIRUGO-SITO.png
END:VEVENT
BEGIN:VEVENT
DTSTART;TZID=Europe/Rome:20260307T150000
DTEND;TZID=Europe/Rome:20260307T160000
DTSTAMP:20260424T143251
CREATED:20260127T103716Z
LAST-MODIFIED:20260224T083906Z
UID:10005880-1772895600-1772899200@triestecultura.it
SUMMARY:Risiera di San Sabba: visite guidate a partenza fissa
DESCRIPTION:Da sabato 31 gennaio a domenica 3 maggio i sabati e le domeniche si terranno delle visite guidate della Risiera di San Sabba a partenza fissa in lingua italiana e in lingua slovena. \nI visitatori saranno accompagnati in un percorso storico e narrativo all’interno degli spazi del Monumento Nazionale. La guida fornirà strumenti di approfondimento per comprendere il valore del luogo e il suo significato nella storia del Novecento\, favorendo un’esperienza di conoscenza\, riflessione e memoria. \nVisite guidate in lingua italiana \nLe visite si svolgono con cadenza settimanale: \n\nSabato alle ore 15.30\nDomenica alle ore 11.00\n\nVisite guidate in lingua slovena\nSono previste visite guidate mensili nelle seguenti date: \n\n1 febbraio alle ore 11.30\n1 marzo alle ore 11.30\n4 aprile alle ore 15.00\n3 maggio alle ore 11.30\n\nDate speciali\n\n1 maggio alle ore 11.00 – visita guidata in lingua italiana\n6 aprile alle ore 11.00 – visita guidata in lingua italiana\, in sostituzione dell’appuntamento di domenica 5 aprile (Pasqua)\n\nPer informazioni e prenotazioni: \nTel: 040 9892032 (lun-ven 9-18\, sab 9-13)\nMail: museicivici.trieste@coopculture.it\nL’iniziativa è organizzata dal Comune di Trieste – Museo della Risiera di San Sabba – Monumento Nazionale e da CoopCulture.
URL:https://triestecultura.it/evento/risiera-di-san-sabba-visite-guidate-a-partenza-fissa/2026-03-07/
LOCATION:Risiera di San Sabba – Monumento Nazionale\, via Giovanni Palatucci\, 5\, Trieste\, Trieste\, Italy
CATEGORIES:Visita guidata
ATTACH;FMTTYPE=image/jpeg:https://triestecultura.it/wp-content/uploads/2026/01/006-3202_websize.jpg
END:VEVENT
BEGIN:VEVENT
DTSTART;TZID=Europe/Rome:20260307T180000
DTEND;TZID=Europe/Rome:20260307T180000
DTSTAMP:20260424T143251
CREATED:20260305T115953Z
LAST-MODIFIED:20260305T115953Z
UID:10005984-1772906400-1772906400@triestecultura.it
SUMMARY:Visite guidate alla mostra  "Francesca Pozzobon. Un infinito intrattenimento"
DESCRIPTION:Sabato 7 e domenica 8 marzo sono gli ultimi giorni per visitare alla Sala Veruda di Palazzo\nCostanzi di Trieste (piazza Piccola 2) la mostra antologica della pittrice veneta Francesca\nPozzobon intitolata “Un infinito intrattenimento”. \nSabato alle 18 e domenica alle 11 e alle 18 avranno luogo delle visite guidate alla rassegna che\,\npromossa e organizzata dall’Associazione Pic Knit Art Cafè aps e curata da Marianna\nAccerboni\, ha riscontrato finora un ampio successo di pubblico e di critica.\nIn mostra una sessantina di opere tra dipinti\, sculture e oggetti realizzati fra il 1967 e gli anni Duemila\ndall’artista\, restauratrice e antiquaria veneta\, formatasi all’Istituto Statale d’arte di Venezia e\nscomparsa nel 2023 a Montebelluna\, dov’era nata nel 1950. Il focus dell’esposizione è incentrato\nsul personaggio di Taormino\, il bambino mai nato\, che Pozzobon non fu in grado di avere e che è\npresente in mostra attraverso una sequenza di ritratti ideali caratterizzati da una palette di morbidi\nazzurri\, che tracciano da subito l’inclinazione onirica di alcuni cicli della pittura di Francesca\, che\nattraverso l’arte riuscì a superare il dolore per la mancata maternità. \nInfo e visite guidate: +39 346 949 8841
URL:https://triestecultura.it/evento/visite-guidate-alla-mostra-francesca-pozzobon-un-infinito-intrattenimento/2026-03-07/
LOCATION:Sala Umberto Veruda\, Piazza Piccola\, 2\, Trieste\, Trieste\, Italy
CATEGORIES:Visita guidata
ATTACH;FMTTYPE=image/jpeg:https://triestecultura.it/wp-content/uploads/2026/03/Giostra-con-cavalli-neri-anni-2000-tecnica-mista-cm-50x40-1.jpg
END:VEVENT
END:VCALENDAR