BEGIN:VCALENDAR
VERSION:2.0
PRODID:-//Trieste Cultura - ECPv6.15.20//NONSGML v1.0//EN
CALSCALE:GREGORIAN
METHOD:PUBLISH
X-WR-CALNAME:Trieste Cultura
X-ORIGINAL-URL:https://triestecultura.it
X-WR-CALDESC:Eventi per Trieste Cultura
REFRESH-INTERVAL;VALUE=DURATION:PT1H
X-Robots-Tag:noindex
X-PUBLISHED-TTL:PT1H
BEGIN:VTIMEZONE
TZID:Europe/Rome
BEGIN:DAYLIGHT
TZOFFSETFROM:+0100
TZOFFSETTO:+0200
TZNAME:CEST
DTSTART:20250330T010000
END:DAYLIGHT
BEGIN:STANDARD
TZOFFSETFROM:+0200
TZOFFSETTO:+0100
TZNAME:CET
DTSTART:20251026T010000
END:STANDARD
BEGIN:DAYLIGHT
TZOFFSETFROM:+0100
TZOFFSETTO:+0200
TZNAME:CEST
DTSTART:20260329T010000
END:DAYLIGHT
BEGIN:STANDARD
TZOFFSETFROM:+0200
TZOFFSETTO:+0100
TZNAME:CET
DTSTART:20261025T010000
END:STANDARD
BEGIN:DAYLIGHT
TZOFFSETFROM:+0100
TZOFFSETTO:+0200
TZNAME:CEST
DTSTART:20270328T010000
END:DAYLIGHT
BEGIN:STANDARD
TZOFFSETFROM:+0200
TZOFFSETTO:+0100
TZNAME:CET
DTSTART:20271031T010000
END:STANDARD
END:VTIMEZONE
BEGIN:VEVENT
DTSTART;TZID=Europe/Rome:20260308T103000
DTEND;TZID=Europe/Rome:20260308T103000
DTSTAMP:20260424T125815
CREATED:20260304T114332Z
LAST-MODIFIED:20260309T082458Z
UID:10005979-1772965800-1772965800@triestecultura.it
SUMMARY:Le donne della Grande Guerra
DESCRIPTION:A cura di Antonella Cosenzi \nIn un Museo fortemente incentrato sul mondo maschile\, quello del soldato e delle macchine di distruzione usate in guerra\, la visita invita a riflettere sul ruolo centrale della figura femminile che\, durante il Primo conflitto\, venne chiamata a sostituire l’uomo nel mondo del lavoro senza tralasciare – da sola – l’educazione dei figli e la gestione dell’economia familiare. \nPosti limitati. Prenotazioni: museodehenriquez@comune.trieste.it \nIn occasione della “Giornata Internazionale della Donna”\, domenica 8 marzo\, i Musei del Comune di Trieste rendono omaggio a tutte le donne\, ragazze e bambine riservando loro la possibilità di visitare le sedi museali gratuitamente. Anche quest’anno l’iniziativa si arricchisce di un calendario di eventi a tema intitolato “8 MARZO AL MUSEO. RACCONTI DI STORIA\, ARTE E SCIENZA AL FEMMINILE”. \nLe visite guidate\, curate interamente dal personale culturale dei Musei\, esperto delle collezioni\, propongono un programma di attività dedicato alla figura femminile e al ruolo della donna nei diversi ambiti della cultura.\nLa partecipazione alle visite guidate è gratuita per tutti.
URL:https://triestecultura.it/evento/le-donne-della-grande-guerra-2/
LOCATION:Museo della Guerra per la Pace Diego de Henriquez\, Via Cumano\, 22\, Trieste\, Italy
CATEGORIES:Visita guidata
ATTACH;FMTTYPE=image/jpeg:https://triestecultura.it/wp-content/uploads/2026/03/Mimosa1.jpg
END:VEVENT
BEGIN:VEVENT
DTSTART;TZID=Europe/Rome:20260308T110000
DTEND;TZID=Europe/Rome:20260308T110000
DTSTAMP:20260424T125815
CREATED:20260304T114554Z
LAST-MODIFIED:20260304T153610Z
UID:10005980-1772967600-1772967600@triestecultura.it
SUMMARY:La piazza è donna. Scatti di storia e storie
DESCRIPTION:A cura di Claudia Colecchia \nLa piazza è donna. Scatti di storia e storie.\nLa piazza è donna: vive\, lavora\, ama e racconta. È spazio di relazioni\, di fatica quotidiana e di sogni condivisi. Un percorso tra fotografie e racconti che rende omaggio alla presenza femminile nella piazza\, protagonista silenziosa e potente della vita urbana\, della memoria collettiva e della storia.\nPrenotazione non necessaria. \nIn occasione della “Giornata Internazionale della Donna”\, domenica 8 marzo\, i Musei del Comune di Trieste rendono omaggio a tutte le donne\, ragazze e bambine riservando loro la possibilità di visitare le sedi museali gratuitamente. Anche quest’anno l’iniziativa si arricchisce di un calendario di eventi a tema intitolato “8 MARZO AL MUSEO. RACCONTI DI STORIA\, ARTE E SCIENZA AL FEMMINILE”. \nLe visite guidate\, curate interamente dal personale culturale dei Musei\, esperto delle collezioni\, propongono un programma di attività dedicato alla figura femminile e al ruolo della donna nei diversi ambiti della cultura.\nLa partecipazione alle visite guidate è gratuita per tutti.
URL:https://triestecultura.it/evento/la-piazza-e-donna/
CATEGORIES:Visita guidata
ATTACH;FMTTYPE=image/jpeg:https://triestecultura.it/wp-content/uploads/2026/03/Mimosa1.jpg
END:VEVENT
BEGIN:VEVENT
DTSTART;TZID=Europe/Rome:20260308T110000
DTEND;TZID=Europe/Rome:20260308T110000
DTSTAMP:20260424T125815
CREATED:20260304T114936Z
LAST-MODIFIED:20260304T115012Z
UID:10005981-1772967600-1772967600@triestecultura.it
SUMMARY:Artisti\, artiste e il Ritratto femminile in dieci opere del Museo Revoltella\, tra ‘800 e ‘900
DESCRIPTION:A cura di Susanna Gregorat \nUn percorso d’arte in dieci tappe incentrato sul genere del “ritratto femminile” dipinto e scolpito da artiste ed artisti locali (Giuseppe Tominz\, Leonor Fini\, Marcello Mascherini ed altri ancora) e nazionali (Giuseppe De Nittis\, Bruno Saetti)\, dal pianterreno di Palazzo Revoltella al sesto piano della Galleria d’arte moderna\, in un arco temporale compreso tra il 1830 e il 1968.\nPosti limitati. Prenotazioni: susanna.gregorat@comune.trieste.it \nIn occasione della “Giornata Internazionale della Donna”\, domenica 8 marzo\, i Musei del Comune di Trieste rendono omaggio a tutte le donne\, ragazze e bambine riservando loro la possibilità di visitare le sedi museali gratuitamente. Anche quest’anno l’iniziativa si arricchisce di un calendario di eventi a tema intitolato “8 MARZO AL MUSEO. RACCONTI DI STORIA\, ARTE E SCIENZA AL FEMMINILE”. \nLe visite guidate\, curate interamente dal personale culturale dei Musei\, esperto delle collezioni\, propongono un programma di attività dedicato alla figura femminile e al ruolo della donna nei diversi ambiti della cultura.\nLa partecipazione alle visite guidate è gratuita per tutti.
URL:https://triestecultura.it/evento/artisti-artiste-e-il-ritratto-femminile-in-dieci-opere-del-museo-revoltella-tra-800-e-900/
LOCATION:Museo Revoltella – Galleria d’Arte Moderna\, Via A. Diaz\, 27\, Trieste\, Trieste\, Italy
CATEGORIES:Visita guidata
ATTACH;FMTTYPE=image/jpeg:https://triestecultura.it/wp-content/uploads/2026/03/Mimosa1.jpg
END:VEVENT
BEGIN:VEVENT
DTSTART;TZID=Europe/Rome:20260308T110000
DTEND;TZID=Europe/Rome:20260308T110000
DTSTAMP:20260424T125815
CREATED:20260305T115953Z
LAST-MODIFIED:20260305T115953Z
UID:10005985-1772967600-1772967600@triestecultura.it
SUMMARY:Visite guidate alla mostra  "Francesca Pozzobon. Un infinito intrattenimento"
DESCRIPTION:Sabato 7 e domenica 8 marzo sono gli ultimi giorni per visitare alla Sala Veruda di Palazzo\nCostanzi di Trieste (piazza Piccola 2) la mostra antologica della pittrice veneta Francesca\nPozzobon intitolata “Un infinito intrattenimento”. \nSabato alle 18 e domenica alle 11 e alle 18 avranno luogo delle visite guidate alla rassegna che\,\npromossa e organizzata dall’Associazione Pic Knit Art Cafè aps e curata da Marianna\nAccerboni\, ha riscontrato finora un ampio successo di pubblico e di critica.\nIn mostra una sessantina di opere tra dipinti\, sculture e oggetti realizzati fra il 1967 e gli anni Duemila\ndall’artista\, restauratrice e antiquaria veneta\, formatasi all’Istituto Statale d’arte di Venezia e\nscomparsa nel 2023 a Montebelluna\, dov’era nata nel 1950. Il focus dell’esposizione è incentrato\nsul personaggio di Taormino\, il bambino mai nato\, che Pozzobon non fu in grado di avere e che è\npresente in mostra attraverso una sequenza di ritratti ideali caratterizzati da una palette di morbidi\nazzurri\, che tracciano da subito l’inclinazione onirica di alcuni cicli della pittura di Francesca\, che\nattraverso l’arte riuscì a superare il dolore per la mancata maternità. \nInfo e visite guidate: +39 346 949 8841
URL:https://triestecultura.it/evento/visite-guidate-alla-mostra-francesca-pozzobon-un-infinito-intrattenimento/2026-03-08/
LOCATION:Sala Umberto Veruda\, Piazza Piccola\, 2\, Trieste\, Trieste\, Italy
CATEGORIES:Visita guidata
ATTACH;FMTTYPE=image/jpeg:https://triestecultura.it/wp-content/uploads/2026/03/Giostra-con-cavalli-neri-anni-2000-tecnica-mista-cm-50x40-1.jpg
END:VEVENT
BEGIN:VEVENT
DTSTART;TZID=Europe/Rome:20260308T110000
DTEND;TZID=Europe/Rome:20260308T120000
DTSTAMP:20260424T125815
CREATED:20260127T103813Z
LAST-MODIFIED:20260127T104053Z
UID:10005894-1772967600-1772971200@triestecultura.it
SUMMARY:Risiera di San Sabba: visite guidate a partenza fissa
DESCRIPTION:Da sabato 31 gennaio a domenica 3 maggio i sabati e le domeniche si terranno delle visite guidate della Risiera di San Sabba a partenza fissa in lingua italiana e in lingua slovena. \nI visitatori saranno accompagnati in un percorso storico e narrativo all’interno degli spazi del Monumento Nazionale. La guida fornirà strumenti di approfondimento per comprendere il valore del luogo e il suo significato nella storia del Novecento\, favorendo un’esperienza di conoscenza\, riflessione e memoria. \nVisite guidate in lingua italiana \nLe visite si svolgono con cadenza settimanale: \n\nSabato alle ore 15.30\nDomenica alle ore 11.00\n\nVisite guidate in lingua slovena\nSono previste visite guidate mensili nelle seguenti date: \n\n1 febbraio alle ore 11.30\n1 marzo alle ore 11.30\n4 aprile alle ore 15.00\n3 maggio alle ore 11.30\n\nDate speciali\n\n1 maggio alle ore 11.00 – visita guidata in lingua italiana\n6 aprile alle ore 11.00 – visita guidata in lingua italiana\, in sostituzione dell’appuntamento di domenica 5 aprile (Pasqua)\n\nIl costo della visita è di 7 Euro a partecipante. \nPer informazioni e prenotazioni:  \nhttps://www.coopculture.it/it/prodotti/risiera-di-san-sabba-visita-guidata-al-monumento-nazionale/ \nTel: 040 9892032 (lun-ven 9-18\, sab 9-13) \nMail: museicivici.trieste@coopculture.it \nL’iniziativa è organizzata dal Comune di Trieste – Museo della Risiera di San Sabba – Monumento Nazionale e da CoopCulture.
URL:https://triestecultura.it/evento/risiera-di-san-sabba-visite-guidate-a-partenza-fissa-2/2026-03-08/
LOCATION:Risiera di San Sabba – Monumento Nazionale\, via Giovanni Palatucci\, 5\, Trieste\, Trieste\, Italy
CATEGORIES:Visita guidata
ATTACH;FMTTYPE=image/jpeg:https://triestecultura.it/wp-content/uploads/2026/01/006-3202_websize.jpg
END:VEVENT
BEGIN:VEVENT
DTSTART;TZID=Europe/Rome:20260308T113000
DTEND;TZID=Europe/Rome:20260308T113000
DTSTAMP:20260424T125815
CREATED:20260304T115144Z
LAST-MODIFIED:20260304T115144Z
UID:10005982-1772969400-1772969400@triestecultura.it
SUMMARY:Ma è vero che pungono solo le femmine? I ruoli fra i sessi nel mondo animale
DESCRIPTION:A cura di Nicola Bressi \nIn alcuni animali la differenza tra i sessi è minima\, sia a livello fisico che comportamentale. Tanto che facciamo fatica a distinguerne in sesso\, come ad esempio nei pettirossi o nei gabbiani. Altri animali hanno invece colori\, forme e dimensioni molto diversi tra maschio e femmina.\nA volte addirittura comportamento\, habitat e alimentazione. Perché? Dove sta il vantaggio in tale diversificazione dei ruoli tra maschio e femmina? E perché non tutte le specie la adottano?\nLo scopriremo in una speciale visita guidata alla scoperta delle differenze fra i sessi. \nPrenotazione non necessaria. \nIn occasione della “Giornata Internazionale della Donna”\, domenica 8 marzo\, i Musei del Comune di Trieste rendono omaggio a tutte le donne\, ragazze e bambine riservando loro la possibilità di visitare le sedi museali gratuitamente. Anche quest’anno l’iniziativa si arricchisce di un calendario di eventi a tema intitolato “8 MARZO AL MUSEO. RACCONTI DI STORIA\, ARTE E SCIENZA AL FEMMINILE”. \nLe visite guidate\, curate interamente dal personale culturale dei Musei\, esperto delle collezioni\, propongono un programma di attività dedicato alla figura femminile e al ruolo della donna nei diversi ambiti della cultura.\nLa partecipazione alle visite guidate è gratuita per tutti.
URL:https://triestecultura.it/evento/ma-e-vero-che-pungono-solo-le-femmine-i-ruoli-fra-i-sessi-nel-mondo-animale/
LOCATION:Museo di Storia Naturale
CATEGORIES:Visita guidata
ATTACH;FMTTYPE=image/jpeg:https://triestecultura.it/wp-content/uploads/2026/03/Mimosa1.jpg
END:VEVENT
END:VCALENDAR