BEGIN:VCALENDAR
VERSION:2.0
PRODID:-//Trieste Cultura - ECPv6.15.20//NONSGML v1.0//EN
CALSCALE:GREGORIAN
METHOD:PUBLISH
X-WR-CALNAME:Trieste Cultura
X-ORIGINAL-URL:https://triestecultura.it
X-WR-CALDESC:Eventi per Trieste Cultura
REFRESH-INTERVAL;VALUE=DURATION:PT1H
X-Robots-Tag:noindex
X-PUBLISHED-TTL:PT1H
BEGIN:VTIMEZONE
TZID:Europe/Rome
BEGIN:DAYLIGHT
TZOFFSETFROM:+0100
TZOFFSETTO:+0200
TZNAME:CEST
DTSTART:20250330T010000
END:DAYLIGHT
BEGIN:STANDARD
TZOFFSETFROM:+0200
TZOFFSETTO:+0100
TZNAME:CET
DTSTART:20251026T010000
END:STANDARD
BEGIN:DAYLIGHT
TZOFFSETFROM:+0100
TZOFFSETTO:+0200
TZNAME:CEST
DTSTART:20260329T010000
END:DAYLIGHT
BEGIN:STANDARD
TZOFFSETFROM:+0200
TZOFFSETTO:+0100
TZNAME:CET
DTSTART:20261025T010000
END:STANDARD
BEGIN:DAYLIGHT
TZOFFSETFROM:+0100
TZOFFSETTO:+0200
TZNAME:CEST
DTSTART:20270328T010000
END:DAYLIGHT
BEGIN:STANDARD
TZOFFSETFROM:+0200
TZOFFSETTO:+0100
TZNAME:CET
DTSTART:20271031T010000
END:STANDARD
END:VTIMEZONE
BEGIN:VEVENT
DTSTART;VALUE=DATE:20260318
DTEND;VALUE=DATE:20260319
DTSTAMP:20260423T184757
CREATED:20260313T145132Z
LAST-MODIFIED:20260313T145132Z
UID:10006001-1773792000-1773878399@triestecultura.it
SUMMARY:Visita guidata alla mostra “La Fototeca in piazza. Scatti di storia e storie
DESCRIPTION:Nell’ambito delle iniziative collaterali alla mostra “La Fototeca in piazza. Scatti di storia e storie”\, allestita presso la Sala Selva di Palazzo Gopcevich\, mercoledì 18 marzo\, si terrà una speciale visita IN & OUT\, articolata in due momenti distinti e complementari\, fruibili anche singolarmente. \nIl primo appuntamento IN\, si svolgerà alle ore 17 negli spazi della mostra e consiste in una visita guidata gratuita condotta dalla curatrice Claudia Colecchia. Attraverso una selezione di immagini provenienti dalla Fototeca\, il pubblico sarà accompagnato alla scoperta delle trasformazioni di Piazza Unità d’Italia\, dalle prime testimonianze fotografiche ottocentesche fino all’età contemporanea. \nLe fotografie\, oltre a rappresentare importanti documenti storici\, diventano veri e propri racconti visivi capaci di restituire l’evoluzione architettonica\, sociale e simbolica della piazza: luogo di rappresentanza e di incontro\, teatro di eventi pubblici e spazio vissuto quotidianamente dai cittadini. La visita offrirà anche l’occasione per riflettere sul valore della fotografia nella costruzione della memoria collettiva e sul ruolo degli archivi nella conservazione e trasmissione della storia della città. \nAlle ore 18:15\, con partenza da Palazzo Gopcevich\, avrà inizio la seconda parte della proposta\, OUT: una passeggiata guidata all’aperto condotta da Francesca Pitacco per l’Associazione culturale Cizerouno\, intitolata “Piazza Unità prima della fotografia”. Il percorso invita i partecipanti a compiere un salto indietro nel tempo\, alla scoperta della piazza prima dell’avvento del mezzo fotografico. Attraverso fonti storiche\, documenti d’archivio e narrazione sul campo\, verranno ricostruiti l’aspetto originario\, le funzioni e le progressive trasformazioni dello spazio urbano. \nCamminando nello spazio urbano\, lo sguardo dei partecipanti si confronterà idealmente con le immagini osservate in mostra\, creando un dialogo tra ciò che la fotografia ha fissato nel tempo e ciò che la storia restituisce attraverso altre testimonianze. \nLe Visite IN & OUT offrono un’esperienza completa e integrata:\ndall’immagine fotografica come documento e racconto visivo\, all’esperienza diretta dello spazio urbano\, in un dialogo tra passato e presente che arricchisce la comprensione di Piazza Unità d’Italia e della sua storia. \nLe due parti possono essere fruite anche singolarmente\, ma insieme compongono un itinerario culturale capace di unire archivio\, racconto e cammino urbano in un’unica esperienza di scoperta. \nInformazioni pratiche\n– Visita IN con Claudia Colecchia: durata 1 ora\, gratuita\, senza prenotazione\n– Visita OUT con Francesca Pitacco (Cizerouno): durata 1 ora\, prenotazione obbligatoria a info@cizerouno.it\, costo 10 €\n– Le due parti possono essere fruite anche singolarmente \nLa mostra “La Fototeca in piazza. Scatti di storia e storie” rimarrà aperta fino al 6 aprile 2026\, con i seguenti orari: a mercoledì a domenica\, dalle 10.00 alle 17.00; lunedì e martedì chiuso. Ingresso libero. \n  \nInfo\nfototeca.trieste.it \ncmsafototeca@comune.trieste.it\ntel. 040 6754039 \nPer la prenotazione della visita OUT curata da Francesca Pitacco \neventi@cizerouno.it
URL:https://triestecultura.it/evento/visita-guidata-alla-mostra-la-fototeca-in-piazza-scatti-di-storia-e-storie-2/
CATEGORIES:Visita guidata
ATTACH;FMTTYPE=image/jpeg:https://triestecultura.it/wp-content/uploads/2026/03/F024686_R-1.jpg
END:VEVENT
BEGIN:VEVENT
DTSTART;TZID=Europe/Rome:20260318T093000
DTEND;TZID=Europe/Rome:20260318T093000
DTSTAMP:20260423T184757
CREATED:20260224T152604Z
LAST-MODIFIED:20260417T145555Z
UID:10005959-1773826200-1773826200@triestecultura.it
SUMMARY:Visite guidate Sottostazione Elettrica e Centrale Idrodinamica
DESCRIPTION:Nell’ambito della convenzione tra il Comune di Trieste e Italia Nostra Aps per lo svolgimento di attività di volontariato per la valorizzazione del Porto Vecchio di Trieste e del relativo patrimonio culturale\, la Sezione di Trieste di Italia Nostra offre la possibilità di effettuare visite guidate gratuite (durata di circa 1 ora e mezza) alla\nSottostazione Elettrica e alla Centrale Idrodinamica\, con ritrovo davanti alla Sottostazione Elettrica sita in Viale Miramare 24/4. \nItalia Nostra è inoltre disponibile ad effettuare visite guidate per gruppi\, in date e orari da concordare\, da prenotare con le medesime modalità. \nVisite guidate gratuite con prenotazione obbligatoria almeno 5 giorni prima della visita scrivendo a\ntrieste@italianostra.org
URL:https://triestecultura.it/evento/visite-guidate-sottostazione-elettrica-e-centrale-idrodinamica-4/2026-03-18/
LOCATION:Centrale Idrodinamica\, P. Franco Vecchio\, 1\, Trieste\, Trieste\, Italy
CATEGORIES:Visita guidata
ATTACH;FMTTYPE=image/jpeg:https://triestecultura.it/wp-content/uploads/archivio/luoghi/centraleidrodinamica.jpg
END:VEVENT
END:VCALENDAR