BEGIN:VCALENDAR
VERSION:2.0
PRODID:-//Trieste Cultura - ECPv6.15.20//NONSGML v1.0//EN
CALSCALE:GREGORIAN
METHOD:PUBLISH
X-WR-CALNAME:Trieste Cultura
X-ORIGINAL-URL:https://triestecultura.it
X-WR-CALDESC:Eventi per Trieste Cultura
REFRESH-INTERVAL;VALUE=DURATION:PT1H
X-Robots-Tag:noindex
X-PUBLISHED-TTL:PT1H
BEGIN:VTIMEZONE
TZID:Europe/Rome
BEGIN:DAYLIGHT
TZOFFSETFROM:+0100
TZOFFSETTO:+0200
TZNAME:CEST
DTSTART:20250330T010000
END:DAYLIGHT
BEGIN:STANDARD
TZOFFSETFROM:+0200
TZOFFSETTO:+0100
TZNAME:CET
DTSTART:20251026T010000
END:STANDARD
BEGIN:DAYLIGHT
TZOFFSETFROM:+0100
TZOFFSETTO:+0200
TZNAME:CEST
DTSTART:20260329T010000
END:DAYLIGHT
BEGIN:STANDARD
TZOFFSETFROM:+0200
TZOFFSETTO:+0100
TZNAME:CET
DTSTART:20261025T010000
END:STANDARD
BEGIN:DAYLIGHT
TZOFFSETFROM:+0100
TZOFFSETTO:+0200
TZNAME:CEST
DTSTART:20270328T010000
END:DAYLIGHT
BEGIN:STANDARD
TZOFFSETFROM:+0200
TZOFFSETTO:+0100
TZNAME:CET
DTSTART:20271031T010000
END:STANDARD
END:VTIMEZONE
BEGIN:VEVENT
DTSTART;TZID=Europe/Rome:20260426T110000
DTEND;TZID=Europe/Rome:20260426T110000
DTSTAMP:20260420T180402
CREATED:20260420T103516Z
LAST-MODIFIED:20260420T123657Z
UID:10006121-1777201200-1777201200@triestecultura.it
SUMMARY:Donazione Luciani. Sguardi sulla pittura triestina tra ‘800 e ‘900 - Visite guidate al Museo Revoltella
DESCRIPTION:Nell’ambito del programma Primavera nei Musei\, il Museo Revoltella apre le sue porte a Donazione Luciani. Sguardi sulla pittura triestina tra ‘800 e ‘900\, un affascinante ciclo di visite guidate pensato per accompagnare il pubblico alla scoperta del nuovo allestimento dedicato alla preziosa Donazione Luciani. \nQuattro appuntamenti imperdibili offriranno l’opportunità di immergersi in un percorso espositivo ricco e suggestivo: una selezione di opere che racconta\, con sguardo vivo e appassionato\, protagonisti\, stili e generi della pittura triestina tra XIX e XX secolo\, creando un dialogo stimolante tra nuove acquisizioni e collezioni storiche del Museo. \nNelle due sale affacciate sui terrazzamenti della Galleria prende forma un racconto visivo composto da circa venti dipinti\, scelti tra i 116 giunti al Museo nel 2024 grazie alla generosità di Annamaria e Luciano Luciani. Il nuovo allestimento propone un percorso variegato e coinvolgente: dalle luminose vedute marine alla ritrattistica intensa\, fino alle atmosfere simboliste di Vito Timmel\, al raffinato decorativismo secessionista di Umberto Schiavon e alle eleganti sinuosità di Glauco Cambon. \nUn’occasione unica per lasciarsi guidare in un viaggio tra arte e storia\, esplorando la vivacità e il fascino della scena artistica triestina tra Ottocento e Novecento attraverso una narrazione capace di emozionare e sorprendere. \nCalendario degli appuntamenti: \n26 aprile | ore 11.00\n3 maggio | ore 11.00\n24 maggio | ore 11.00\n7 giugno | ore 11.00 \nInformazioni: \nDurata: 60 minuti\nCosto: € 7 (ingresso al museo escluso) \nPrenotazioni: \nWeb: https://ticketing.coopculture.it/event/A9F3A1C2-BF3F-C153-77F0-019D435C9EC5\nTel: 040 9892032 (lun-ven 9-18\, sab 9-13)\nMail: museicivici.trieste@coopculture.it \nIniziativa organizzata in collaborazione con CoopCulture
URL:https://triestecultura.it/evento/donazione-luciani-sguardi-sulla-pittura-triestina-tra-800-e-900-visite-guidate-al-museo-revoltella/2026-04-26/
LOCATION:Museo Revoltella – Galleria d’Arte Moderna\, Via A. Diaz\, 27\, Trieste\, Trieste\, Italy
CATEGORIES:Visita guidata
ATTACH;FMTTYPE=image/png:https://triestecultura.it/wp-content/uploads/2026/04/post_donazione-Luciani_def.png
END:VEVENT
BEGIN:VEVENT
DTSTART;TZID=Europe/Rome:20260503T110000
DTEND;TZID=Europe/Rome:20260503T110000
DTSTAMP:20260420T180402
CREATED:20260420T103516Z
LAST-MODIFIED:20260420T123657Z
UID:10006122-1777806000-1777806000@triestecultura.it
SUMMARY:Donazione Luciani. Sguardi sulla pittura triestina tra ‘800 e ‘900 - Visite guidate al Museo Revoltella
DESCRIPTION:Nell’ambito del programma Primavera nei Musei\, il Museo Revoltella apre le sue porte a Donazione Luciani. Sguardi sulla pittura triestina tra ‘800 e ‘900\, un affascinante ciclo di visite guidate pensato per accompagnare il pubblico alla scoperta del nuovo allestimento dedicato alla preziosa Donazione Luciani. \nQuattro appuntamenti imperdibili offriranno l’opportunità di immergersi in un percorso espositivo ricco e suggestivo: una selezione di opere che racconta\, con sguardo vivo e appassionato\, protagonisti\, stili e generi della pittura triestina tra XIX e XX secolo\, creando un dialogo stimolante tra nuove acquisizioni e collezioni storiche del Museo. \nNelle due sale affacciate sui terrazzamenti della Galleria prende forma un racconto visivo composto da circa venti dipinti\, scelti tra i 116 giunti al Museo nel 2024 grazie alla generosità di Annamaria e Luciano Luciani. Il nuovo allestimento propone un percorso variegato e coinvolgente: dalle luminose vedute marine alla ritrattistica intensa\, fino alle atmosfere simboliste di Vito Timmel\, al raffinato decorativismo secessionista di Umberto Schiavon e alle eleganti sinuosità di Glauco Cambon. \nUn’occasione unica per lasciarsi guidare in un viaggio tra arte e storia\, esplorando la vivacità e il fascino della scena artistica triestina tra Ottocento e Novecento attraverso una narrazione capace di emozionare e sorprendere. \nCalendario degli appuntamenti: \n26 aprile | ore 11.00\n3 maggio | ore 11.00\n24 maggio | ore 11.00\n7 giugno | ore 11.00 \nInformazioni: \nDurata: 60 minuti\nCosto: € 7 (ingresso al museo escluso) \nPrenotazioni: \nWeb: https://ticketing.coopculture.it/event/A9F3A1C2-BF3F-C153-77F0-019D435C9EC5\nTel: 040 9892032 (lun-ven 9-18\, sab 9-13)\nMail: museicivici.trieste@coopculture.it \nIniziativa organizzata in collaborazione con CoopCulture
URL:https://triestecultura.it/evento/donazione-luciani-sguardi-sulla-pittura-triestina-tra-800-e-900-visite-guidate-al-museo-revoltella/2026-05-03/
LOCATION:Museo Revoltella – Galleria d’Arte Moderna\, Via A. Diaz\, 27\, Trieste\, Trieste\, Italy
CATEGORIES:Visita guidata
ATTACH;FMTTYPE=image/png:https://triestecultura.it/wp-content/uploads/2026/04/post_donazione-Luciani_def.png
END:VEVENT
BEGIN:VEVENT
DTSTART;TZID=Europe/Rome:20260524T110000
DTEND;TZID=Europe/Rome:20260524T110000
DTSTAMP:20260420T180402
CREATED:20260420T103516Z
LAST-MODIFIED:20260420T123657Z
UID:10006123-1779620400-1779620400@triestecultura.it
SUMMARY:Donazione Luciani. Sguardi sulla pittura triestina tra ‘800 e ‘900 - Visite guidate al Museo Revoltella
DESCRIPTION:Nell’ambito del programma Primavera nei Musei\, il Museo Revoltella apre le sue porte a Donazione Luciani. Sguardi sulla pittura triestina tra ‘800 e ‘900\, un affascinante ciclo di visite guidate pensato per accompagnare il pubblico alla scoperta del nuovo allestimento dedicato alla preziosa Donazione Luciani. \nQuattro appuntamenti imperdibili offriranno l’opportunità di immergersi in un percorso espositivo ricco e suggestivo: una selezione di opere che racconta\, con sguardo vivo e appassionato\, protagonisti\, stili e generi della pittura triestina tra XIX e XX secolo\, creando un dialogo stimolante tra nuove acquisizioni e collezioni storiche del Museo. \nNelle due sale affacciate sui terrazzamenti della Galleria prende forma un racconto visivo composto da circa venti dipinti\, scelti tra i 116 giunti al Museo nel 2024 grazie alla generosità di Annamaria e Luciano Luciani. Il nuovo allestimento propone un percorso variegato e coinvolgente: dalle luminose vedute marine alla ritrattistica intensa\, fino alle atmosfere simboliste di Vito Timmel\, al raffinato decorativismo secessionista di Umberto Schiavon e alle eleganti sinuosità di Glauco Cambon. \nUn’occasione unica per lasciarsi guidare in un viaggio tra arte e storia\, esplorando la vivacità e il fascino della scena artistica triestina tra Ottocento e Novecento attraverso una narrazione capace di emozionare e sorprendere. \nCalendario degli appuntamenti: \n26 aprile | ore 11.00\n3 maggio | ore 11.00\n24 maggio | ore 11.00\n7 giugno | ore 11.00 \nInformazioni: \nDurata: 60 minuti\nCosto: € 7 (ingresso al museo escluso) \nPrenotazioni: \nWeb: https://ticketing.coopculture.it/event/A9F3A1C2-BF3F-C153-77F0-019D435C9EC5\nTel: 040 9892032 (lun-ven 9-18\, sab 9-13)\nMail: museicivici.trieste@coopculture.it \nIniziativa organizzata in collaborazione con CoopCulture
URL:https://triestecultura.it/evento/donazione-luciani-sguardi-sulla-pittura-triestina-tra-800-e-900-visite-guidate-al-museo-revoltella/2026-05-24/
LOCATION:Museo Revoltella – Galleria d’Arte Moderna\, Via A. Diaz\, 27\, Trieste\, Trieste\, Italy
CATEGORIES:Visita guidata
ATTACH;FMTTYPE=image/png:https://triestecultura.it/wp-content/uploads/2026/04/post_donazione-Luciani_def.png
END:VEVENT
BEGIN:VEVENT
DTSTART;TZID=Europe/Rome:20260607T110000
DTEND;TZID=Europe/Rome:20260607T110000
DTSTAMP:20260420T180402
CREATED:20260420T103516Z
LAST-MODIFIED:20260420T123657Z
UID:10006124-1780830000-1780830000@triestecultura.it
SUMMARY:Donazione Luciani. Sguardi sulla pittura triestina tra ‘800 e ‘900 - Visite guidate al Museo Revoltella
DESCRIPTION:Nell’ambito del programma Primavera nei Musei\, il Museo Revoltella apre le sue porte a Donazione Luciani. Sguardi sulla pittura triestina tra ‘800 e ‘900\, un affascinante ciclo di visite guidate pensato per accompagnare il pubblico alla scoperta del nuovo allestimento dedicato alla preziosa Donazione Luciani. \nQuattro appuntamenti imperdibili offriranno l’opportunità di immergersi in un percorso espositivo ricco e suggestivo: una selezione di opere che racconta\, con sguardo vivo e appassionato\, protagonisti\, stili e generi della pittura triestina tra XIX e XX secolo\, creando un dialogo stimolante tra nuove acquisizioni e collezioni storiche del Museo. \nNelle due sale affacciate sui terrazzamenti della Galleria prende forma un racconto visivo composto da circa venti dipinti\, scelti tra i 116 giunti al Museo nel 2024 grazie alla generosità di Annamaria e Luciano Luciani. Il nuovo allestimento propone un percorso variegato e coinvolgente: dalle luminose vedute marine alla ritrattistica intensa\, fino alle atmosfere simboliste di Vito Timmel\, al raffinato decorativismo secessionista di Umberto Schiavon e alle eleganti sinuosità di Glauco Cambon. \nUn’occasione unica per lasciarsi guidare in un viaggio tra arte e storia\, esplorando la vivacità e il fascino della scena artistica triestina tra Ottocento e Novecento attraverso una narrazione capace di emozionare e sorprendere. \nCalendario degli appuntamenti: \n26 aprile | ore 11.00\n3 maggio | ore 11.00\n24 maggio | ore 11.00\n7 giugno | ore 11.00 \nInformazioni: \nDurata: 60 minuti\nCosto: € 7 (ingresso al museo escluso) \nPrenotazioni: \nWeb: https://ticketing.coopculture.it/event/A9F3A1C2-BF3F-C153-77F0-019D435C9EC5\nTel: 040 9892032 (lun-ven 9-18\, sab 9-13)\nMail: museicivici.trieste@coopculture.it \nIniziativa organizzata in collaborazione con CoopCulture
URL:https://triestecultura.it/evento/donazione-luciani-sguardi-sulla-pittura-triestina-tra-800-e-900-visite-guidate-al-museo-revoltella/2026-06-07/
LOCATION:Museo Revoltella – Galleria d’Arte Moderna\, Via A. Diaz\, 27\, Trieste\, Trieste\, Italy
CATEGORIES:Visita guidata
ATTACH;FMTTYPE=image/png:https://triestecultura.it/wp-content/uploads/2026/04/post_donazione-Luciani_def.png
END:VEVENT
END:VCALENDAR