BEGIN:VCALENDAR
VERSION:2.0
PRODID:-//Trieste Cultura - ECPv6.15.20//NONSGML v1.0//EN
CALSCALE:GREGORIAN
METHOD:PUBLISH
X-ORIGINAL-URL:https://triestecultura.it
X-WR-CALDESC:Eventi per Trieste Cultura
REFRESH-INTERVAL;VALUE=DURATION:PT1H
X-Robots-Tag:noindex
X-PUBLISHED-TTL:PT1H
BEGIN:VTIMEZONE
TZID:Europe/Rome
BEGIN:DAYLIGHT
TZOFFSETFROM:+0100
TZOFFSETTO:+0200
TZNAME:CEST
DTSTART:20140330T010000
END:DAYLIGHT
BEGIN:STANDARD
TZOFFSETFROM:+0200
TZOFFSETTO:+0100
TZNAME:CET
DTSTART:20141026T010000
END:STANDARD
BEGIN:DAYLIGHT
TZOFFSETFROM:+0100
TZOFFSETTO:+0200
TZNAME:CEST
DTSTART:20150329T010000
END:DAYLIGHT
BEGIN:STANDARD
TZOFFSETFROM:+0200
TZOFFSETTO:+0100
TZNAME:CET
DTSTART:20151025T010000
END:STANDARD
BEGIN:DAYLIGHT
TZOFFSETFROM:+0100
TZOFFSETTO:+0200
TZNAME:CEST
DTSTART:20160327T010000
END:DAYLIGHT
BEGIN:STANDARD
TZOFFSETFROM:+0200
TZOFFSETTO:+0100
TZNAME:CET
DTSTART:20161030T010000
END:STANDARD
BEGIN:DAYLIGHT
TZOFFSETFROM:+0100
TZOFFSETTO:+0200
TZNAME:CEST
DTSTART:20170326T010000
END:DAYLIGHT
BEGIN:STANDARD
TZOFFSETFROM:+0200
TZOFFSETTO:+0100
TZNAME:CET
DTSTART:20171029T010000
END:STANDARD
BEGIN:DAYLIGHT
TZOFFSETFROM:+0100
TZOFFSETTO:+0200
TZNAME:CEST
DTSTART:20180325T010000
END:DAYLIGHT
BEGIN:STANDARD
TZOFFSETFROM:+0200
TZOFFSETTO:+0100
TZNAME:CET
DTSTART:20181028T010000
END:STANDARD
BEGIN:DAYLIGHT
TZOFFSETFROM:+0100
TZOFFSETTO:+0200
TZNAME:CEST
DTSTART:20190331T010000
END:DAYLIGHT
BEGIN:STANDARD
TZOFFSETFROM:+0200
TZOFFSETTO:+0100
TZNAME:CET
DTSTART:20191027T010000
END:STANDARD
BEGIN:DAYLIGHT
TZOFFSETFROM:+0100
TZOFFSETTO:+0200
TZNAME:CEST
DTSTART:20200329T010000
END:DAYLIGHT
BEGIN:STANDARD
TZOFFSETFROM:+0200
TZOFFSETTO:+0100
TZNAME:CET
DTSTART:20201025T010000
END:STANDARD
BEGIN:DAYLIGHT
TZOFFSETFROM:+0100
TZOFFSETTO:+0200
TZNAME:CEST
DTSTART:20210328T010000
END:DAYLIGHT
BEGIN:STANDARD
TZOFFSETFROM:+0200
TZOFFSETTO:+0100
TZNAME:CET
DTSTART:20211031T010000
END:STANDARD
END:VTIMEZONE
BEGIN:VEVENT
DTSTART;VALUE=DATE:20200605
DTEND;VALUE=DATE:20200609
DTSTAMP:20260424T125456
CREATED:20250611T094635Z
LAST-MODIFIED:20250611T094635Z
UID:10004488-1591315200-1591574400@triestecultura.it
SUMMARY:Festival online della Notte degli Archivi
DESCRIPTION:Anche l’Archivio Diplomatico della Biblioteca civica Attilio Hortis partecipa a La Notte degli Archivi realizzata dall’Associazione Culturale Archivissima\, in collaborazione con il Polo del’900 e con il patrocinio del Ministero per i Beni e le Attività Culturali e per il Turismo\, della Soprintendenza Archivistica e Bibliografica del Piemonte e della Lombardia\, della Regione Piemonte\, del Comune di Torino\, dell’Università degli Studi di Torino e dell’ Associazione nazionale archivistica italiana. \nQuesta quinta edizione del format\, non potendo svolgersi con eventi che prevedano presenza di pubblico\, è stata riconvertita in un’edizione online facendo proprio lo spirito dell’hastag #LaCulturaNonSiFerma. \nArchivissima ha deciso di chiedere agli archivi partecipanti di produrre dei podcast da 8/10 minuti che raccontino il materiale d’archivio relativo alle figure femminili. I podcast verranno lanciati nei giorni del Festival degli Archivi\, previsto dal 5 al 8 giugno\, e saranno distribuiti sulle principali piattaforme di ascolto (Apple Podcasts\, Google Podcasts\, iHeartMedia\, Spotify…). Si potrà così intraprendere un appassionante viaggio digitale alla scoperta dell’Italia della cultura\, capace di coinvolgere attivamente istituzioni\, enti\, aziende\, professionisti e operatori del settore.\nInoltre si creerà un archivio digitale audiovisivo\, che renderà fruibile nel tempo il lavoro di tutte le realtà partecipanti. \nIn particolare il podcast dell’Archivio Diplomatico è dedicato al fondo di Anita Pittoni\, una delle più importanti figure femminili della storia culturale di Trieste\, custodito dalla Biblioteca civica Attilio Hortis. Il finale della registrazione darà la possibilità di ascoltare dalla voce originale di Anita Pittoni la lettura di una delle sue poesie. \nPer avere maggiori informazioni si consiglia di seguire la pagina facebook\nhttps://it-it.facebook.com/bibliotecahortis/ oppure sul sito web http://archiviodiplomatico.online.trieste.it/
URL:https://triestecultura.it/evento/festival-online-della-notte-degli-archivi/
LOCATION:Archivio diplomatico\, Via Madonna del Mare\, 13
CATEGORIES:Festival
ATTACH;FMTTYPE=image/jpeg:https://triestecultura.it/wp-content/uploads/archivio/eventi/cover_archiviodiplomatico.jpg
END:VEVENT
BEGIN:VEVENT
DTSTART;VALUE=DATE:20160102
DTEND;VALUE=DATE:20160203
DTSTAMP:20260424T125456
CREATED:20250610T082242Z
LAST-MODIFIED:20250610T082242Z
UID:10003014-1451692800-1454371200@triestecultura.it
SUMMARY:La Fototeca
DESCRIPTION:Custodisce\, cataloga\, tutela e rende fruibile il patrimonio locale\, in un’accezione che assume connotazioni etiche e di riconoscimento del diritto di una comunità di poter fruire e riflettere sulle testimonianze visive del proprio passato e presente. Immagini della  città di Trieste e dintorni dal 1840 ai giorni nostri\, documenti visibili delle mutazioni\, evoluzione\, trasformazione dell’animus urbis\, del paesaggio e della storia di una città di confine. La collezione raccoglie l’attività di documentazione dei Civici Musei e fondi di fotografi e agenzie del secolo scorso.Un patrimonio di 2.507.376 fotogrammi escluse le foto digitali. Un fondo storico creatosi con l’attività del Laboratorio fotografico dei CMSA\, (positivi\, negativi\, diapositive).
URL:https://triestecultura.it/evento/la-fototeca/
LOCATION:Archivio diplomatico\, Via Madonna del Mare\, 13
END:VEVENT
BEGIN:VEVENT
DTSTART;VALUE=DATE:20151224
DTEND;VALUE=DATE:20160107
DTSTAMP:20260424T125456
CREATED:20250610T082240Z
LAST-MODIFIED:20250610T082240Z
UID:10003013-1450915200-1452038400@triestecultura.it
SUMMARY:Apertura e orari dei musei civici ne periodo tra Natale e l'Epifania
DESCRIPTION:Nelle due settimane comprese tra la Vigilia di Natale (24 dicembre 2015) e il giorno dell’Epifania (6 gennaio 2016)\, i Civici Musei osserveranno un ampliamento di orario.
URL:https://triestecultura.it/evento/apertura-e-orari-dei-musei-civici-ne-periodo-tra-natale-e-lepifania/
LOCATION:Archivio diplomatico\, Via Madonna del Mare\, 13
END:VEVENT
BEGIN:VEVENT
DTSTART;VALUE=DATE:20151216
DTEND;VALUE=DATE:20151217
DTSTAMP:20260424T125456
CREATED:20250610T082221Z
LAST-MODIFIED:20250610T082221Z
UID:10003003-1450224000-1450224000@triestecultura.it
SUMMARY:Stilelibro\, il nuovo punto lettura della Biblioteca Diffusa.
DESCRIPTION:Inaugurazione di Stilelibro\, il nuovo punto lettura della Biblioteca Diffusa.Mercoledì 16 dicembre alle ore 18 \nPer l’occasione l’ensemble musicale Stella Artis eseguirà brani di: Andrea Monterosso ‘ Jeaux d’Eau\, Benjamin Britten ‘ Cheremony of Carols\, Luciano Berio ‘ I wonder as I wander\nCharles Trenet ‘ La Mer. \nSaranno presenti il Sindaco Roberto Cosolini\, l’Assessore alla Cultura Paolo Tassinari\, l’Assessore all’Educazione\, Scuola e Università e Ricerca Antonella Grim
URL:https://triestecultura.it/evento/stilelibro-il-nuovo-punto-lettura-della-biblioteca-diffusa/
LOCATION:Archivio diplomatico\, Via Madonna del Mare\, 13
END:VEVENT
BEGIN:VEVENT
DTSTART;VALUE=DATE:20151210
DTEND;VALUE=DATE:20160111
DTSTAMP:20260424T125456
CREATED:20250610T082209Z
LAST-MODIFIED:20250610T082209Z
UID:10002998-1449705600-1452384000@triestecultura.it
SUMMARY:Dinner with Jackson Pollock: Ricette\, Arte & Natura
DESCRIPTION:La mostra resterà aperta fino al 10 gennaio 2016 con orario 10-17 (chiuso lunedì)Ingresso gratuito
URL:https://triestecultura.it/evento/dinner-with-jackson-pollock-ricette-arte-natura/
LOCATION:Archivio diplomatico\, Via Madonna del Mare\, 13
END:VEVENT
BEGIN:VEVENT
DTSTART;VALUE=DATE:20151208
DTEND;VALUE=DATE:20151209
DTSTAMP:20260424T125456
CREATED:20250610T082204Z
LAST-MODIFIED:20250610T082206Z
UID:10002994-1449532800-1449532800@triestecultura.it
SUMMARY:Apertura speciale del Civico Aquario Marino e del Museo Civico di Storia Naturale\, dalle 10 alle 17.
DESCRIPTION:Il Comune informa che martedì 8 dicembre si terrà apertura speciale del Civico Aquario Marino e del Museo Civico di Storia Naturale\, dalle 10 alle 17.
URL:https://triestecultura.it/evento/apertura-speciale-del-civico-aquario-marino-e-del-museo-civico-di-storia-naturale-dalle-10-alle-17/
LOCATION:Archivio diplomatico\, Via Madonna del Mare\, 13
END:VEVENT
BEGIN:VEVENT
DTSTART;VALUE=DATE:20151205
DTEND;VALUE=DATE:20151223
DTSTAMP:20260424T125456
CREATED:20250610T081900Z
LAST-MODIFIED:20250610T082205Z
UID:10002991-1449273600-1450742400@triestecultura.it
SUMMARY:Mostra "Temporanea-mente" di Alessandro Calligaris
DESCRIPTION:Si inaugura sabato 5 dicembre 2015 alle ore 18\, presso la Sala Comunale d’Arte di Piazza dell’ Unità d’Italia\, 4 a Trieste\, la mostra “Temporanea-mente”\, personale di Alessandro Calligaris\, che sarà presentata da Marianna Accerboni.
URL:https://triestecultura.it/evento/mostra-temporanea-mente-di-alessandro-calligaris/
LOCATION:Archivio diplomatico\, Via Madonna del Mare\, 13
END:VEVENT
BEGIN:VEVENT
DTSTART;VALUE=DATE:20151203
DTEND;VALUE=DATE:20151204
DTSTAMP:20260424T125456
CREATED:20250610T081900Z
LAST-MODIFIED:20250610T082205Z
UID:10002990-1449100800-1449100800@triestecultura.it
SUMMARY:Inaugurazione mostra Karl Ernest Von Baer
DESCRIPTION:Giovedi 3 dicembre\, alle ore 12.00\, al Museo Civico di Storia Naturale in via dei Tominz 4 a Trieste\, sarà inaugurata la mostra dedicata a Karl Ernest Von Baer.
URL:https://triestecultura.it/evento/inaugurazione-mostra-karl-ernest-von-baer/
LOCATION:Archivio diplomatico\, Via Madonna del Mare\, 13
END:VEVENT
BEGIN:VEVENT
DTSTART;VALUE=DATE:20151127
DTEND;VALUE=DATE:20151128
DTSTAMP:20260424T125457
CREATED:20250610T081853Z
LAST-MODIFIED:20250610T081853Z
UID:10002983-1448582400-1448582400@triestecultura.it
SUMMARY:Annullata la conferenza di venerdì 27 novembre sulla storia dell'apicoltura in Alpe Adria
DESCRIPTION:Per motivi organizzativi\, è rinviata a data da destinarsi la conferenza di Fausto Settimi su La ‘coltivazione’ delle api: breve storia dell’apicoltura in Alpe Adria.
URL:https://triestecultura.it/evento/annullata-la-conferenza-di-venerdi-27-novembre-sulla-storia-dellapicoltura-in-alpe-adria/
LOCATION:Archivio diplomatico\, Via Madonna del Mare\, 13
END:VEVENT
BEGIN:VEVENT
DTSTART;VALUE=DATE:20151123
DTEND;VALUE=DATE:20151124
DTSTAMP:20260424T125457
CREATED:20250610T081851Z
LAST-MODIFIED:20250610T081851Z
UID:10002977-1448236800-1448236800@triestecultura.it
SUMMARY:Guida all'ascolto del Werther
DESCRIPTION:Lunedì 23 novembre alle ore 17.30\, nell’ambito dei ‘Lunedì dello Schmidl’\, il Civico Museo Teatrale ‘Carlo Schmidl’\, in collaborazione con l’Associazione Triestina Amici della Lirica ‘Giulio Viozzi’ propone una guida all’ascolto del «Werther»\, dramma lirico in 4 atti di Jules Massenet\, dal romanzo «I dolori del giovane Werther» di Wolfgang Goethe su libretto di Édouard Blau\, Paul Milliet e Georges Hartmann\, in programma al Teatro Lirico ‘Giuseppe Verdi’ di Trieste dal 27 novembre al 5 dicembre.
URL:https://triestecultura.it/evento/guida-allascolto-del-werther/
LOCATION:Archivio diplomatico\, Via Madonna del Mare\, 13
END:VEVENT
BEGIN:VEVENT
DTSTART;VALUE=DATE:20151122
DTEND;VALUE=DATE:20151123
DTSTAMP:20260424T125457
CREATED:20250610T081850Z
LAST-MODIFIED:20250610T081850Z
UID:10002976-1448150400-1448150400@triestecultura.it
SUMMARY:Alla scoperta di aculei e veleni
DESCRIPTION:Un nuovo emozionante appuntamento con la scienza al CIVICO AQUARIO MARINO!
URL:https://triestecultura.it/evento/alla-scoperta-di-aculei-e-veleni/
LOCATION:Archivio diplomatico\, Via Madonna del Mare\, 13
END:VEVENT
END:VCALENDAR