BEGIN:VCALENDAR
VERSION:2.0
PRODID:-//Trieste Cultura - ECPv6.15.20//NONSGML v1.0//EN
CALSCALE:GREGORIAN
METHOD:PUBLISH
X-WR-CALNAME:Trieste Cultura
X-ORIGINAL-URL:https://triestecultura.it
X-WR-CALDESC:Eventi per Trieste Cultura
REFRESH-INTERVAL;VALUE=DURATION:PT1H
X-Robots-Tag:noindex
X-PUBLISHED-TTL:PT1H
BEGIN:VTIMEZONE
TZID:Europe/Rome
BEGIN:DAYLIGHT
TZOFFSETFROM:+0100
TZOFFSETTO:+0200
TZNAME:CEST
DTSTART:20140330T010000
END:DAYLIGHT
BEGIN:STANDARD
TZOFFSETFROM:+0200
TZOFFSETTO:+0100
TZNAME:CET
DTSTART:20141026T010000
END:STANDARD
BEGIN:DAYLIGHT
TZOFFSETFROM:+0100
TZOFFSETTO:+0200
TZNAME:CEST
DTSTART:20150329T010000
END:DAYLIGHT
BEGIN:STANDARD
TZOFFSETFROM:+0200
TZOFFSETTO:+0100
TZNAME:CET
DTSTART:20151025T010000
END:STANDARD
BEGIN:DAYLIGHT
TZOFFSETFROM:+0100
TZOFFSETTO:+0200
TZNAME:CEST
DTSTART:20160327T010000
END:DAYLIGHT
BEGIN:STANDARD
TZOFFSETFROM:+0200
TZOFFSETTO:+0100
TZNAME:CET
DTSTART:20161030T010000
END:STANDARD
END:VTIMEZONE
BEGIN:VEVENT
DTSTART;VALUE=DATE:20151201
DTEND;VALUE=DATE:20151204
DTSTAMP:20260424T125727
CREATED:20250610T081855Z
LAST-MODIFIED:20250610T081855Z
UID:10002987-1448928000-1449100800@triestecultura.it
SUMMARY:Insieme vinciamo l'AIDS
DESCRIPTION:La mostra si inserisce nell’ambito delle iniziative di sensibilizzazione\, informazione\, prevenzione e lotta alla discriminazione in tema di AIDS e malattie emo/sessualmente trasmissibili.
URL:https://triestecultura.it/evento/insieme-vinciamo-laids/
LOCATION:Archivio storico dei Civici Musei di Storia ed Arte\, via Rossini\, 4\, Trieste\, Italy
END:VEVENT
END:VCALENDAR