BEGIN:VCALENDAR
VERSION:2.0
PRODID:-//Trieste Cultura - ECPv6.15.20//NONSGML v1.0//EN
CALSCALE:GREGORIAN
METHOD:PUBLISH
X-WR-CALNAME:Trieste Cultura
X-ORIGINAL-URL:https://triestecultura.it
X-WR-CALDESC:Eventi per Trieste Cultura
REFRESH-INTERVAL;VALUE=DURATION:PT1H
X-Robots-Tag:noindex
X-PUBLISHED-TTL:PT1H
BEGIN:VTIMEZONE
TZID:Europe/Rome
BEGIN:DAYLIGHT
TZOFFSETFROM:+0100
TZOFFSETTO:+0200
TZNAME:CEST
DTSTART:20180325T010000
END:DAYLIGHT
BEGIN:STANDARD
TZOFFSETFROM:+0200
TZOFFSETTO:+0100
TZNAME:CET
DTSTART:20181028T010000
END:STANDARD
BEGIN:DAYLIGHT
TZOFFSETFROM:+0100
TZOFFSETTO:+0200
TZNAME:CEST
DTSTART:20190331T010000
END:DAYLIGHT
BEGIN:STANDARD
TZOFFSETFROM:+0200
TZOFFSETTO:+0100
TZNAME:CET
DTSTART:20191027T010000
END:STANDARD
BEGIN:DAYLIGHT
TZOFFSETFROM:+0100
TZOFFSETTO:+0200
TZNAME:CEST
DTSTART:20200329T010000
END:DAYLIGHT
BEGIN:STANDARD
TZOFFSETFROM:+0200
TZOFFSETTO:+0100
TZNAME:CET
DTSTART:20201025T010000
END:STANDARD
BEGIN:DAYLIGHT
TZOFFSETFROM:+0100
TZOFFSETTO:+0200
TZNAME:CEST
DTSTART:20210328T010000
END:DAYLIGHT
BEGIN:STANDARD
TZOFFSETFROM:+0200
TZOFFSETTO:+0100
TZNAME:CET
DTSTART:20211031T010000
END:STANDARD
BEGIN:DAYLIGHT
TZOFFSETFROM:+0100
TZOFFSETTO:+0200
TZNAME:CEST
DTSTART:20220327T010000
END:DAYLIGHT
BEGIN:STANDARD
TZOFFSETFROM:+0200
TZOFFSETTO:+0100
TZNAME:CET
DTSTART:20221030T010000
END:STANDARD
BEGIN:DAYLIGHT
TZOFFSETFROM:+0100
TZOFFSETTO:+0200
TZNAME:CEST
DTSTART:20230326T010000
END:DAYLIGHT
BEGIN:STANDARD
TZOFFSETFROM:+0200
TZOFFSETTO:+0100
TZNAME:CET
DTSTART:20231029T010000
END:STANDARD
BEGIN:DAYLIGHT
TZOFFSETFROM:+0100
TZOFFSETTO:+0200
TZNAME:CEST
DTSTART:20240331T010000
END:DAYLIGHT
BEGIN:STANDARD
TZOFFSETFROM:+0200
TZOFFSETTO:+0100
TZNAME:CET
DTSTART:20241027T010000
END:STANDARD
BEGIN:DAYLIGHT
TZOFFSETFROM:+0100
TZOFFSETTO:+0200
TZNAME:CEST
DTSTART:20250330T010000
END:DAYLIGHT
BEGIN:STANDARD
TZOFFSETFROM:+0200
TZOFFSETTO:+0100
TZNAME:CET
DTSTART:20251026T010000
END:STANDARD
BEGIN:DAYLIGHT
TZOFFSETFROM:+0100
TZOFFSETTO:+0200
TZNAME:CEST
DTSTART:20260329T010000
END:DAYLIGHT
BEGIN:STANDARD
TZOFFSETFROM:+0200
TZOFFSETTO:+0100
TZNAME:CET
DTSTART:20261025T010000
END:STANDARD
BEGIN:DAYLIGHT
TZOFFSETFROM:+0100
TZOFFSETTO:+0200
TZNAME:CEST
DTSTART:20270328T010000
END:DAYLIGHT
BEGIN:STANDARD
TZOFFSETFROM:+0200
TZOFFSETTO:+0100
TZNAME:CET
DTSTART:20271031T010000
END:STANDARD
END:VTIMEZONE
BEGIN:VEVENT
DTSTART;TZID=Europe/Rome:20260401T170000
DTEND;TZID=Europe/Rome:20260401T170000
DTSTAMP:20260421T043512
CREATED:20260320T153531Z
LAST-MODIFIED:20260320T153531Z
UID:10006029-1775062800-1775062800@triestecultura.it
SUMMARY:I Trionfi in bianco e nero. Le stampe della raccolta del Museo Petrarchesco Piccolomineo. Conferenza di Elena Forcesin
DESCRIPTION:Mercoledì 1º aprile\, dalle 17.00 alle 18.30\, Museo Petrarchesco Piccolomineo (via Madonna del Mare 13\, II piano) organizza una conferenza dedicata ad una selezione di stampe conservate nella raccolta museale\, con iconografia ispirata ai Trionfi di Francesco Petrarca. \nL’incontro\, dal titolo I Trionfi in bianco e nero sarà introdotto da Alessandra Sirugo\, responsabile del Museo Petrarchesco Piccolomineo di Trieste\, e condotto da Elena Forcesin\, storica dell’arte\, ricercatrice in ambito storico-artistico e divulgatrice di contenuti storico-culturali e artistici. Nel corso della sua attività\, Forcesin ha svolto ricerche in archivi pubblici e privati e su collezioni museali\, approfondendo diversi aspetti legati alla storia dell’arte e alla valorizzazione del patrimonio. \nLa conferenza offrirà al pubblico l’occasione di esplorare il fascino delle stampe in bianco e nero come strumento di diffusione e interpretazione dell’immaginario petrarchesco\, mettendo in luce il dialogo tra testo letterario e rappresentazione visiva.
URL:https://triestecultura.it/evento/i-trionfi-in-bianco-e-nero-le-stampe-della-raccolta-del-museo-petrarchesco-piccolomineo-conferenza-di-elena-forcesin/
LOCATION:Biblioteca Civica Attilio Hortis\, via Madonna del Mare 13\, Trieste\, Trieste\, Italy
CATEGORIES:Conferenza
ATTACH;FMTTYPE=image/jpeg:https://triestecultura.it/wp-content/uploads/2026/03/MPP_Forcesin_20260401.jpg
END:VEVENT
BEGIN:VEVENT
DTSTART;TZID=Europe/Rome:20260327T173000
DTEND;TZID=Europe/Rome:20260327T173000
DTSTAMP:20260421T043512
CREATED:20260324T122611Z
LAST-MODIFIED:20260324T122736Z
UID:10006033-1774632600-1774632600@triestecultura.it
SUMMARY:Giza. La caduta del dogma
DESCRIPTION:Venerdì 27 marzo alle ore 17.30 nella sala conferenze della Biblioteca Civica “Attilio Hortis” (via Madonna del mare\, 13 – 2° piano) avrà luogo la presentazione del saggio storico-scientifico GIZA. La caduta del dogma (2019)\, di Antonio de’ Flumeri\, Luca Montuschi e Andrea Tavecchia\, primo volume di un percorso di ricerca proseguito nel 2024 da de’ Flumeri e Montuschi con GIZA. Oltre il muro di pietra.\nIl libro affronta uno dei temi più discussi dell’archeologia antica: le piramidi della Piana di Giza e le basi storiografiche su cui si fonda la loro interpretazione ufficiale. Attraverso un’analisi puntuale delle fonti – dagli storici classici agli albori dell’egittologia moderna fino agli studi contemporanei – gli autori mettono in evidenza lacune\, incongruenze e questioni ancora aperte legate all’attribuzione della costruzione dei monumenti principali del sito ai faraoni della IV Dinastia .\nL’opera si inserisce nel dibattito critico sviluppatosi negli ultimi decenni intorno alle certezze accademiche consolidate\, proponendo nuovi spunti di indagine e invitando il lettore a interrogarsi sulle modalità con cui si costruisce la narrazione storica. \nL’incontro sarà introdotto da Claudia Giordani\, che guiderà il pubblico attraverso i contenuti del libro e dialogherà con gli autori presenti. \nIngresso libero fino ad esaurimento posti. \n  \nAntonio de’ Flumeri \nNato a Saronno (VA) nel 1969\, laureato in Art Direction presso l’Accademia di Comunicazione di Milano (1995)\, è graphic designer e fondatore\, dal 1997\, di uno studio di comunicazione. Scrittore di racconti e libri illustrati per bambini\, affianca all’attività professionale lo studio dell’Antico Egitto\, della storia e delle religioni. \nLuca Montuschi\nNato a Tradate (VA) nel 1970\, laureato in Economia aziendale (LIUC\, 1997)\, ha ricoperto ruoli di responsabilità nell’ambito acquisti e management in diverse realtà aziendali. Oggi è libero professionista\, ricercatore e scrittore. Studioso appassionato di storia\, archeologia e religione. \nAndrea Tavecchia\nCo-autore del saggio GIZA. La caduta del dogma (2019)\, partecipa al progetto di ricerca dedicato allo studio critico delle fonti e delle interpretazioni relative alla IV Dinastia e alle strutture della Piana di Giza. \nClaudia Giordani\nMembro della Società Italiana di Storia delle Religioni (SISR)\, Claudia Giordani ha pubblicato importanti monografie tra cui Il cristianesimo egiziano di Aquileia (Udine 2020) e Croce e caduceo. Hermes e Gesù nei cristianesimi delle origini (Roma 2024)\, dedicate a temi di religione e cultura antica. Per Lindau Edizioni è co-autrice di Le origini nascoste della Terra di Mezzo. J. R. R. Tolkien e l’inconscio (2025). \nPer informazioni: \nbib.hortis@comune.trieste.it\nTel. 040 675 8159
URL:https://triestecultura.it/evento/giza-la-caduta-del-dogma/
LOCATION:Biblioteca Civica Attilio Hortis\, via Madonna del Mare 13\, Trieste\, Trieste\, Italy
CATEGORIES:Presentazione libro
ATTACH;FMTTYPE=image/jpeg:https://triestecultura.it/wp-content/uploads/2026/03/Hortis-27.03.26.jpg
END:VEVENT
BEGIN:VEVENT
DTSTART;TZID=Europe/Rome:20260316T170000
DTEND;TZID=Europe/Rome:20260316T170000
DTSTAMP:20260421T043512
CREATED:20260226T135437Z
LAST-MODIFIED:20260226T135437Z
UID:10005969-1773680400-1773680400@triestecultura.it
SUMMARY:Enea Silvio Piccolomini (Pio II) tra le Alpi e l’Adriatico. Sulle tracce del grande umanista
DESCRIPTION:Lunedì 16 marzo alle ore 17.00\, presso la Biblioteca Civica “Attilio Hortis” di Trieste in via Madonna del Mare 13\, si terrà la presentazione del volume Enea Silvio Piccolomini (Pio II) tra le Alpi e l’Adriatico. Sulle tracce del grande umanista di Anja Božič e Jan Dominik Bogataj (Trieste\, Mladika 2025).\nIl libro approfondisce il rapporto tra Enea Silvio Piccolomini (1405–1464) – figura eminente dell’umanesimo europeo e poi papa con il nome di Pio II – e i territori compresi tra le Alpi e l’Adriatico\, con particolare attenzione alle terre oggi slovene. \nPiccolomini conobbe direttamente quest’area dapprima come segretario imperiale alla corte di Federico III\, poi come vescovo di Trieste (1447-1450) e infine come pontefice. Durante il suo pontificato rientra anche la conferma dell’erezione della diocesi di Lubiana (1464). Attraverso i suoi viaggi e i suoi scritti\, contribuì in modo decisivo a far conoscere queste regioni ai contemporanei\, lasciando una testimonianza preziosa del passaggio dal tardo Medioevo alla prima età moderna. \nIl volume propone un’ampia antologia di testi originali di Piccolomini – presentati in latino e in traduzione italiana annotata – tra cui descrizioni delle terre slovene\, ritratti dei conti di Celje\, lettere scritte da Lubiana e numerose bolle pontificie. Molti dei testi sono inediti e\, per la quasi totalità\, offerti qui per la prima volta in traduzione italiana.
URL:https://triestecultura.it/evento/enea-silvio-piccolomini-pio-ii-tra-le-alpi-e-ladriatico-sulle-tracce-del-grande-umanista/
LOCATION:Biblioteca Civica Attilio Hortis\, via Madonna del Mare 13\, Trieste\, Trieste\, Italy
CATEGORIES:Presentazione libro
ATTACH;FMTTYPE=image/png:https://triestecultura.it/wp-content/uploads/2026/02/MPP16.03.26_PICCOLOMINI-1.png
END:VEVENT
BEGIN:VEVENT
DTSTART;TZID=Europe/Rome:20260213T173000
DTEND;TZID=Europe/Rome:20260213T173000
DTSTAMP:20260421T043512
CREATED:20260212T090310Z
LAST-MODIFIED:20260212T090310Z
UID:10005925-1771003800-1771003800@triestecultura.it
SUMMARY:Via Marconi & dintorni. Una passeggiata nel Borgo Franceschino
DESCRIPTION:Domani\, venerdì 13 febbraio alle ore 17.30 alla Biblioteca Civica Hortis (via della Madonna del Mare\, 13\, secondo piano) primo appuntamento con “Sentieri urbani: passeggiate tra parole e paesaggi\, due incontri dedicati alla scoperta di luoghi “minori” ma ricchi di memoria e significati. \nTrieste è spesso raccontata attraverso alcuni luoghi simbolici che ne riflettono la storia e l’immaginario letterario. Ma quali storie custodiscono gli spazi meno noti della città\, quelli che attraversiamo ogni giorno o che accompagnano le nostre passeggiate domenicali? \nA questa domanda prova a rispondere Sentieri urbani: passeggiate tra parole e paesaggi. \nL’iniziativa si inserisce nella cornice di Custodi di storie\, il ciclo di appuntamenti volto a far conoscere il patrimonio e i servizi al pubblico della Biblioteca civica “Attilio Hortis”\, proponendo nuovi sguardi sui materiali conservati e sulle possibilità di ricerca e approfondimento offerte alla cittadinanza. Attraverso il racconto di testi letterari\, immagini\, mappe antiche\, i partecipanti saranno accompagnati in un percorso che intreccia paesaggio urbano\, storia e letteratura. \nIl primo appuntamento è in programma domani\, venerdì 13 febbraio alle ore 17.30 con Via Marconi & dintorni. Una passeggiata nel Borgo Franceschino\, un itinerario alla scoperta delle trasformazioni che hanno segnato nel tempo questo settore della città. \nPartendo dalle suggestioni di Strade e rive di Trieste di Biagio Marin\, guida sentimentale attenta anche ai luoghi meno celebrati\, l’incontro ripercorre l’area compresa tra il Coroneo e il Giardino pubblico\, attraverso le tracce del suo vissuto umano e naturale. \nL’incontro sarà condotto da Angela Patrizia Bevilacqua\, bibliotecaria della Hortis\, che accompagnerà il pubblico tra fonti letterarie e risorse documentarie custodite presso la Biblioteca civica e altre collezioni. \nSentieri urbani invita così a rallentare lo sguardo e a riscoprire Trieste attraverso i suoi paesaggi quotidiani\, ascoltando le storie che ancora oggi continuano a raccontare. \nL’ingresso è libero fino ad esaurimento posti \ninfo: bib.hortis@comune.trieste.it | 040 675 8412
URL:https://triestecultura.it/evento/via-marconi-dintorni-una-passeggiata-nel-borgo-franceschino/
LOCATION:Biblioteca Civica Attilio Hortis\, via Madonna del Mare 13\, Trieste\, Trieste\, Italy
CATEGORIES:Evento
ATTACH;FMTTYPE=image/png:https://triestecultura.it/wp-content/uploads/2026/02/SENTIERI-URBANI1_BorgoFranceschino.png
END:VEVENT
BEGIN:VEVENT
DTSTART;VALUE=DATE:20200423
DTEND;VALUE=DATE:20200524
DTSTAMP:20260421T043512
CREATED:20250611T094313Z
LAST-MODIFIED:20250611T094313Z
UID:10004463-1587600000-1590192000@triestecultura.it
SUMMARY:Cosa leggi\, Trieste'
DESCRIPTION:È la nuova campagna social di LETS – Letteratura Trieste condivisa dal Sistema Bibliotecario Giuliano e dal Patto di Trieste per la Lettura.\nEd è l’invito a raccontare per immagini le proprie letture e a condividerle sui canali social di Letteratura Trieste\, delle biblioteche e dell’emeroteca del Comune di Trieste a iniziare da oggi\, 23 aprile\, Giornata mondiale del libro e del diritto d’autore\, e per tutto il mese di maggio\, come è ormai tradizione dedicato alla promozione della lettura con la campagna nazionale ll Maggio dei Libri.
URL:https://triestecultura.it/evento/cosa-leggi-trieste/
LOCATION:Biblioteca Civica Attilio Hortis\, via Madonna del Mare 13\, Trieste\, Trieste\, Italy
CATEGORIES:Evento
ATTACH;FMTTYPE=image/jpeg:https://triestecultura.it/wp-content/uploads/archivio/eventi/20190422_LETS_immagini_post_2020.jpg
END:VEVENT
BEGIN:VEVENT
DTSTART;VALUE=DATE:20190306
DTEND;VALUE=DATE:20190307
DTSTAMP:20260421T043512
CREATED:20250612T075312Z
LAST-MODIFIED:20250612T075312Z
UID:10005460-1551830400-1551830400@triestecultura.it
SUMMARY:100 anni di Unione alla Hortis
DESCRIPTION:È uscito da pochi giorni nelle librerie “Un secolo. Storia di 100 primavere” il libro sul centenario della Triestina calcio.A presentarlo alla stampa e al pubblico dei lettori triestini mercoledì 6 marzo alle ore 18.00 presso Biblioteca civica Hortis in via Madonna del mare 13 saranno l’autore Giovanni Proiettis e l’amatissimo giornalista sportivo Bruno Pizzul\, che ne firma la prefazione.\n“Un secolo. Storia di 100 primavere” non è il consueto libro storico sul calcio\, ma un vero racconto di squadra che dà spazio e voce alla tifoseria.\nNato a corollario della mostra al Salone degli Incanti che ha celebrato l’anniversario della Triestina e realizzato grazie al contributo di Fondazione CRT per i tipi di Luglio editore\, il volume narra il Novecento a Trieste tra guerre\, rinascite\, riappropriazioni identitarie colte da un punto di vista tutto particolare\, la curva alabardata di Montebello\, poi del Grezar e infine dello stadio Rocco.\nRaccontare la Triestina diventa così molto più che passare in rassegna cento anni di attività di una squadra di calcio: diventa raccontare la storia di generazioni di Triestini appassionati di sport e allo stesso tempo la vita di un’intera città.\nProprio per questo motivo il presidente del “Comitato Unione” Giorgio Della Valle ha scelto la Biblioteca Civica per la presentazione del libro. La Hortis è la biblioteca più alabardata di Trieste\, la cui missione consiste nel custodire e valorizzare i documenti che testimoniano la storia e la cultura della città.\nAppuntamento dunque domani alle 18.00 in via Madonna del mare 13 per celebrare ancora le cento primavere della Triestina.\nL’evento è a partecipazione gratuita ma i posti sono limitati.\nPer informazioni tel. 040 675 8200
URL:https://triestecultura.it/evento/100-anni-di-unione-alla-hortis/
LOCATION:Biblioteca Civica Attilio Hortis\, via Madonna del Mare 13\, Trieste\, Trieste\, Italy
CATEGORIES:Presentazione libro
ATTACH;FMTTYPE=image/jpeg:https://triestecultura.it/wp-content/uploads/archivio/eventi/100anniTriestina.jpg
END:VEVENT
END:VCALENDAR