BEGIN:VCALENDAR
VERSION:2.0
PRODID:-//Trieste Cultura - ECPv6.15.20//NONSGML v1.0//EN
CALSCALE:GREGORIAN
METHOD:PUBLISH
X-ORIGINAL-URL:https://triestecultura.it
X-WR-CALDESC:Eventi per Trieste Cultura
REFRESH-INTERVAL;VALUE=DURATION:PT1H
X-Robots-Tag:noindex
X-PUBLISHED-TTL:PT1H
BEGIN:VTIMEZONE
TZID:Europe/Rome
BEGIN:DAYLIGHT
TZOFFSETFROM:+0100
TZOFFSETTO:+0200
TZNAME:CEST
DTSTART:20140330T010000
END:DAYLIGHT
BEGIN:STANDARD
TZOFFSETFROM:+0200
TZOFFSETTO:+0100
TZNAME:CET
DTSTART:20141026T010000
END:STANDARD
BEGIN:DAYLIGHT
TZOFFSETFROM:+0100
TZOFFSETTO:+0200
TZNAME:CEST
DTSTART:20150329T010000
END:DAYLIGHT
BEGIN:STANDARD
TZOFFSETFROM:+0200
TZOFFSETTO:+0100
TZNAME:CET
DTSTART:20151025T010000
END:STANDARD
BEGIN:DAYLIGHT
TZOFFSETFROM:+0100
TZOFFSETTO:+0200
TZNAME:CEST
DTSTART:20160327T010000
END:DAYLIGHT
BEGIN:STANDARD
TZOFFSETFROM:+0200
TZOFFSETTO:+0100
TZNAME:CET
DTSTART:20161030T010000
END:STANDARD
BEGIN:DAYLIGHT
TZOFFSETFROM:+0100
TZOFFSETTO:+0200
TZNAME:CEST
DTSTART:20170326T010000
END:DAYLIGHT
BEGIN:STANDARD
TZOFFSETFROM:+0200
TZOFFSETTO:+0100
TZNAME:CET
DTSTART:20171029T010000
END:STANDARD
BEGIN:DAYLIGHT
TZOFFSETFROM:+0100
TZOFFSETTO:+0200
TZNAME:CEST
DTSTART:20180325T010000
END:DAYLIGHT
BEGIN:STANDARD
TZOFFSETFROM:+0200
TZOFFSETTO:+0100
TZNAME:CET
DTSTART:20181028T010000
END:STANDARD
BEGIN:DAYLIGHT
TZOFFSETFROM:+0100
TZOFFSETTO:+0200
TZNAME:CEST
DTSTART:20190331T010000
END:DAYLIGHT
BEGIN:STANDARD
TZOFFSETFROM:+0200
TZOFFSETTO:+0100
TZNAME:CET
DTSTART:20191027T010000
END:STANDARD
BEGIN:DAYLIGHT
TZOFFSETFROM:+0100
TZOFFSETTO:+0200
TZNAME:CEST
DTSTART:20200329T010000
END:DAYLIGHT
BEGIN:STANDARD
TZOFFSETFROM:+0200
TZOFFSETTO:+0100
TZNAME:CET
DTSTART:20201025T010000
END:STANDARD
BEGIN:DAYLIGHT
TZOFFSETFROM:+0100
TZOFFSETTO:+0200
TZNAME:CEST
DTSTART:20210328T010000
END:DAYLIGHT
BEGIN:STANDARD
TZOFFSETFROM:+0200
TZOFFSETTO:+0100
TZNAME:CET
DTSTART:20211031T010000
END:STANDARD
BEGIN:DAYLIGHT
TZOFFSETFROM:+0100
TZOFFSETTO:+0200
TZNAME:CEST
DTSTART:20220327T010000
END:DAYLIGHT
BEGIN:STANDARD
TZOFFSETFROM:+0200
TZOFFSETTO:+0100
TZNAME:CET
DTSTART:20221030T010000
END:STANDARD
BEGIN:DAYLIGHT
TZOFFSETFROM:+0100
TZOFFSETTO:+0200
TZNAME:CEST
DTSTART:20230326T010000
END:DAYLIGHT
BEGIN:STANDARD
TZOFFSETFROM:+0200
TZOFFSETTO:+0100
TZNAME:CET
DTSTART:20231029T010000
END:STANDARD
BEGIN:DAYLIGHT
TZOFFSETFROM:+0100
TZOFFSETTO:+0200
TZNAME:CEST
DTSTART:20240331T010000
END:DAYLIGHT
BEGIN:STANDARD
TZOFFSETFROM:+0200
TZOFFSETTO:+0100
TZNAME:CET
DTSTART:20241027T010000
END:STANDARD
BEGIN:DAYLIGHT
TZOFFSETFROM:+0100
TZOFFSETTO:+0200
TZNAME:CEST
DTSTART:20250330T010000
END:DAYLIGHT
BEGIN:STANDARD
TZOFFSETFROM:+0200
TZOFFSETTO:+0100
TZNAME:CET
DTSTART:20251026T010000
END:STANDARD
BEGIN:DAYLIGHT
TZOFFSETFROM:+0100
TZOFFSETTO:+0200
TZNAME:CEST
DTSTART:20260329T010000
END:DAYLIGHT
BEGIN:STANDARD
TZOFFSETFROM:+0200
TZOFFSETTO:+0100
TZNAME:CET
DTSTART:20261025T010000
END:STANDARD
END:VTIMEZONE
BEGIN:VEVENT
DTSTART;VALUE=DATE:20250628
DTEND;VALUE=DATE:20250630
DTSTAMP:20260421T042524
CREATED:20250718T125827Z
LAST-MODIFIED:20250718T131148Z
UID:10005755-1751068800-1751241599@triestecultura.it
SUMMARY:Borgo Cosplay
DESCRIPTION:Cosplayer\, fumetti\, videogiochi\, board game\, giochi di ruolo mercato e food\nNelle giornate di sabato 28 e domenica 29 giugno il mondo dei cosplayer\, del fumetto e dei giochi torna protagonista alla Biblioteca Comunale Stelio Mattioni di Borgo San Sergio\, Trieste. Già punto di riferimento per gli amanti del genere grazie alla sua vastissima collezione di fumetti\, la biblioteca di via Laura Silvano Petracco 10\, ospiterà la seconda edizione di Borgo Cosplay\, un evento organizzato dal Comune di Trieste e curato da La Cappella Underground\, che dopo il successo del 2024 tornerà offrire una nuova occasione di incontro e condivisione per appassionate e appassionati della cultura nerd della città e non solo. In programma nell’ultimo weekend di giugno ci saranno una sfilata di cosplayer\, workshop di fumetto\, incontri su videogiochi\, giochi da tavolo e di ruolo\, talk\, momenti di spettacolo\, una mostra di tavole a fumetti\, proiezioni di cortometraggi\, street food e un mercatino dedicato alle realtà artigianali locali\, alla creatività e alla passione per la cultura pop.
URL:https://triestecultura.it/evento/borgo-cosplay-3/
LOCATION:Biblioteca Comunale Stelio Mattioni\, Via Petracco\, 10\, Trieste\, Trieste\, Italy
CATEGORIES:Festival,Mostra mercato
ATTACH;FMTTYPE=image/jpeg:https://triestecultura.it/wp-content/uploads/2025/07/contents-images-news-borgo_cosplay_2025-png-400-320.jpg
END:VEVENT
BEGIN:VEVENT
DTSTART;VALUE=DATE:20240928
DTEND;VALUE=DATE:20240930
DTSTAMP:20260421T042524
CREATED:20250612T084057Z
LAST-MODIFIED:20250718T131151Z
UID:10005610-1727481600-1727568000@triestecultura.it
SUMMARY:Borgo Cosplay
DESCRIPTION:Cosplayer\, fumetti\, retrogame\, board game e giochi di ruoloNelle giornate di sabato 28 e domenica 29 settembre il mondo dei cosplayer\, del fumetto e dei giochi sbarca alla Biblioteca Comunale Stelio Mattioni di Borgo San Sergio\, Trieste. Già punto di riferimento per gli amanti del genere grazie alla sua vastissima collezione di fumetti\, la biblioteca di via Laura Silvano Petracco 10\, ospiterà Borgo Cosplay\, un evento organizzato dal Comune di Trieste e curato da La Cappella Underground pensato per offrire una nuova occasione di incontro e condivisione per appassionate e appassionati della cultura nerd della città e non solo. In programma nell’ultimo weekend di settembre ci saranno infatti una sfilata di cosplayer\, workshop di fumetto\, incontri su videogiochi\, giochi da tavolo e di ruolo\, talk\, momenti di spettacolo e un mercatino dedicato alle realtà artigianali locali\, alla creatività e alla passione per la cultura pop. \nBorgo Cosplay è un evento interamente gratuito a ingresso libero\, ma per alcune attività come i laboratori di fumetto per bambini e ragazzi\, le dimostrazioni di giochi di ruolo e i workshop dedicati al mondo del cosplayingè necessaria la prenotazione sul sito www.lacappellaunderground.org/borgocosplay. Organizzato dal Comune di Trieste\, Borgo Cosplay è a cura de La Cappella Underground\, con la collaborazione di Biblioteca Comunale Stelio Mattioni\, Associazione 12 bit\, Accademia di Fumetto\, Arti grafiche\, Design\, Moda di Trieste\, Associazione Alea\, Bazinga Eventi\, Fantasylandia\, Associazione Cavalieri dell’Esagono\, Associazione La costola dei barbari.
URL:https://triestecultura.it/evento/borgo-cosplay-2/
LOCATION:Biblioteca Comunale Stelio Mattioni\, Via Petracco\, 10\, Trieste\, Trieste\, Italy
CATEGORIES:Festival
ATTACH;FMTTYPE=image/jpeg:https://triestecultura.it/wp-content/uploads/archivio/eventi/PRO01_programma.jpg
END:VEVENT
BEGIN:VEVENT
DTSTART;VALUE=DATE:20171215
DTEND;VALUE=DATE:20171216
DTSTAMP:20260421T042524
CREATED:20250610T092305Z
LAST-MODIFIED:20250610T092305Z
UID:10003533-1513296000-1513296000@triestecultura.it
SUMMARY:L’Inferno di Dante
DESCRIPTION:Dopo la prima assoluta avvenuta nel 2016 a New York\, venerdì 15 dicembre alle ore 18.30\, la biblioteca comunale Stelio Mattioni di Via Petracco 10 (www.bibliotecasteliomattioni.it) propone la proiezione con sonorizzazione/concerto dal vivo di Marco Castelli del film muto “L’inferno di Dante”.\nL’Inferno film muto dei primi anni del 900\,di Francesco Bertolini\, Giuseppe de Liguoro e Adolfo Padovan\, prodotto dalla Milano Films\, è il primo lungometraggio della storia cinematografica italiana.\nAdattamento della Prima Cantica della Divina Commedia\, è stato a lungo disponibile solo in copie danneggiate\, mutile o censurate\, Inferno è stato restituito alla sua edizione princeps\, alla corretta successione delle inquadrature\, alla pienezza della sua luce e dei suoi colori da un lungo lavoro di restauro curato dalla Cineteca di Bologna. Cent’anni dopo\, lo spettatore si trova nuovamente avvolto tra la desolazione delle lande bucate dai sepolcri aperti\, bagliori repentini\, la petrosità degli orridi\, l’acume dei roveti secchi\, dannati striscianti o che procedono decapitati mutilati sventrati\, le fattezze bizzarre delle creature mitologiche\, le mostruose metamorfosi… \nInformazioni: biblioteca comunale Stelio Mattioni Via Petracco 10 (Borgo San Sergio) \ntel 040823893\, bus linea 21. \nbibmattioni@comune.trieste.it \nwww.bibliotecasteliomattioni.it \nwww.facebook.com/bibliotecamattioni
URL:https://triestecultura.it/evento/linferno-di-dante/
LOCATION:Biblioteca Comunale Stelio Mattioni\, Via Petracco\, 10\, Trieste\, Trieste\, Italy
CATEGORIES:Evento
ATTACH;FMTTYPE=image/jpeg:https://triestecultura.it/wp-content/uploads/archivio/eventi/Inferno.jpg
END:VEVENT
BEGIN:VEVENT
DTSTART;VALUE=DATE:20171206
DTEND;VALUE=DATE:20171207
DTSTAMP:20260421T042524
CREATED:20250610T092247Z
LAST-MODIFIED:20250610T092247Z
UID:10003519-1512518400-1512518400@triestecultura.it
SUMMARY:Incontri al Cinema: Non sposate le mie figlie!
DESCRIPTION:La biblioteca comunale Stelio Mattioni in collaborazione con il progetto Habitat-Microarea organizza ogni primo mercoledì del mese INCONTRI AL CINEMA ad ingresso gratuito.Mercoledì 6 dicembre 2017 ore 16.00 NON SPOSATE LE MIE FIGLIE di Philippe De Chauveron. \nIl film è stato distribuito nelle sale cinematografiche francesi il 16 aprile 2014 diventando il film con il maggior incasso dell’anno entrando della lista dei 10 migliori incassi di sempre. \nClaude e Marie Verneuil sono una tranquilla coppia borghese cattolica e conservatrice che ha allevato 4 figlie secondo i principi di tolleranza\, integrazione e apertura che sono nei geni della cultura francese. Ma il destino li mette a dura prova – non una ma ben 4 volte! Il primo boccone amaro arriva infatti quando la loro primogenita decide di sposare un musulmano. Ma poi la seconda sceglie un ebreo e la terza un cinese. Ormai tutte le loro speranze di assistere ad un tradizionale matrimonio in chiesa vengono riposte sulla figlia minore…
URL:https://triestecultura.it/evento/incontri-al-cinema-non-sposate-le-mie-figlie/
LOCATION:Biblioteca Comunale Stelio Mattioni\, Via Petracco\, 10\, Trieste\, Trieste\, Italy
CATEGORIES:Evento
ATTACH;FMTTYPE=image/jpeg:https://triestecultura.it/wp-content/uploads/archivio/eventi/cinema-biblioteca2017_2.jpg
END:VEVENT
BEGIN:VEVENT
DTSTART;VALUE=DATE:20171108
DTEND;VALUE=DATE:20171109
DTSTAMP:20260421T042524
CREATED:20250610T092154Z
LAST-MODIFIED:20250610T092154Z
UID:10003483-1510099200-1510099200@triestecultura.it
SUMMARY:Incontri al Cinema: Benvenuti al Sud
DESCRIPTION:La biblioteca comunale Stelio Mattioni in collaborazione con il progetto Habitat-Microarea organizza ogni primo mercoledì del mese INCONTRI AL CINEMA ad ingresso gratuitoMercoledì 8 novembre 2017 alle ore 16.00 BENVENUTI AL SUD di Luca Miniero. \nBenvenuti al Sud è un gradevole e divertente film che racconta la storia di Alberto (Claudio Bisio)\, responsabile dell’ufficio postale di una cittadina della Brianza disposto a tutto pur di ottenere il trasferimento a Milano\, anche sotto le continue pressioni della moglie Silvia (Angela Finocchiaro).\nDopo essersi spacciato per falso invalido pur di ottenere il trasferimento\, viene scoperto e per punizione trasferito al sud\, a Castellabate vicino a Napoli.\nAlberto parte così carico dei suoi pregiudizi sulle persone meridionali alla volta di questo sperduto comune.\nSuperate le difficoltà iniziali\, Alberto troverà in quella terra così distante da Milano simpatici colleghi\, una popolazione ospitale “stranamente” non composta da camorristi\, e un nuovo amico\, il postino Mattia (Alessandro Siani).\nQuando anche la moglie Silvia lo raggiungerà al Sud ne succederanno delle belle.
URL:https://triestecultura.it/evento/incontri-al-cinema-benvenuti-al-sud/
LOCATION:Biblioteca Comunale Stelio Mattioni\, Via Petracco\, 10\, Trieste\, Trieste\, Italy
CATEGORIES:Evento
ATTACH;FMTTYPE=image/jpeg:https://triestecultura.it/wp-content/uploads/archivio/eventi/cinema-biblioteca2017_1.jpg
END:VEVENT
BEGIN:VEVENT
DTSTART;VALUE=DATE:20171004
DTEND;VALUE=DATE:20171005
DTSTAMP:20260421T042524
CREATED:20250610T092110Z
LAST-MODIFIED:20250610T092110Z
UID:10003451-1507075200-1507075200@triestecultura.it
SUMMARY:Incontri al Cinema: Quasi Amici
DESCRIPTION:La biblioteca comunale Stelio Mattioni in collaborazione con il progetto Habitat-Microarea organizza ogni primo mercoledì del mese INCONTRI AL CINEMA ad ingresso gratuito.Mercoledì 4 ottobre 2017 alle ore 16.00 QUASI AMICI di Oliver Nakache e Eric Toledano. \nIl film Qasi amici ha ottenuto in Francia un immenso successo al di sopra di ogni aspettativa\, ribadisce qualcosa che chi fa cinema tende spesso a dimenticare: la gente ha bisogno di storie\, possibilmente semplici\, capaci di toccare quelle corde emotive che se pizzicate suscitino le due reazioni più genuine che dall’infanzia alla terza età scortano la vita di ogni essere umano: la risata e il pianto. I registi e sceneggiatori Eric Toledano e Olivier Nakache ce l’hanno fatta\, narrando l’incontro tra l’aristocratico tetraplegico Philippe Pozzo di Borgo e il badante di umili origini algerine Abdel Sellou. Un film divertente e commovente allo stesso tempo.
URL:https://triestecultura.it/evento/incontri-al-cinema-quasi-amici/
LOCATION:Biblioteca Comunale Stelio Mattioni\, Via Petracco\, 10\, Trieste\, Trieste\, Italy
CATEGORIES:Evento
ATTACH;FMTTYPE=image/jpeg:https://triestecultura.it/wp-content/uploads/archivio/eventi/cinema-biblioteca2017.jpg
END:VEVENT
BEGIN:VEVENT
DTSTART;VALUE=DATE:20160607
DTEND;VALUE=DATE:20170201
DTSTAMP:20260421T042524
CREATED:20250610T083615Z
LAST-MODIFIED:20250610T083621Z
UID:10003065-1465257600-1485820800@triestecultura.it
SUMMARY:Cappuccetto Rosso & Co.
DESCRIPTION:Organizzato dal Comune di Trieste in collaborazione con il Goethe-Institut Triest\, il ricco programma  che attraverserà i prossimi mesi d’estate e d’autunno fino a inoltrarsi nell’inverno\, comprenderà tanti incontri\, con giochi\, laboratori\, concorsi di disegno e presentazione di libri in tema.\nPrimo appuntamento\, la mostra che proporrà le illustrazioni di Fabian Negrin per la nuova edizione delle “Fiabe” dei Fratelli Grimm uscita per i tipi di Donzelli nel 2015.\nJacob e Wilhelm Grimm raccolsero\, nelle loro “Kinder- und Hausmärchen”\, le fiabe popolari che fino a quel momento (siamo nella prima metà dell’800) erano state tramandate solo oralmente.\nOra\, Rosaspina\, Cappuccetto Rosso\, Biancaneve\, Raperonzolo\, principi e principesse\, tutti personaggi fiabeschi che pensavamo di conoscere bene\, appaiono nuovamente in quest’affascinante edizione sotto una nuova luce che Negrin ha interpretato in modo fantasioso e suggestivo.\nLa mostra\, a ingresso libero\, resterà aperta fino al 31 gennaio 2017\, durante gli orari di apertura della Biblioteca: lunedì\, mercoledì e venerdì dalle ore 15 alle 19; martedì\, giovedì e sabato dalle 9 alle 13.\n(info: Biblioteca “Mattioni” tel. 040-823893\, bibmattioni@comune.trieste.it\, www.bibliotecasteliomattioni.it. – Goethe-Institut Triest\, tel. 040-635763\, info@triest.goethe.org\, www.goethe.de/trieste)
URL:https://triestecultura.it/evento/cappuccetto-rosso-co/
LOCATION:Biblioteca Comunale Stelio Mattioni\, Via Petracco\, 10\, Trieste\, Trieste\, Italy
CATEGORIES:Mostra
ATTACH;FMTTYPE=image/jpeg:https://triestecultura.it/wp-content/uploads/archivio/eventi/cappuccetto-rosso.jpg
END:VEVENT
BEGIN:VEVENT
DTSTART;VALUE=DATE:20151125
DTEND;VALUE=DATE:20151126
DTSTAMP:20260421T042524
CREATED:20250610T081853Z
LAST-MODIFIED:20250610T081853Z
UID:10002980-1448409600-1448409600@triestecultura.it
SUMMARY:La trilogia dell'AmorTe
DESCRIPTION:In occasione della Giornata Internazionale  per l’eliminazione della violenza contro le donne\, in contemporanea nazionale teatrale verrà portato in scena il testo di Francesco Olivieri ‘La trilogia dell’AmorTe’.
URL:https://triestecultura.it/evento/la-trilogia-dellamorte/
LOCATION:Biblioteca Comunale Stelio Mattioni\, Via Petracco\, 10\, Trieste\, Trieste\, Italy
END:VEVENT
END:VCALENDAR