BEGIN:VCALENDAR
VERSION:2.0
PRODID:-//Trieste Cultura - ECPv6.15.20//NONSGML v1.0//EN
CALSCALE:GREGORIAN
METHOD:PUBLISH
X-ORIGINAL-URL:https://triestecultura.it
X-WR-CALDESC:Eventi per Trieste Cultura
REFRESH-INTERVAL;VALUE=DURATION:PT1H
X-Robots-Tag:noindex
X-PUBLISHED-TTL:PT1H
BEGIN:VTIMEZONE
TZID:Europe/Rome
BEGIN:DAYLIGHT
TZOFFSETFROM:+0100
TZOFFSETTO:+0200
TZNAME:CEST
DTSTART:20160327T010000
END:DAYLIGHT
BEGIN:STANDARD
TZOFFSETFROM:+0200
TZOFFSETTO:+0100
TZNAME:CET
DTSTART:20161030T010000
END:STANDARD
BEGIN:DAYLIGHT
TZOFFSETFROM:+0100
TZOFFSETTO:+0200
TZNAME:CEST
DTSTART:20170326T010000
END:DAYLIGHT
BEGIN:STANDARD
TZOFFSETFROM:+0200
TZOFFSETTO:+0100
TZNAME:CET
DTSTART:20171029T010000
END:STANDARD
BEGIN:DAYLIGHT
TZOFFSETFROM:+0100
TZOFFSETTO:+0200
TZNAME:CEST
DTSTART:20180325T010000
END:DAYLIGHT
BEGIN:STANDARD
TZOFFSETFROM:+0200
TZOFFSETTO:+0100
TZNAME:CET
DTSTART:20181028T010000
END:STANDARD
END:VTIMEZONE
BEGIN:VEVENT
DTSTART;VALUE=DATE:20171126
DTEND;VALUE=DATE:20171127
DTSTAMP:20260421T044753
CREATED:20250610T092228Z
LAST-MODIFIED:20250610T092228Z
UID:10003505-1511654400-1511654400@triestecultura.it
SUMMARY:Ultima visita guidata all’esposizione MARE
DESCRIPTION:Con soddisfazione si è lieti di comunicare che la mostra “MARE. Dalla libera navigazione e dai porti franchi\, all’attività portuale e di mare in Venezia Giulia\, Fiume e Dalmazia” allestita dall’Istituto Regionale per la Cultura Istriano-fiumano-dalmata al piano terra del museo istriano\, in via Torino 8\, ha destato grande interesse e notevole affluenza di pubblico\, tanto da raggiungere e superare  i 14.000 visitatori. Rimangono ancora pochi giorni per accedere all’esposizione che si concluderà domenica 26 novembre.Il notevole impianto scenografico proposto\, con l’esposizione di stampe e litografie che si aprono a fisarmonica per lunghezze dai 3 agli oltre 5 metri con altezza di appena una ventina di centimetri\, ha coinvolto significativamente il pubblico.\nA grande richiesta dei visitatori\, verrà effettuata l’ultima visita guidata all’esposizione giovedì 23 novembre alle ore 17.\nL’ingresso alla mostra e la visita\, condotta dal direttore dell’IRCI\, Piero Delbello in collaborazione con Sergio Zorzon\, sono gratuiti.\nLa mostra parte dalla ricorrenza dei trecento anni dall’editto di Carlo VI datato al 1717\, che concedeva la libera navigazione in Adriatico\, e dalla successiva patente di porti franchi data a Trieste e Fiume (1719)\, e racconta con oggetti\, placati e varie immagini originali l’evoluzione delle realtà portuali da Trieste a Fiume e alla Dalmazia. Sono proposte stampe e carte geografiche a partire da un incunabolo del 1400 sino a tutto l’800 e il percorso viene completato con fotografie e cartoline tra la fine dell’800 e i primi del ‘900.
URL:https://triestecultura.it/evento/ultima-visita-guidata-allesposizione-mare/
LOCATION:Biblioteca dell’Istituto regionale per la storia della Resistenza e dell’età contemporanea nel Friuli Venezia Giulia\, Salita di Gretta\, Trieste\, Trieste\, Italy
CATEGORIES:Visita guidata
ATTACH;FMTTYPE=image/jpeg:https://triestecultura.it/wp-content/uploads/archivio/eventi/030r.jpg
END:VEVENT
END:VCALENDAR