BEGIN:VCALENDAR
VERSION:2.0
PRODID:-//Trieste Cultura - ECPv6.15.20//NONSGML v1.0//EN
CALSCALE:GREGORIAN
METHOD:PUBLISH
X-WR-CALNAME:Trieste Cultura
X-ORIGINAL-URL:https://triestecultura.it
X-WR-CALDESC:Eventi per Trieste Cultura
REFRESH-INTERVAL;VALUE=DURATION:PT1H
X-Robots-Tag:noindex
X-PUBLISHED-TTL:PT1H
BEGIN:VTIMEZONE
TZID:Europe/Rome
BEGIN:DAYLIGHT
TZOFFSETFROM:+0100
TZOFFSETTO:+0200
TZNAME:CEST
DTSTART:20150329T010000
END:DAYLIGHT
BEGIN:STANDARD
TZOFFSETFROM:+0200
TZOFFSETTO:+0100
TZNAME:CET
DTSTART:20151025T010000
END:STANDARD
BEGIN:DAYLIGHT
TZOFFSETFROM:+0100
TZOFFSETTO:+0200
TZNAME:CEST
DTSTART:20160327T010000
END:DAYLIGHT
BEGIN:STANDARD
TZOFFSETFROM:+0200
TZOFFSETTO:+0100
TZNAME:CET
DTSTART:20161030T010000
END:STANDARD
BEGIN:DAYLIGHT
TZOFFSETFROM:+0100
TZOFFSETTO:+0200
TZNAME:CEST
DTSTART:20170326T010000
END:DAYLIGHT
BEGIN:STANDARD
TZOFFSETFROM:+0200
TZOFFSETTO:+0100
TZNAME:CET
DTSTART:20171029T010000
END:STANDARD
BEGIN:DAYLIGHT
TZOFFSETFROM:+0100
TZOFFSETTO:+0200
TZNAME:CEST
DTSTART:20180325T010000
END:DAYLIGHT
BEGIN:STANDARD
TZOFFSETFROM:+0200
TZOFFSETTO:+0100
TZNAME:CET
DTSTART:20181028T010000
END:STANDARD
BEGIN:DAYLIGHT
TZOFFSETFROM:+0100
TZOFFSETTO:+0200
TZNAME:CEST
DTSTART:20190331T010000
END:DAYLIGHT
BEGIN:STANDARD
TZOFFSETFROM:+0200
TZOFFSETTO:+0100
TZNAME:CET
DTSTART:20191027T010000
END:STANDARD
BEGIN:DAYLIGHT
TZOFFSETFROM:+0100
TZOFFSETTO:+0200
TZNAME:CEST
DTSTART:20200329T010000
END:DAYLIGHT
BEGIN:STANDARD
TZOFFSETFROM:+0200
TZOFFSETTO:+0100
TZNAME:CET
DTSTART:20201025T010000
END:STANDARD
BEGIN:DAYLIGHT
TZOFFSETFROM:+0100
TZOFFSETTO:+0200
TZNAME:CEST
DTSTART:20210328T010000
END:DAYLIGHT
BEGIN:STANDARD
TZOFFSETFROM:+0200
TZOFFSETTO:+0100
TZNAME:CET
DTSTART:20211031T010000
END:STANDARD
END:VTIMEZONE
BEGIN:VEVENT
DTSTART;VALUE=DATE:20200227
DTEND;VALUE=DATE:20200228
DTSTAMP:20260421T042303
CREATED:20250611T094006Z
LAST-MODIFIED:20250611T094006Z
UID:10004445-1582761600-1582761600@triestecultura.it
SUMMARY:Un triestino a Milano\, nell’editoria. Il profilo di Glauco Arneri
DESCRIPTION:Giovedì 27 febbraio 2020 – ore 16.45\nSergio Franco e Valerio Fiandra\nUna ricostruzione della figura e dell’attività di Glauco Arneri\, un triestino che – dopo aver\nfrequentato l’università a Firenze\, dove fu allievo di Gaetano Salvemini e di Eugenio Garin\, con cui\nsi laureò con una tesi su John Dewey – fu assunto dalla casa editrice Mondadori dove\, a fianco di\nAlberto Mondadori\, divenne redattore e poi dirigente editoriale e responsabile di alcune collane\nprestigiose\, tra le quali gli “Oscar”. Dopo la quiescenza – oltre a coltivare i propri interessi di\nsempre per l’arte la musica e il teatro – Arneri continuò la sua attività di consulente editoriale\ndando\, tra l’altro\, un grande contributo alle pubblicazioni del Touring Club Italiano\, curando le\nmemorie del padre Arrigo Arneri\, e pubblicando una Storia di Trieste dalle Origini ai giorni nostri\,\nracconto storico che voleva rivolgersi a un pubblico giovanile per fare opera di divulgazione e\nstimolo a nuove ricerche\, e che appare improntato a grande serenità e obiettività.
URL:https://triestecultura.it/evento/un-triestino-a-milano-nelleditoria-il-profilo-di-glauco-arneri/
LOCATION:Biblioteca Statale Stelio Crise\, Largo Papa Giovanni XXIII\, 6
CATEGORIES:Conferenza
ATTACH;FMTTYPE=image/jpeg:https://triestecultura.it/wp-content/uploads/archivio/eventi/contents-images-news-minervali-jpg-1400-933_2.jpg
END:VEVENT
BEGIN:VEVENT
DTSTART;VALUE=DATE:20200220
DTEND;VALUE=DATE:20200221
DTSTAMP:20260421T042303
CREATED:20250611T093907Z
LAST-MODIFIED:20250611T093907Z
UID:10004438-1582156800-1582156800@triestecultura.it
SUMMARY:Il teatro di Tomizza:  dalla tragedia carsica ai processi per eresia
DESCRIPTION:Giovedì 20 febbraio 2020 – ore 16.45Giovedì 20 febbraio\, alle ore 16.45\, presso la Biblioteca Statale Stelio Crise\, Paolo Quazzolo\, professore associato di Storia del Teatro presso l’Università degli Studi di Trieste\, presenterà i sui studi riguardo i lavori come autore drammatico di Fulvio Tomizza. Il tema sarà introdotto dal vicepresidente della Società di Minerva\, il prof. Elvio Guagnini. \nL’interesse dello scrittore per il teatro nasce sin dagli anni della formazione\, quando frequenta l’Accademia d’Arte Drammatica di Belgrado e\, più tardi\, quando lavora a Radio Capodistria come autore di sceneggiati radiofonici. Ma è agli inizi degli anni Sessanta che il suo interesse per la scena si manifesta in modo decisivo\, con la composizione del primo testo drammatico\, quella Vera Verk che sarà messa in scena dal Teatro Stabile di Trieste nel 1963 con un cast d’eccezione. Al fianco delle opere che hanno conosciuto una realizzazione scenica\, Tomizza ha lasciato alcuni testi drammatici inediti e sinora mai rappresentati. Tutti i suoi lavori rivelano una forte complementarietà fra la produzione narrativa e quella teatrale\, e confermano l’attenzione verso tematiche spesso legate al mondo rurale\, di cui vengono colti i drammatici contrasti\, le inesorabili trasformazioni\, le inquietanti ombre gettate da un passato che incombe minaccioso sulla vita della comunità.
URL:https://triestecultura.it/evento/il-teatro-di-tomizza-dalla-tragedia-carsica-ai-processi-per-eresia/
LOCATION:Biblioteca Statale Stelio Crise\, Largo Papa Giovanni XXIII\, 6
CATEGORIES:Conferenza
ATTACH;FMTTYPE=image/jpeg:https://triestecultura.it/wp-content/uploads/archivio/eventi/contents-images-news-minervali-jpg-1400-933_1.jpg
END:VEVENT
BEGIN:VEVENT
DTSTART;VALUE=DATE:20200213
DTEND;VALUE=DATE:20200214
DTSTAMP:20260421T042303
CREATED:20250611T093454Z
LAST-MODIFIED:20250611T093454Z
UID:10004426-1581552000-1581552000@triestecultura.it
SUMMARY:Premi Minerva d’Argento
DESCRIPTION:Consegna dei Premi Minerva d’Argento per tesi di laurea e di dottorato su tematiche riguardantiTrieste e il suo contesto culturale: un’iniziativa che – istituita molti anni fa dal presidente Gino\nPavan – qualifica l’attività della Società per la sua attenzione al mondo della ricerca e ai giovani.
URL:https://triestecultura.it/evento/premi-minerva-dargento/
LOCATION:Biblioteca Statale Stelio Crise\, Largo Papa Giovanni XXIII\, 6
CATEGORIES:Evento
ATTACH;FMTTYPE=image/jpeg:https://triestecultura.it/wp-content/uploads/archivio/eventi/contents-images-news-minervali-jpg-1400-933.jpg
END:VEVENT
BEGIN:VEVENT
DTSTART;VALUE=DATE:20200109
DTEND;VALUE=DATE:20200131
DTSTAMP:20260421T042303
CREATED:20250611T092914Z
LAST-MODIFIED:20250611T092914Z
UID:10004382-1578528000-1580342400@triestecultura.it
SUMMARY:Giovedì Minervali
DESCRIPTION:Il mese di gennaio 2020 è dedicato alla storia della fotografia a Trieste\, i protagonisti e personaggi.Trieste ha avuto da sempre una grande passione per la fotografia: in città\, dalla nascita di quest’arte\, sono esistiti più di duecento laboratori\, che hanno operato con le tecniche più moderne dal 1840 sino alla metà del’900. \nIl primo appuntamento minervale del 2020\, giovedì 9 gennaio alle 16.45 presso la Biblioteca Statale Stelio Crise\, assieme al Dott. Roberto Cassanelli\, Direttore del Segretariato Regionale MiBACT\, sarà riservato ad un focus sul medico e fotografo\, per passione\, Arturo Castiglioni. Verranno illustrate per la prima volta foto legate alla sua esperienza di viaggiatore. L’incontro vuole essere occasione per scansionare tutte le fotografie – circa un centinaio e ancora inedite – da lui acquistate tra il 1899 e il 1908 e relative a Costantinopoli. Queste foto costituiscono un fondo significativo e riconducibile per lo più allo studio fotografico Sebah & Joaillier. L’archivio – o meglio\, quel che ne resta dopo l’esilio in americano – del medico-fotografo Arturo Castiglioni e composto da diverse carte\, libri e fotografie\, si trova a Milano\, molto ben celato ma comunque conservato presso un’istituzione pubblica.
URL:https://triestecultura.it/evento/giovedi-minervali-7/
LOCATION:Biblioteca Statale Stelio Crise\, Largo Papa Giovanni XXIII\, 6
CATEGORIES:Conferenza
ATTACH;FMTTYPE=image/jpeg:https://triestecultura.it/wp-content/uploads/archivio/eventi/contents-images-news-contents-images-news-giovedi-minervali-jpg-1400-933-jpg-1400-933.jpg
END:VEVENT
BEGIN:VEVENT
DTSTART;VALUE=DATE:20191109
DTEND;VALUE=DATE:20191216
DTSTAMP:20260421T042303
CREATED:20250611T085530Z
LAST-MODIFIED:20250624T102654Z
UID:10004292-1573257600-1576368000@triestecultura.it
SUMMARY:Fotografia Zero Pixel Eureka!
DESCRIPTION:Dal 9 novembre al 15 dicembre 2019\, la sesta edizione di Fotografia Zero Pixel con il tema Eureka!\, omaggio alla Genialità e a Leonardo\, esplorerà la tecnologia\,la scienza e la ricerca al servizio dell’arte fotografica\, ovviamente\, senza il digitale.\nVenti eventi\, tra mostre\, conferenze\, incontri\, workshop e documentari\, saranno dedicati sia alla regina delle scoperte e delle invenzioni\, la Scienza\, di cui Trieste\nsara’ capitale con ESOF2020\, sia al genio di tutti i tempi Leonardo del quale ricorrono i 500 anni della scomparsa.\nVi aspettiamo il 9 novembre all’inaugurazione del festival con tutta la collettiva Eureka!\, presso la Biblioteca Statale Stelio Crise \, in Largo Papa Giovanni n. 6
URL:https://triestecultura.it/evento/fotografia-zero-pixel-eureka/
LOCATION:Biblioteca Statale Stelio Crise\, Largo Papa Giovanni XXIII\, 6
CATEGORIES:Mostra
ATTACH;FMTTYPE=image/jpeg:https://triestecultura.it/wp-content/uploads/archivio/eventi/zeropixel_1.jpg
END:VEVENT
BEGIN:VEVENT
DTSTART;VALUE=DATE:20190502
DTEND;VALUE=DATE:20190531
DTSTAMP:20260421T042303
CREATED:20250611T081610Z
LAST-MODIFIED:20250611T081610Z
UID:10004064-1556755200-1559174400@triestecultura.it
SUMMARY:Giovedì Minervali
DESCRIPTION:I PRIMI 300 ANNI DEL PORTO DI TRIESTE.\nNel solco della tradizione perseguita dalla Minerva nella valorizzazione delle vicende storiche di Trieste e anche in stretta connessione con l’attualità\, durante il mese di maggio 2019\, gli incontri saranno dedicati al Porto di Trieste. Si intende così celebrare l’anniversario della proclamazione del Porto Franco\, avvenuta 300 anni fa\, il 18 marzo 1719\, ad opera di Carlo VI che concedeva a Trieste la “patente”. \nI Giovedì Minervali del mese di maggio sono organizzati con il patrocinio del FAI – Delegazione di Trieste: il Fondo Ambiente Italiano si può considerare a tutti gli effetti custode della nostra memoria collettiva\, grazie al suo lavoro nella tutela e coinvolgimento dei giovani nella conoscenza valorizzazione del nostro patrimonio storico\, artistico e naturale. Un custode vigile e attento affinché nulla vada disperso della nostra storia in quanto “un popolo senza passato è un popolo senza futuro”\, motto in sintonia con i valori della Società di Minerva. A Trieste la Delegazione e il Gruppo Fai Giovani ha aperto alle visite il Porto Vecchio nel 2016\, durante le Giornate FAI di Primavera che hanno accolto migliaia di persone curiose di scoprire una fetta di città sconosciuta. \nGli incontri si terranno\, come di consueto\, presso la Sala conferenze della Biblioteca Statale “Stelio Crise” sita in Largo Papa Giovanni XXIII 6 nelle giornate di giovedì 2\, 9\, 16\, 23 e 30 maggio 2019 alle ore 16.45. \nIl primo appuntamento\, giovedì 2 maggio\, vedrà protagonista Giulia Delogu (Ricercatore presso Università Ca’ Foscari Venezia) con la conferenza dal titolo Il porto franco di Trieste e la nascita dell’informazione moderna nel Settecento. Il porto franco è luogo di sospensione dell’imperio\, dove anche il controllo del potere politico sull’informazione viene continuamente messo in discussione in nome delle esigenze del commercio. È luogo in cui si rovesciano fenomeni d’età moderna quali la territorializzazione del potere e la nazionalizzazione della lingua e della cultura. È infine luogo di incontro tra il mercantilismo declinante e il nascente liberalismo. E proprio Trieste\, nel Settecento\, appare come un laboratorio in cui interessi economici\, culturali e politici sono in continua negoziazione. \nGiovedì 9 maggio Antonio Trampus professore ordinario presso l’Università Ca’ Foscari Venezia\, presenterà le nuove scoperte storiche e artistiche emerse su Maria Teresa e il porto di Trieste. Verrà presentato il diario\, ancora inedito\, della prima visita a Trieste\, avvenuta nel 1766\, di Karl von Zinzendorf\, il futuro governatore del Litorale. Attraverso questa e altre fonti dell’epoca\, verranno ricostruite le reti di relazioni personali\, di parentela e di amicizia\, che già negli anni Sessanta del Settecento crearono un fitto tessuto sociale tra Vienna\, Graz\, Lubiana\, Trieste e Gorizia preparando il ritorno – dieci anni più tardi – di Zinzendorf come governatore di Maria Teresa. \nGiovedì 16 maggio Carlo Antonio Stival (Università di Trieste)\, introdotto da Diana Barillari\, parlerà de “Il Porto Vecchio di Trieste e i suoi Magazzini: il riuso attraverso il recupero delle tecnologie dell’epoca”. Il Porto Vecchio è stato un fattore della trasformazione urbana della città nella seconda metà del XIX secolo ed oggi gran parte degli edifici storici risulta non utilizzata anche a causa dei vincoli sussistenti sull’area. Lo studio dei suoi caratteri architettonici e delle caratteristiche costruttive può portare a individuare appropriate azioni per il recupero dei magazzini e per una loro sostenibile fornitura energetica\, sovrapponendo i criteri di reversibilità e salvaguardia dell’identità culturale\, che portino alla realizzazione di adeguate condizioni per lo svolgimento di moderne funzioni\, parzialmente diverse da quelle originariamente previste. \nGiovedì 23 maggio Nicola Strazza (Università di Trieste)\, introdotto da Edino Valcovich\, si soffermerà su “Porto Vecchio come occasione di innovazione: l’uso di fonti energetiche rinnovabili”. Nel caso dell’ipotetica ed auspicabile rifunzionalizzazione e conseguente riqualificazione energetica degli edifici storico-industriali del Porto Vecchio\, la ricerca dottorale che viene presentata ha esplorato azioni conservative e reversibili\, nell’interesse di ottimizzare il sistema edificio-impianto\, con l’obbiettivo finale di sfruttare la massima quota di energia rinnovabile disponibile localmente\, come ad esempio\, l’energia idrotermica contenuta nel mare. \nL’ultimo incontro mensile del 30 maggio\, grazie all’ingegnere Roberto Carollo\, vedrà protagonista la Strada Ferrata della Pontebba che\, dopo la prima guerra mondiale e con i nuovi confini\, divenne l’unica direttrice diretta con l’Austria e l’Europa centro orientale senza passaggio obbligato attraverso il neocostituito Regno di Jugoslavia e\, allo stesso tempo\, la via privilegiata degli scambi commerciali del Porto di Trieste\, sia del presente che del futuro. \nDopo la pausa estiva gli incontri riprenderanno nel mese di novembre. \nGIOVEDI MINERVALI\nMAGGIO 2019 \nGli incontri culturali della Società di Minerva ricominciano nella sala al secondo piano della BIBLIOTECA STATALE “STELIO CRISE” (Largo Papa Giovanni XXIII\, 6)\, con il seguente calendario: \n– giovedì 2 maggio\, ore 16.45\nGiulia Delogu (ricercatore presso Università Ca’ Foscari Venezia)\nIl porto franco di Trieste e la nascita dell’informazione moderna nel Settecento \n– giovedì 9 maggio\, ore 16.45\nAntonio Trampus (professore ordinario a Ca’ Foscari\, Venezia)\nMaria Teresa e il porto di Trieste: nuove scoperte storiche e artistiche \n– giovedì 16 maggio\, ore 16.45\nCarlo Antonio Stival (Università di Trieste)\nIl Porto Vecchio di Trieste e i suoi Magazzini: il riuso attraverso il recupero delle tecnologie dell’epoca \n– giovedì 23 maggio\, ore 16.45\nNicola Strazza (Università di Trieste)\nPorto Vecchio come occasione di innovazione: l’uso di fonti energetiche rinnovabili \n– giovedì 30 maggio\, ore 16.45\nRoberto Carollo (ingegnere ferroviario)\nLa strada ferrata della Pontebba
URL:https://triestecultura.it/evento/giovedi-minervali-6/
LOCATION:Biblioteca Statale Stelio Crise\, Largo Papa Giovanni XXIII\, 6
CATEGORIES:Conferenza
ATTACH;FMTTYPE=image/jpeg:https://triestecultura.it/wp-content/uploads/archivio/eventi/minervali.jpg
END:VEVENT
BEGIN:VEVENT
DTSTART;VALUE=DATE:20180201
DTEND;VALUE=DATE:20180223
DTSTAMP:20260421T042303
CREATED:20250610T092420Z
LAST-MODIFIED:20250610T092420Z
UID:10003581-1517443200-1519257600@triestecultura.it
SUMMARY:Giovedì Minervali - appuntamenti di  febbraio 2018
DESCRIPTION:Gli incontri culturali della Società di Minerva proseguono nella sala della Biiblioteca Statale  – Stelio Crise\, Largo Papa Giovanni XXIII\, 6 (2° piano)\, ogni giovedì alle ore 16\,30. \nGiovedì 1 febbraio 2018\, ore 16\,30\nIl dott. IVAN VISIOLI\, studioso dell’opera di Salgari\, presenterà un aspetto meno noto dello scrittore veronese nella conferenza: Novità su Salgari. Massimiliano d’Asburgo fantapolitico. \nGiovedì 8 febbraio 2018\, ore 16\,30\nLUCIANO DE GIUSTI\, professore di Storia e semiologia del Cinema all’Università di Trieste (Dipartimento di Studi Umanistici) tratterà il tema: Franco Giraldi\, regista triestino\, tra letteratura e cinema. Verrà proiettato un documentario di Luciano De Giusti: Franco Giraldi: doc portrait. \nGiovedì 15 febbraio 2018\, ore 16\,30\nAvrà luogo un incontro sul tema: Per Giorgio Pressburger\, con la partecipazione di: FRANCO PERÒ\, Direttore del Teatro stabile del Friuli Venezia Giulia; PAOLO LUGHI\, Capo dell’Ufficio Stampa della Biennale di Venezia; ELVIO GUAGNINI. \nGiovedì 22 febbraio 2018\, ore 16\,30\nConversazione con NICO NALDINI\, scrittore e critico\, sul tema: Passeggiata con Virgilio Giotti. Interverrà ANGELO BATTEL\, responsabile dell’Ufficio Cultura del Comune di San Vito al Tagliamento\, con la cui collaborazione viene organizzato l’incontro. \nLe conferenze della Minerva sono aperte al pubblico. Si può raggiungere la Biblioteca Statale “Stelio Crise” con l’autobus n. 30. Si prega di dare opportuna diffusione al programma.
URL:https://triestecultura.it/evento/giovedi-minervali-appuntamenti-di-febbraio-2018/
LOCATION:Biblioteca Statale Stelio Crise\, Largo Papa Giovanni XXIII\, 6
CATEGORIES:Conferenza
ATTACH;FMTTYPE=image/jpeg:https://triestecultura.it/wp-content/uploads/archivio/eventi/minerva.jpg
END:VEVENT
BEGIN:VEVENT
DTSTART;VALUE=DATE:20180111
DTEND;VALUE=DATE:20180126
DTSTAMP:20260421T042303
CREATED:20250610T092337Z
LAST-MODIFIED:20250610T092340Z
UID:10003552-1515628800-1516838400@triestecultura.it
SUMMARY:Giovedì Minervali
DESCRIPTION:Gli incontri culturali della Società di Minerva riprendono nella sala della BIBLIOTECA STATALE “STELIO CRISE”\, (g. c.) Largo Papa Giovanni XXIII\, 6 (2° piano)\, ogni giovedì alle ore 16\,30. \ngiovedì 11 gennaio\, ore 16\,30\nL’architetto DIEGO KUZMIN e la storica dell’arte PATRIZIA UGRIN presentano “ACMA\, l’anima del Mondo 1958”\, scritto inedito di Max Fabiani ricco di spunti tra scienza e fantascienza pubblicato di recente a cura dei due relatori dall’Associazione culturale “Maestro Rodolfo Lipizer” di Gorizia. \ngiovedì 18 gennaio\, ore 16\,30\nLa minervale DIANA BARILLARI tratta il tema: L’Albergo Americano a Barcola\, il grande edificio progettato nel 1949 da Guido Fulignot per conto del Governo Militare Alleato e significativamente modificato in corso d’opera da Ramiro Meng\, Umberto Nordio e Mario Zocconi. \ngiovedì 25 gennaio\nl’incontro è anticipato alle ore 16\,00 per consentire il rinnovo della quota associativa.\nAlle ore 16\,30 è convocata l’ASSEMBLEA GENERALE ORDINARIA DEI SOCI.\nI Vice Presidenti presentano la relazione consuntiva 2017 e propongono il programma culturale ed editoriale per il 2018. La Segretaria passa in rassegna gli incontri dello scorso anno\, il Tesoriere espone la relazione economica consuntiva 2017 e quella preventiva per il 2018. Seguono l’intervento dei Revisori dei conti\, l’approvazione dei bilanci e le elezioni per il rinnovo delle cariche sociali.  \nLe conferenze della Minerva sono aperte al pubblico. Si può raggiungere la Biblioteca Statale “Stelio Crise” con l’autobus n. 30. Si prega di dare opportuna diffusione al programma.
URL:https://triestecultura.it/evento/giovedi-minervali-5/
LOCATION:Biblioteca Statale Stelio Crise\, Largo Papa Giovanni XXIII\, 6
CATEGORIES:Conferenza
ATTACH;FMTTYPE=image/jpeg:https://triestecultura.it/wp-content/uploads/archivio/eventi/contents-images-news-giovedi-minervali-jpg-1400-933.jpg
END:VEVENT
BEGIN:VEVENT
DTSTART;VALUE=DATE:20170124
DTEND;VALUE=DATE:20170128
DTSTAMP:20260421T042303
CREATED:20250610T084534Z
LAST-MODIFIED:20250610T084534Z
UID:10003286-1485216000-1485475200@triestecultura.it
SUMMARY:Manifestazioni culturali
DESCRIPTION:Martedì 24 gennaio\, ore 17.00 (Sala conferenze\, II piano)\nPASOLINI: RAGIONI DI UNA FORTUNA\nIncontro con la professoressa Angela Felice. Manifestazione organizzata dal Circolo della Cultura e delle Arti di Trieste\, a cura del prof. Elvio Guagnini. \nGiovedì 26 gennaio\, ore 16.30 (Sala conferenze\, II piano) \nAssemblea generale ordinaria dei soci della Società di Minerva e presentazione del programma culturale ed editoriale previsto per l’anno 2017. \nVenerdì 27 gennaio\, ore 17.00 (Sala conferenze\, II piano)\nVOCI RIMOSSE. I PROFUGHI DI EIDOMENI\nPresentazione del reportage di Alberto Flego\, Voci rimosse. I profughi di Eidomeni (Edizioni Croce\, Roma\, 2016)\, che racconta il campo profughi greco di Eidomeni attraverso la testimonianza di due volontari\, Alan e Kristin\, e le voci di alcuni degli esuli lì ospitati. Fra queste spicca quella di Abdulazez Dukhan\, giovane fotografo siriano dal cui portfolio sono state tratte molte delle immagini che corredano il libro. L’opera verrà presentata dal giornalista Biagio Mannino\, collaboratore di Radio Nuova Trieste e curatore del blog Vento di nord est\, alla presenza dell’Autore. \nPer avere maggiori dettagli sulle iniziative in programma\, visitate la pagina Facebook della Biblioteca Statale Stelio Crise di Trieste.\nhttps://www.facebook.com/pages/\nBiblioteca-Statale-Stelio-Crise-di-Trieste/1461878767399554
URL:https://triestecultura.it/evento/manifestazioni-culturali/
LOCATION:Biblioteca Statale Stelio Crise\, Largo Papa Giovanni XXIII\, 6
CATEGORIES:Conferenza
ATTACH;FMTTYPE=image/jpeg:https://triestecultura.it/wp-content/uploads/archivio/eventi/manifestazioni-scaled.jpg
END:VEVENT
BEGIN:VEVENT
DTSTART;VALUE=DATE:20161125
DTEND;VALUE=DATE:20161126
DTSTAMP:20260421T042303
CREATED:20250610T084338Z
LAST-MODIFIED:20250610T084338Z
UID:10003232-1480032000-1480032000@triestecultura.it
SUMMARY:Paolo Caccia Dominioni. Un’artista sul fronte di guerra.  I giovani artisti d’Europa cent’anni dopo
DESCRIPTION:Visita guidata alla mostra “Paolo Caccia Dominioni. Un’artista sul fronte di guerra. I giovani artisti d’Europa cent’anni dopo”\, che la curatrice della rassegna\, architetto Marianna Accerboni\, condurrà venerdì 25 novembre\, alle ore 17.30\, presso gli spazi espositivi siti al II piano della Biblioteca Statale Stelio Crise. \nLa mostra rappresenta la tappa conclusiva del ciclo espositivo dedicato al poliedrico Paolo Caccia Dominioni che\, tra 2013 e 2016\, ha avuto luogo con molto successo in tredici sedi istituzionali fra Trieste (Biblioteca Statale Stelio Crise 9 luglio – 17 ottobre 2015)\, Gorizia e Bruxelles.\nOra la rassegna si conclude con l’esposizione di fumetti\, disegni\, computergrafiche e dipinti realizzati da una ventina di giovanissimi artisti dell’Atelier di fumetto e dell’Atelier di arti plastiche del Comune di Woluwe-St-Lambert (Bruxelles – Belgio) e della città di Meudon (Parigi – Francia)\, opere tutte ispirate al tema della Grande Guerra o\, più generalmente\, a quello della guerra. Nella Sala delle conferenze è inoltre esposto un corpus di opere di giovani artisti triestini\, goriziani\, friulani\, austriaci e sloveni sempre sul tema del primo conflitto mondiale.\nLa mostra si svolge con il Patrocinio del Comune di Trieste ed è organizzata in collaborazione con la Biblioteca Statale Stelio Crise di Trieste (MiBACT)\, il Comune di Woluwe-Saint-Lambert (Bruxelles – Belgio)\, la Città di Meudon (Parigi – Francia)\, l’Associazione Giuliani nel Mondo – Circolo di Bruxelles\, l’Associazione Dario Mulitsch di Gorizia\, il Soroptimist Club di Trieste\, e il Rotary Club di Muggia. L’esposizione rientra nel programma ufficiale delle commemorazioni del Centenario della prima Guerra mondiale a cura della Presidenza del Consiglio dei Ministri – Struttura di Missione per gli anniversari di interesse nazionale. \nLa mostra è visitabile fino al 30 novembre 2016\, nei consueti orari d’apertura della Biblioteca.
URL:https://triestecultura.it/evento/paolo-caccia-dominioni-unartista-sul-fronte-di-guerra-i-giovani-artisti-deuropa-centanni-dopo/
LOCATION:Biblioteca Statale Stelio Crise\, Largo Papa Giovanni XXIII\, 6
CATEGORIES:Visita guidata
ATTACH;FMTTYPE=image/jpeg:https://triestecultura.it/wp-content/uploads/archivio/eventi/14889770_1787251241528970_4113478125436442635_o.jpg
END:VEVENT
END:VCALENDAR