BEGIN:VCALENDAR
VERSION:2.0
PRODID:-//Trieste Cultura - ECPv6.15.20//NONSGML v1.0//EN
CALSCALE:GREGORIAN
METHOD:PUBLISH
X-WR-CALNAME:Trieste Cultura
X-ORIGINAL-URL:https://triestecultura.it
X-WR-CALDESC:Eventi per Trieste Cultura
REFRESH-INTERVAL;VALUE=DURATION:PT1H
X-Robots-Tag:noindex
X-PUBLISHED-TTL:PT1H
BEGIN:VTIMEZONE
TZID:Europe/Rome
BEGIN:DAYLIGHT
TZOFFSETFROM:+0100
TZOFFSETTO:+0200
TZNAME:CEST
DTSTART:20140330T010000
END:DAYLIGHT
BEGIN:STANDARD
TZOFFSETFROM:+0200
TZOFFSETTO:+0100
TZNAME:CET
DTSTART:20141026T010000
END:STANDARD
BEGIN:DAYLIGHT
TZOFFSETFROM:+0100
TZOFFSETTO:+0200
TZNAME:CEST
DTSTART:20150329T010000
END:DAYLIGHT
BEGIN:STANDARD
TZOFFSETFROM:+0200
TZOFFSETTO:+0100
TZNAME:CET
DTSTART:20151025T010000
END:STANDARD
BEGIN:DAYLIGHT
TZOFFSETFROM:+0100
TZOFFSETTO:+0200
TZNAME:CEST
DTSTART:20160327T010000
END:DAYLIGHT
BEGIN:STANDARD
TZOFFSETFROM:+0200
TZOFFSETTO:+0100
TZNAME:CET
DTSTART:20161030T010000
END:STANDARD
BEGIN:DAYLIGHT
TZOFFSETFROM:+0100
TZOFFSETTO:+0200
TZNAME:CEST
DTSTART:20170326T010000
END:DAYLIGHT
BEGIN:STANDARD
TZOFFSETFROM:+0200
TZOFFSETTO:+0100
TZNAME:CET
DTSTART:20171029T010000
END:STANDARD
END:VTIMEZONE
BEGIN:VEVENT
DTSTART;VALUE=DATE:20151126
DTEND;VALUE=DATE:20151127
DTSTAMP:20260424T125359
CREATED:20250610T081853Z
LAST-MODIFIED:20250610T081853Z
UID:10002982-1448496000-1448496000@triestecultura.it
SUMMARY:La medicina del Basso Medioevo e del Rinascimento
DESCRIPTION:La medicina del Basso Medioevo e del Rinascimento è al centro della visita guidata a ‘La cucina del mortaio e del pestello: alimentazione e salute tra Medioevo ed Età moderna’ a cura di Alessandra Sirugo e Cristina Fenu\, che domani\, giovedì 26 novembre\, alle 17.00 \,le volontarie di ‘Cittaviva’ condurranno al Museo petrarchesco piccolomineo di via Madonna del mare 13 (3. piano).
URL:https://triestecultura.it/evento/la-medicina-del-basso-medioevo-e-del-rinascimento/
LOCATION:Fototeca\, Via Rossini Gioacchino\, Trieste\, Italy
END:VEVENT
BEGIN:VEVENT
DTSTART;VALUE=DATE:20151101
DTEND;VALUE=DATE:20160201
DTSTAMP:20260424T125359
CREATED:20250610T081728Z
LAST-MODIFIED:20250610T081728Z
UID:10002954-1446336000-1454198400@triestecultura.it
SUMMARY:Il Mondo è là. Arte Moderna a Trieste. 1910-1914
DESCRIPTION:Oltre cento opere d’arte selezionate\, esempi emblematici che per qualità\, stile e storia danno vita a un percorso dedicato al Novecento giuliano
URL:https://triestecultura.it/evento/il-mondo-e-la-arte-moderna-a-trieste-1910-1914/
LOCATION:Fototeca\, Via Rossini Gioacchino\, Trieste\, Italy
END:VEVENT
END:VCALENDAR