BEGIN:VCALENDAR
VERSION:2.0
PRODID:-//Trieste Cultura - ECPv6.15.20//NONSGML v1.0//EN
CALSCALE:GREGORIAN
METHOD:PUBLISH
X-WR-CALNAME:Trieste Cultura
X-ORIGINAL-URL:https://triestecultura.it
X-WR-CALDESC:Eventi per Trieste Cultura
REFRESH-INTERVAL;VALUE=DURATION:PT1H
X-Robots-Tag:noindex
X-PUBLISHED-TTL:PT1H
BEGIN:VTIMEZONE
TZID:Europe/Rome
BEGIN:DAYLIGHT
TZOFFSETFROM:+0100
TZOFFSETTO:+0200
TZNAME:CEST
DTSTART:20140330T010000
END:DAYLIGHT
BEGIN:STANDARD
TZOFFSETFROM:+0200
TZOFFSETTO:+0100
TZNAME:CET
DTSTART:20141026T010000
END:STANDARD
BEGIN:DAYLIGHT
TZOFFSETFROM:+0100
TZOFFSETTO:+0200
TZNAME:CEST
DTSTART:20150329T010000
END:DAYLIGHT
BEGIN:STANDARD
TZOFFSETFROM:+0200
TZOFFSETTO:+0100
TZNAME:CET
DTSTART:20151025T010000
END:STANDARD
BEGIN:DAYLIGHT
TZOFFSETFROM:+0100
TZOFFSETTO:+0200
TZNAME:CEST
DTSTART:20160327T010000
END:DAYLIGHT
BEGIN:STANDARD
TZOFFSETFROM:+0200
TZOFFSETTO:+0100
TZNAME:CET
DTSTART:20161030T010000
END:STANDARD
BEGIN:DAYLIGHT
TZOFFSETFROM:+0100
TZOFFSETTO:+0200
TZNAME:CEST
DTSTART:20170326T010000
END:DAYLIGHT
BEGIN:STANDARD
TZOFFSETFROM:+0200
TZOFFSETTO:+0100
TZNAME:CET
DTSTART:20171029T010000
END:STANDARD
END:VTIMEZONE
BEGIN:VEVENT
DTSTART;VALUE=DATE:20151224
DTEND;VALUE=DATE:20151225
DTSTAMP:20260424T142840
CREATED:20250610T082240Z
LAST-MODIFIED:20250610T082240Z
UID:10003012-1450915200-1450915200@triestecultura.it
SUMMARY:Creature marine
DESCRIPTION:Giovedì 24 dicembre\, alle ore 11\, al Museo Civico di Storia Naturale di Trieste si inaugura la nuova sala ‘Creature Marine’.\nDalle 11 alle 13 ingresso gratuito e visite guidate gratuite a cura del WWF ‘ Riserva Marina di Miramare.
URL:https://triestecultura.it/evento/creature-marine/
LOCATION:Istituto Livio saranz\, Via Pauliana 8\, Trieste\, Trieste\, Italy
END:VEVENT
BEGIN:VEVENT
DTSTART;VALUE=DATE:20151217
DTEND;VALUE=DATE:20151218
DTSTAMP:20260424T142840
CREATED:20250610T082223Z
LAST-MODIFIED:20250610T082223Z
UID:10003004-1450310400-1450310400@triestecultura.it
SUMMARY:Serata Minervale degli auguri
DESCRIPTION:Giovedì 17 dicembre – con inizio anticipato alle ore 16.00 per consentire il rinnovo delle iscrizioni alla Società – si terrà la tradizionale ‘Serata Minervale degli auguri’.GUIDO BOTTERI\, ELVIO GUAGNINI\, BARBARA MAZZA BOCCAZZI\, CLAUDIO ZACCARIA e GINO PAVAN presenteranno il volume LXXV della IV serie\, CXXIII della Raccolta dell’«Archeografo triestino» (2015) che verrà distribuito ai soci in regola con il canone assieme al XIII Extra serie.
URL:https://triestecultura.it/evento/serata-minervale-degli-auguri/
LOCATION:Istituto Livio saranz\, Via Pauliana 8\, Trieste\, Trieste\, Italy
END:VEVENT
BEGIN:VEVENT
DTSTART;VALUE=DATE:20151215
DTEND;VALUE=DATE:20151216
DTSTAMP:20260424T142840
CREATED:20250610T082220Z
LAST-MODIFIED:20250610T082220Z
UID:10003001-1450137600-1450137600@triestecultura.it
SUMMARY:Festival della Canzone Triestina
DESCRIPTION:Il cantante Bobby Solo sarà l’ospite d’onore del 37esimo Festival della Canzone Triestina che avrà luogo martedì 15 dicembre\, al Teatro Rossetti\, alle 20.30 e che quest’anno sarà dedicata ad Angelo Cecchelin\, grande protagonista della musica dialettale parodistica nel varietà triestino.
URL:https://triestecultura.it/evento/festival-della-canzone-triestina/
LOCATION:Istituto Livio saranz\, Via Pauliana 8\, Trieste\, Trieste\, Italy
END:VEVENT
BEGIN:VEVENT
DTSTART;VALUE=DATE:20151210
DTEND;VALUE=DATE:20160107
DTSTAMP:20260424T142840
CREATED:20250610T082208Z
LAST-MODIFIED:20250610T082208Z
UID:10002997-1449705600-1452038400@triestecultura.it
SUMMARY:Pik Badaluk e i suoi amici: libri per l'infanzia  a Trieste 1900-1940
DESCRIPTION:La mostra ripercorre la storia dei libri per l’infanzia a Trieste nella prima metà del Novecento\, evidenziando in particolare le illustrazioni che corredano i testi e che evocano il mondo immaginario di una Trieste nutrita dalla cultura di matrice tedesca-austriaca oltre che  da quella italiana.
URL:https://triestecultura.it/evento/pik-badaluk-e-i-suoi-amici-libri-per-linfanzia-a-trieste-1900-1940/
LOCATION:Istituto Livio saranz\, Via Pauliana 8\, Trieste\, Trieste\, Italy
END:VEVENT
END:VCALENDAR