BEGIN:VCALENDAR
VERSION:2.0
PRODID:-//Trieste Cultura - ECPv6.15.20//NONSGML v1.0//EN
CALSCALE:GREGORIAN
METHOD:PUBLISH
X-ORIGINAL-URL:https://triestecultura.it
X-WR-CALDESC:Eventi per Trieste Cultura
REFRESH-INTERVAL;VALUE=DURATION:PT1H
X-Robots-Tag:noindex
X-PUBLISHED-TTL:PT1H
BEGIN:VTIMEZONE
TZID:Europe/Rome
BEGIN:DAYLIGHT
TZOFFSETFROM:+0100
TZOFFSETTO:+0200
TZNAME:CEST
DTSTART:20150329T010000
END:DAYLIGHT
BEGIN:STANDARD
TZOFFSETFROM:+0200
TZOFFSETTO:+0100
TZNAME:CET
DTSTART:20151025T010000
END:STANDARD
BEGIN:DAYLIGHT
TZOFFSETFROM:+0100
TZOFFSETTO:+0200
TZNAME:CEST
DTSTART:20160327T010000
END:DAYLIGHT
BEGIN:STANDARD
TZOFFSETFROM:+0200
TZOFFSETTO:+0100
TZNAME:CET
DTSTART:20161030T010000
END:STANDARD
BEGIN:DAYLIGHT
TZOFFSETFROM:+0100
TZOFFSETTO:+0200
TZNAME:CEST
DTSTART:20170326T010000
END:DAYLIGHT
BEGIN:STANDARD
TZOFFSETFROM:+0200
TZOFFSETTO:+0100
TZNAME:CET
DTSTART:20171029T010000
END:STANDARD
END:VTIMEZONE
BEGIN:VEVENT
DTSTART;VALUE=DATE:20160602
DTEND;VALUE=DATE:20160826
DTSTAMP:20260426T025535
CREATED:20250610T083612Z
LAST-MODIFIED:20250610T083618Z
UID:10003062-1464825600-1472083200@triestecultura.it
SUMMARY:Estate in terrazza al Museo Revoltella
DESCRIPTION:A più di vent’anni dalla prima edizione\, si ripropone Revoltella Estate\, la manifestazione particolarmente apprezzata dal pubblico triestino e dai turisti occasionali non soltanto per la varietà delle proposte artistico-culturali presentate in tanti anni\, ma anche per l’atmosfera e lo scenario particolari che le terrazze\, agli ultimi due piani della Galleria\, offrono al visitatore specialmente nelle serate estive.Da giugno una fitta programmazione di visite guidate allla dimora storica di Pasquale Revoltella e la Galleria d’arte moderna di Carlo Scarpa\, del quale il prossimo 2 giugno ricorrono i 110 anni dalla nascita. Le visite guidate si terranno ogni giovedì e venerdì della settimana a partire dalle ore 18.00 e a seguire un’ interessante e diversificata serie di manifestazioni legate alla riapertura della caffetteria in terrazza (aperta fino alle ore 22.00)\, in cui si alterneranno proposte musicali\, iniziative enogastronomiche e intrattenimenti letterario-culturali.
URL:https://triestecultura.it/evento/estate-in-terrazza-al-museo-revoltella/
LOCATION:Museo Revoltella – Galleria d’Arte Moderna\, Via A. Diaz\, 27\, Trieste\, Trieste\, Italy
CATEGORIES:Evento
ATTACH;FMTTYPE=image/jpeg:https://triestecultura.it/wp-content/uploads/archivio/eventi/revoltella-estate.jpg
END:VEVENT
BEGIN:VEVENT
DTSTART;VALUE=DATE:20160525
DTEND;VALUE=DATE:20160526
DTSTAMP:20260426T025535
CREATED:20250610T083557Z
LAST-MODIFIED:20250610T083557Z
UID:10003055-1464134400-1464134400@triestecultura.it
SUMMARY:Ritratti Triestini. La donazione Sbisà al Civico Museo Revoltella
DESCRIPTION:Le otto sculture di Carlo Sbisà (1899-1964) donate dalle figlie Marina e Paola\, testimoniano di una svolta fondamentale dell’artista\, dopo che egli decise di rimeditare la sua produzione pittorica riferibile agli anni Venti e Trenta traducendola con un mezzo stilistico nuovo. L’artista\, dopo il 1945\, abbandonò progressivamente la pittura per dedicarsi alla scultura in terracotta e alla ceramica. Nella plastica Sbisà mantenne inalterata la sua insopprimibile vocazione per le forme armoniche dai toni arcaici. La modellazione solida e le forme chiuse e compatte rivelano il permanere di un legame con la corrente artistica europea del Ritorno all’ordine.I ritratti donati\, realizzati in diversi materiali (grés poroso\, terracotta patinata\, terracotta maiolicata)\, sono sculture che rivelano una dimensione estetica più intima rispetto alle esperienze precedenti\, peraltro consona alla familiarità con le persone ritratte. Le sculture sono state restaurate per l’occasione da Maria Teresa Tito\, restauratrice del Civici Musei di Storia e Arte.
URL:https://triestecultura.it/evento/ritratti-triestini-la-donazione-sbisa-al-civico-museo-revoltella/
LOCATION:Museo Revoltella – Galleria d’Arte Moderna\, Via A. Diaz\, 27\, Trieste\, Trieste\, Italy
CATEGORIES:Visita guidata
ATTACH;FMTTYPE=image/jpeg:https://triestecultura.it/wp-content/uploads/archivio/eventi/ritratti-triestini.jpg
END:VEVENT
END:VCALENDAR