BEGIN:VCALENDAR
VERSION:2.0
PRODID:-//Trieste Cultura - ECPv6.15.20//NONSGML v1.0//EN
CALSCALE:GREGORIAN
METHOD:PUBLISH
X-ORIGINAL-URL:https://triestecultura.it
X-WR-CALDESC:Eventi per Trieste Cultura
REFRESH-INTERVAL;VALUE=DURATION:PT1H
X-Robots-Tag:noindex
X-PUBLISHED-TTL:PT1H
BEGIN:VTIMEZONE
TZID:Europe/Rome
BEGIN:DAYLIGHT
TZOFFSETFROM:+0100
TZOFFSETTO:+0200
TZNAME:CEST
DTSTART:20160327T010000
END:DAYLIGHT
BEGIN:STANDARD
TZOFFSETFROM:+0200
TZOFFSETTO:+0100
TZNAME:CET
DTSTART:20161030T010000
END:STANDARD
BEGIN:DAYLIGHT
TZOFFSETFROM:+0100
TZOFFSETTO:+0200
TZNAME:CEST
DTSTART:20170326T010000
END:DAYLIGHT
BEGIN:STANDARD
TZOFFSETFROM:+0200
TZOFFSETTO:+0100
TZNAME:CET
DTSTART:20171029T010000
END:STANDARD
BEGIN:DAYLIGHT
TZOFFSETFROM:+0100
TZOFFSETTO:+0200
TZNAME:CEST
DTSTART:20180325T010000
END:DAYLIGHT
BEGIN:STANDARD
TZOFFSETFROM:+0200
TZOFFSETTO:+0100
TZNAME:CET
DTSTART:20181028T010000
END:STANDARD
BEGIN:DAYLIGHT
TZOFFSETFROM:+0100
TZOFFSETTO:+0200
TZNAME:CEST
DTSTART:20190331T010000
END:DAYLIGHT
BEGIN:STANDARD
TZOFFSETFROM:+0200
TZOFFSETTO:+0100
TZNAME:CET
DTSTART:20191027T010000
END:STANDARD
END:VTIMEZONE
BEGIN:VEVENT
DTSTART;VALUE=DATE:20180227
DTEND;VALUE=DATE:20180301
DTSTAMP:20260423T105652
CREATED:20250610T092919Z
LAST-MODIFIED:20250624T102322Z
UID:10003614-1519689600-1519776000@triestecultura.it
SUMMARY:Animali da bar
DESCRIPTION:“Una metropoli\, un quartiere\, un bar: e i personaggi che di notte vi si incrociano tessendo rapporti carichi di cinismo e ironia. È “Animali da bar”: un quadro della realtà contemporanea raccontato nel linguaggio incisivo e divertente di Carrozzeria Orfeo\, pluripremiato gruppo d’artisti che ritorna al Politeama Rossetti dopo il travolgente exploit\, lo scorso anno\, con “Thanks for vaselina”. Attori\, autori\, registi delle loro creazioni\, in tutto bravissimi\, sono ospiti dello Stabile regionale martedì 27 e mercoledì 28 febbraio”.\nRitornano al Politeama Rossetti martedì 27 e mercoledì 28 febbraio\, i bravissimi artisti di Carrozzeria Orfeo\, che dopo l’exploit dello scorso anno con “Thanks for vaselina” presentano al pubblico del teatro Stabile regionale un altro lavoro\, nuovamente giocato su un efficacissimo intreccio di ironia e cinismo: “Animali da bar”. \nAnche questo spettacolo\, nasce dalla creatività collettiva di questo affiatato e validissimo gruppo di artisti\, che si sta imponendo a ragione e sempre con maggior forza sulla scena contemporanea: la drammaturgia di “Animali da Bar” è di Gabriele Di luca\,. che ritroviamo anche impegnato nella regia con Alessandro Tedeschi e Massimiliano Setti\, ed in scena assieme a Beatrice Schiros\, Massimiliano Setti\, Pier Luigi Pasino e Paolo Li Volsi. \n“Animali da bar” ha vinto il Premio HYSTRIO TWISTER 2016 \nLo spettacolo si apre su un quadro di metropoli notturna\, in un quartiere non molto “in”: l’interno di un bar si rivela presto un’efficace metafora della vita contemporanea.\nL’attenzione dell’autore illumina ad uno ad uno\, come fosse il fascio di un riflettore\, i sei personaggi che “abitano” quel bar\, “animali” che il pubblico potrà scrutare e conoscere nelle loro individualità e nelle dinamiche sociali in cui sono coinvolti.\nSi tratta di strani individui che si ritrovano attorno al bancone\, ognuno con il proprio vissuto ed il proprio portato di ossessioni\, frustrazioni\, rabbie e desideri.\nC’è un vecchio ormai malato\, talmente razzista\, misantropo e ossessionato dalla gente da vivere rintanato nel proprio appartamento. Si incontra poi una giovane donna proveniente dall’Ucraina. È segnata da un passato duro\, che potrebbe darle ragione di non provare più fiducia per il prossimo: invece porta avanti una “gravidanza in affitto” per una coppia italiana. Quella delle pompe funebri per animali domestici potrebbe essere una nuova branca di mercato da non trascurare: lo dimostra\, davanti al bancone\, un imprenditore di successo… la sua vita però è alienata dall’ipocondria. È in qualche modo una “attività” anche quella dello zoppo bipolare che assesta notevoli furti nelle case dei morti e sceglie di compiere il misfatto proprio nel giorno del loro funerale. Più dolorosa la routine del buddista in lotta per la liberazione del Tibet: il suo fervore cela un’inettitudine grazie a cui sua moglie riesce a infliggergli violenze domestiche. E infine lo scrittore che annega nell’alcol l’orrenda prospettiva di dover scrivere un romanzo sulla Grande Guerra\, per un editore tirannico. \nCos’avranno da dirsi questi animali notturni\, apparentemente tanto lontani l’uno dall’altro\, e in realtà accomunati dalla loro dimensione di perdenti\, illusi\, eppure caparbiamente aggrappati ad un’ultima – e probabilmente vana – speranza…  \nIncarnati dai bravissimi attori di Carrozzeria Orfeo ed intrappolati nella ragnatela dei loro discorsi surreali\, percorsi da un’irresistibile vena ironica\, questi personaggi esprimono la deriva del mondo occidentale ormai animato soltanto da risentimento\, paura e voglia di vendetta. Si riconosceranno – purtroppo – nelle loro battute la retorica svuotata di valori\, la morale corrosa e svenduta\, la decadenza e le dipendenze che ormai caratterizzano la realtà. E forse inquieterà il fatto di trovare fra le loro parole e gli slogan che si è abituati sentire – magari sul bus o in televisione\, o proprio al bar – la sola distanza del filtro comico…  \n“Animali da bar” è uno spettacolo di Carrozzeria Orfeo. La drammaturgia è di Gabriele Di Luca\, la regia di Alessandro Tedeschi\, Gabriele Di Luca\, Massimiliano Setti. Ingterpretano i diversi personaggi Beatrice Schiros\, Gabriele Di Luca\, Massimiliano Setti\, Pier Luigi Pasino\, Paolo Li Volsi. La voce fuori campo è di Alessandro Haber.\nHa creato le musiche originali Massimiliano Setti\, ha progettato le scene Maria Spazzi. I costumi sono di Erika Carretta\, le luci di Giovanni Berti\, l’allestimento di Leonardo Bonechi. l’ illustrazione di Federico Bassi.\nLo spettacolo è stato prodotto da Fondazione Teatro della Toscana 2015\, Carrozzeria Orfeo\nin collaborazione con Festival Internazionale di Andria – Castel dei Mondi. \n“Animali da bar” va in scena martedì 27 e mercoledì 28 febbraio alle ore 20.30 alla Sala Assicurazioni Generali del Teatro Stabile del Friuli Venezia Giulia per il cartellone altripercorsi. \nI biglietti per lo spettacolo sono ancora disponibili presso tutti i punti vendita del Teatro Stabile regionale e anche attraverso il sito www.ilrossetti.it.
URL:https://triestecultura.it/evento/animali-da-bar/
LOCATION:Politeama Rossetti\, viale XX Settembre\, Trieste\, Trieste\, Italy
CATEGORIES:Spettacolo
ATTACH;FMTTYPE=image/jpeg:https://triestecultura.it/wp-content/uploads/archivio/eventi/_D6A7358.jpeg
END:VEVENT
BEGIN:VEVENT
DTSTART;VALUE=DATE:20180226
DTEND;VALUE=DATE:20180227
DTSTAMP:20260423T105652
CREATED:20250610T092918Z
LAST-MODIFIED:20250624T102322Z
UID:10003612-1519603200-1519603200@triestecultura.it
SUMMARY:Hopera
DESCRIPTION:“Si può danzare un duetto di Mozart attraverso movimenti di hip hop\, o modern dance\, o break’ Certo: e ce lo dimostra “Hopera” in scena lunedì 26 febbraio alle 20.30 al Politeama Rossetti. La compagnia E.sperimenti GDO Dance Company lo esegue su celebri arie di Verdi\, Leoncavallo\, Rossini e molti altri celebri compositori\, in un linguaggio coreografico ricco di contaminazioni fresche e gioiose. Lo spettacolo è ospite del festival TSDanza 4.0 organizzato dal Teatro Stabile del Friuli Venezia Giulia”.\nFrutto della grammatica stilistica di una compagnia particolare come è E.sperimenti GDO Dance Company\, “Hopera” – il nuovo appuntamento con il festival TSDanza 4.0 – è uno spettacolo capace di coniugare la più classica delle tradizioni con gli stili di danza più all’avanguardia. \n“Hopera” va in scena solo la sera di lunedì 26 febbraio alle ore 20.30 al Politeama Rossetti e stupirà il pubblico con una commistione di linguaggi davvero insolita. \nEleganza e humor sottile caratterizzano i coinvolgenti performers di un cast prevalentemente maschile\, molto diversi tra loro per linee\, gestualità\, fisicità e virtuosismo\, capaci però di diventare un tutt’uno nel momento corale della coreografia. E capaci ugualmente di passare fluidamente dall’uno all’altro stile\, dal breakin’ al modern\, dal floorwork al teatrodanza.\nAttraverso questi linguaggi\, però\, i ballerini di E.sperimenti sfidano un repertorio tutt’altro che banale: quello delle arie d’opera o delle sinfonie\, delle melodie simbolo del nostro grande repertorio e delle nostre radici\, ma anche di quel patrimonio inestimabile che tutto il mondo ammira. È questo meraviglioso repertorio il vero protagonista di questa produzione artistica molto apprezzata fin dal suo debutto. \n“Hopera” suggerisce dunque una diversa prospettiva per approcciare quel repertorio musicale colto e godere della sua estrema ‘freschezza’ e attualità\, avvicinando così mondi diversi e lontani e contagiando il pubblico nel sorriso e nella leggerezza.\nVerdi\, Leoncavallo\, Rossini\, ma anche Handel e Mozart\, risplendono nel tocco raffinato degli interpreti forti di un linguaggio teatrale\, contaminato\, fresco\, gioioso e di contenuto drammaturgico.  \nIl merito va ai tre giovani coreografi Galimberti\, de Virgiliis\, Di Luzio\, che hanno costruito l’architettura di questo spettacolo con una levità coreografica mai banale\, nel suo repentino susseguirsi di scene ed atmosfere\, arricchito com’è da un impianto scenico importante e di innovazione tecnologica\, fatta di siparietti computerizzati e di tulle tradizionale\, che si alzano ed abbassano per scoprire o nascondere le figure in scena.\nSul palcoscenico ammireremo una compagnia di giovani danzatori\, composta da Filippo Braco\, Mattia de Virgiliis\, Francesco Di Luzio\, Andrea Ferrarini\, Federica Galimberti\, Eleonora Lippi\, Stefano Otoyo\, Silvia Pinna\, Laura Ragni\, Daniele Toti\, Martina Ragni (sostituta).\nLa regia e la direzione del team coreografico è di Federica Galimberti. Il team coreografico è composto da Mattia De Virgiliis\, Francesco Di Luzio\, Federica Galimberti. \nLe musiche sono di Verdi\, Leoncavallo\, Rossini\, Handel\, Mozart con la consulenza di Marco Schiavoni. \nE.sperimenti GDO Dance Company\, compagnia di punta di GDO\, è una fucina giovane e dinamica che vuole portare in scena il vissuto e il reale dell’essere\, dare spazio alle componenti più giovani della società. Esprime un linguaggio contaminato\, coinvolgente\, geniale pronto al ‘sorriso’ in ogni sua espressione artistica.\nI componenti sono performers di estrazione e vissuti differenti che mantengono la propria individualità\, ma sono un tutt’uno quando lavorano insieme.\nQuesta effervescente eccellenza italiana ‘under 35’\,si esibisce spesso all’estero: recenti le loro performance in Brasile\, Stati Uniti\, Russia\, Thailandia\, Giordania\, Palestina. “Hopera”\, scelto per la NID Platform 2015\, è stato invitato al Beijing Dance Festival 2016\, al Vantaa Gala Helsinki\, al Sziget Festival e in Cina nel 2017 per inaugurare il Teatro SIDC a Shanghai.  \n“Hopera” va in scena solo lunedì 26 febbraio alle 20.30 alla Sala Assicurazioni Generali nell’ambito del festival TS Danza 4.0 organizzato dal Teatro Stabile del Friuli Venezia Giulia.  \nI biglietti sono in vendita presso tutti i consueti circuiti e punti vendita del Teatro Stabile del Friuli Venezia Giulia e tramite il sito www.ilrossetti.it.
URL:https://triestecultura.it/evento/hopera/
LOCATION:Politeama Rossetti\, viale XX Settembre\, Trieste\, Trieste\, Italy
CATEGORIES:Spettacolo
ATTACH;FMTTYPE=image/jpeg:https://triestecultura.it/wp-content/uploads/archivio/eventi/Hopera.jpg
END:VEVENT
BEGIN:VEVENT
DTSTART;VALUE=DATE:20171211
DTEND;VALUE=DATE:20171212
DTSTAMP:20260423T105652
CREATED:20250610T092254Z
LAST-MODIFIED:20250624T102322Z
UID:10003525-1512950400-1512950400@triestecultura.it
SUMMARY:Trieste per Giorgio Strehler
DESCRIPTION:Nel ventesimo anniversario della scomparsa di Giorgio Strehler (Trieste 1921 – Lugano 1997)\, la sua città natale lo ricorda attraverso un fitto calendario di iniziative a partire dalla serata “Trieste per Giorgio Strehler” in scena lunedì 11 dicembre alle 20.30 al Politeama Rossetti.
URL:https://triestecultura.it/evento/trieste-per-giorgio-strehler/
LOCATION:Politeama Rossetti\, viale XX Settembre\, Trieste\, Trieste\, Italy
CATEGORIES:Spettacolo
ATTACH;FMTTYPE=image/jpeg:https://triestecultura.it/wp-content/uploads/archivio/eventi/lezioni-teatro.jpg
END:VEVENT
BEGIN:VEVENT
DTSTART;VALUE=DATE:20171103
DTEND;VALUE=DATE:20171104
DTSTAMP:20260423T105652
CREATED:20250610T092153Z
LAST-MODIFIED:20250610T092153Z
UID:10003482-1509667200-1509667200@triestecultura.it
SUMMARY:Stefano Bollani - Cerimonia dei Méliès d'Or
DESCRIPTION:Trieste Science+Fiction Festival annuncia che sarà il concerto di Stefano Bollani a illuminare la notte della cerimonia dei Méliès d’Or in calendario il 3 novembre 2017 al Politeama Rossetti. \nDal 31 ottobre al 5 novembre Trieste ritornerà ad essere nuovamente la capitale europea del cinema fantastico\, con la 21a Golden Méliès Ceremony\, cerimonia di consegna del premio Méliès d’Or della European Fantastic Film Festivals Federation per il migliore lungometraggio e cortometraggio. Un appuntamento d’eccezione in sé che gli organizzatori de La Cappella Underground hanno voluto rendere ancora più prezioso con il concerto di Stefano Bollani. \nDaniele Terzoli\, direttore del festival\, dichiara: “Trieste città della scienza e della fantascienza\, Trieste Capitale europea della scienza 2020 e Trieste capitale della fantascienza 2017 con il ritorno della cerimonia di consegna del premio Méliès d’Or\, vero e proprio Oscar del cinema fantastico europeo. Per festeggiare l’evento ospitiamo un artista simbolo dell’eccellenza italiana come Stefano Bollani\, tra i più importanti pianisti jazz del mondo. Nelle opere di Bollani\, grande appassionato di fantascienza\, il tema degli alieni è un tema ricorrente\, dall’album “Arrivano gli alieni” al recente libro “Dialogo sugli alieni”. Da qui è nata l’idea di chiedere a Stefano Bollani di sonorizzare dal vivo un programma di film del cinema delle origini\, tra classici\, sorprese e simboli del cinema fantastico italiano ed europeo\, nella splendida cornice del Politeama Rossetti. Siamo veramente onorati che il grande pianista milanese abbia raccolto la nostra sfida!” \nPianista e compositore\, Stefano Bollani si è esibito con direttori d’orchestra come Zubin Mehta\, Daniel Harding\, Kristjan Järvi\, Leonard Slatkin\, Gianandrea Noseda e Antonio Pappano e ha suonato\, tra le altre\, con l’Orchestra dell’Accademia Nazionale di Santa Cecilia di Roma\, l’Orchestra del Concertgebouw di Amsterdam\, l’Orchestre de Paris\, l’Orchestre de Lyon\, la Danish Radio Orchestra e la Toronto Symphony Orchestra. \nNel 2007\, con la Filarmonica ’900 del Teatro Regio di Torino e la direzione di Jan Latham-Koenig ha registrato il “Concert champêtre di Poulenc” (AVIE Records). Insieme alla Gewandhausorchester di Lipsia\, diretta da Riccardo Chailly\, ha inoltre inciso la “Rapsodia in blu” e il “Concerto in fa” di Gershwin (Decca 2010) e il “Concerto per pianoforte in sol” di Ravel (Decca 2012). L’album dedicato a Gershwin ha vinto il Disco di platino in Italia rimanendo in classifica per numerose settimane; dallo stesso repertorio e dalla collaborazione con il maestro Chailly è inoltre nato il dvd “Live at La Scala”\, realizzato questa volta con la Filarmonica della Scala. Come compositore\, ha scritto il “Concertone per trio jazz e orchestra”\, registrato nel 2004 con l’Orchestra della Toscana (etichetta Label Bleu; direzione e arrangiamento di Paolo Silvestri). Al Maggio Musicale Fiorentino 2017 ha debuttato dal vivo “Concerto azzurro”\, nuova composizione per pianoforte e orchestra\, diretta da Kristjan Järvi\, con gli arrangiamenti di Paolo Silvestri. \nLa musica per Stefano Bollani è un gioco da ricreare di volta in volta\, da soli o con partner diversi. \nBollani cerca costantemente stimoli\, nella musica del passato e nell’esplorazione del presente\, improvvisando a fianco di grandi artisti come il suo nobile mentore Enrico Rava\, Richard Galliano\, Bill Frisell\, Paul Motian\, Chick Corea\, Hamilton de Holanda. Ha celebrato la forma canzone a fianco di Caetano Veloso e Hector Zazou\, e con celebri compatrioti come Irene Grandi\, Fabio Concato\, Elio e le Storie Tese. \nQuando non suona\, scrive libri o crea spettacoli teatrali come “Primo Piano”\, con la Banda Osiris o “La regina dada”\, scritto e interpretato con Valentina Cenni. Fresco di stampa il suo “Dialoghi tra Alieni”\, per Trigono Edizioni\, un viaggio attraverso storia\, religione\, filosofia\, fisica e scienza\, per far luce sui tanti misteri che ancora sfuggono alla nostra comprensione: dall’esistenza di dimensioni e universi paralleli alla presenza di vita su altri pianeti. \nAlla radio\, con la collaborazione di David Riondino\, ha dato vita al Dottor Djembè\, musicologo omnisciente che per diversi anni ha diffuso semi di ironia e sarcasmo dai microfoni di Radio Rai 3. \nDopo l’esperienza con Renzo Arbore\, Stefano Bollani ha il merito di aver portato la musica jazz in televisione\, cercando di veicolarla in modo originale e all’insegna delle contaminazioni\, gettandosi in spettacolari jam session nella sua trasmissione “Sostiene Bollani” su Rai 3. \nLa musica per comunicare la gioia. La gioia nonostante tutto\, come dice il titolo del suo recente lavoro per ECM\, prendendo in prestito una frase di Tom Robbins. \nLa vendita degli accrediti per il festival sarà disponibilie online sul sito del festival a partire da lunedì 2 ottobre. I biglietti per il concerto di Stefano Bollani al Politeama Rossetti saranno disponibili a partire dal 9 ottobre.
URL:https://triestecultura.it/evento/stefano-bollani-cerimonia-dei-melies-dor/
LOCATION:Politeama Rossetti\, viale XX Settembre\, Trieste\, Trieste\, Italy
CATEGORIES:Concerto
ATTACH;FMTTYPE=image/jpeg:https://triestecultura.it/wp-content/uploads/archivio/eventi/IMG_7137-2.jpg
END:VEVENT
BEGIN:VEVENT
DTSTART;VALUE=DATE:20171031
DTEND;VALUE=DATE:20171106
DTSTAMP:20260423T105652
CREATED:20250610T092149Z
LAST-MODIFIED:20250610T092149Z
UID:10003481-1509408000-1509840000@triestecultura.it
SUMMARY:Trieste Science+Fiction Festival
DESCRIPTION:La 17a edizione del Trieste Science+Fiction Festival – lo storico festival della fantascienza organizzato da La Cappella Underground – si terrà quest’anno dal 31 ottobre al 5 novembre nella nuova prestigosa sede del Politeama Rossetti\, al Teatro Miela e al Cinema Ariston. \nLa selezione ufficiale di Trieste Science+Fiction Festival 2017 comincia a svelare i primi titoli della sua esplorazione dei mondi del fantastico cinematografico contemporaneo. Opere prime\, registi emergenti e gioielli di genere tra robot\, zombie\, astronavi e affascinanti ipotesi su un futuro tutto da costruire\, come anticipato nell’immagine ufficiale del manifesto di quest’anno\, disegnato da Lorenzo LRNZ Ceccotti. \nTrieste Science+Fiction Festival presenterà in anteprima italiana il thriller fantascientifico americano Beyond Skyline\, diretto da Liam O’Donnell\, con Frank Grillo (“Capitan America”\, “The Shield”\, “Prison Break”) nei panni del detective Mark Corley alla ricerca del figlio rapito da una nave da guerra aliena. E  il colossal russo Salyut-7 (2017) di Klim Shipenko\, appassionante cronaca spaziale della missione più avventurosa dell’intera storia dell’esplorazione spaziale (di prossima distribuzione italiana con Blue Swan Entertainment). Trieste ospiterà la prima italiana di due film francesi molto attesi: il postapocalittico Hostile\, diretto da Mathieu Turi e prodotto da Xavier Gens (“Frontiers”\, “The Divide”)\, che verrà distribuito in Italia da Twelve Entertainment\, e Seuls – Alone del regista di “Them” David Moreau\, che adatta la celebre serie a fumetti su un gruppo di adolescenti risvegliatisi soli in un mondo deserto (distribuirà nei cinema italiani Draka). Sempre in anteprima nazionale\, il thriller fantamedico Replace\, girato in Canada dal tedesco Norbert Keil\, scritto da Richard Stanley e interpretato da Barbara Crampton (“Omicidio a luci rosse“\, “Re-Animator“\, “Le streghe di Salem“) e Rebecca Forsythe nei panni di una giovane senza memoria la cui pelle inizia ad invecchiare troppo rapidamente; l’avvolgente thriller sui paradossi spazio-temporali Hurok – Loop dell’ungherese Isti Madarász\, già apprezzato nei migliori festival di genere; e la parabola africana sulla vita e la morte Kati Kati del regista keniota Mbithi Masya. \nScarica il comunicato stampa [pdf]
URL:https://triestecultura.it/evento/trieste-sciencefiction-festival-3/
LOCATION:Politeama Rossetti\, viale XX Settembre\, Trieste\, Trieste\, Italy
CATEGORIES:Festival
ATTACH;FMTTYPE=image/jpeg:https://triestecultura.it/wp-content/uploads/archivio/eventi/cultura-scifi.jpg
END:VEVENT
BEGIN:VEVENT
DTSTART;VALUE=DATE:20171001
DTEND;VALUE=DATE:20171002
DTSTAMP:20260423T105652
CREATED:20250610T092102Z
LAST-MODIFIED:20250624T102322Z
UID:10003446-1506816000-1506816000@triestecultura.it
SUMMARY:Il corsaro del vento. Tino Straulino
DESCRIPTION:testi tratti dal libro “Straulino\, signore del mare”a cura di Tiziana Oselladore\ncon gli attori della Compagnia del Teatro Stabile del Friuli Venezia Giulia \nPer tutti quelli che lo hanno conosciuto e per chi ama andar per mare\, Agostino Straulino è un mito.\n“Il corsaro del vento. Tino Straulino” propone la lettura di una serie di brani tratti dal libro Straulino signore del mare che raccoglie momenti di vita del grande campione della vela. Ne saranno protagonisti gli attori della Compagnia Stabile\, che in un’atmosfera di suggestioni marine\, vento e vele comporranno un mosaico che ci dirà molto di Tino Straulino. A partire da Arma e vai!\, il suo libro culto\, ma anche delle interviste\, dai diari bordo scritti durante le crociere sulla Vespucci o sul Corsaro II\, quello che traspare in modo indelebile e rimane come grande insegnamento di vita\, è non solo il racconto dell’uomo-Straulino ma un intero mondo fatto di amore incondizionato per il mare\, di sensibilità e attenzione\, principi e coerenza\, onestà intellettuale e umiltà\, serietà e responsabilità e soprattutto… buon senso. Un mondo insomma fatto di valori antichi come le forze che regolano i mari e i venti: valori concreti e forti come la temperanza\, il coraggio e la prudenza\, che ogni buon marinaio deve possedere per considerarsi tale.\nOggi si crede\, spesso erroneamente\, che l’incalzante progresso tecnologico abbia completamente stravolto il modo in cui si va per mare. Essere un marinaio è un’altra cosa. Bisogna “sentire il mare”\, saper leggere sulla sua superficie il vento\, assecondare gli elementi e non opporsi ad essi\, sentire la barca\, conoscerla intrinsecamente e sentire soprattutto la sua anima\, essere tutt’uno con lei. Solo così si potrà sapere come risponderà ai comandi\, e né lei né il mare tradiranno mai. Solo così si può diventare un marinaio!
URL:https://triestecultura.it/evento/il-corsaro-del-vento-tino-straulino/
LOCATION:Politeama Rossetti\, viale XX Settembre\, Trieste\, Trieste\, Italy
CATEGORIES:Spettacolo
ATTACH;FMTTYPE=image/jpeg:https://triestecultura.it/wp-content/uploads/archivio/eventi/0001_5.jpg
END:VEVENT
BEGIN:VEVENT
DTSTART;VALUE=DATE:20170614
DTEND;VALUE=DATE:20170615
DTSTAMP:20260423T105652
CREATED:20250610T091837Z
LAST-MODIFIED:20250610T091840Z
UID:10003367-1497398400-1497398400@triestecultura.it
SUMMARY:Il sogno di Giulia
DESCRIPTION:La parrocchia di Santa Caterina da Siena\, assieme a Roberta Buttazzoni Lonza\, Silvio e Marco\, con il contributo del Comune di Trieste\, organizzano una serata musicale per ricordare Giulia.Giulia voleva fare il medico. Con questa serata desideriamo proseguire col progetto finalizzato a dare agli studenti del Deledda-Fabiani l’opportunità di arricchirsi attraverso la conoscenza di nuovi luoghi\, persone e culture\, nonché a contribuire alla realizzazione dell’aula di microbiologia. Ringraziamo già per il vostro prezioso sostegno.\nDurante la serata\, per volontà della famiglia e grazie alla collaborazione della Polizia di Stato\, rifletteremo sulla sicurezza stradale\, perchè non succeda ad altri quanto è accaduto a Giulia. \nInterverranno: The 1000 Streets’ Orchestra\, il Quintetto di ottoni del Conservatorio Tartini di Trieste\, Les Babettes\, la cantante Elina Oganjan e il Pattinaggio Artistico Jolly Trieste.\nPresenteranno i bravissimi Jessica Acquavita e Leonardo Zannier.\nRingraziamo fin da subito questi splendidi amici! \nL’ingresso è libero.
URL:https://triestecultura.it/evento/il-sogno-di-giulia/
LOCATION:Politeama Rossetti\, viale XX Settembre\, Trieste\, Trieste\, Italy
CATEGORIES:Evento
ATTACH;FMTTYPE=image/jpeg:https://triestecultura.it/wp-content/uploads/archivio/eventi/ilsognodigiulia.jpg
END:VEVENT
END:VCALENDAR