BEGIN:VCALENDAR
VERSION:2.0
PRODID:-//Trieste Cultura - ECPv6.15.20//NONSGML v1.0//EN
CALSCALE:GREGORIAN
METHOD:PUBLISH
X-WR-CALNAME:Trieste Cultura
X-ORIGINAL-URL:https://triestecultura.it
X-WR-CALDESC:Eventi per Trieste Cultura
REFRESH-INTERVAL;VALUE=DURATION:PT1H
X-Robots-Tag:noindex
X-PUBLISHED-TTL:PT1H
BEGIN:VTIMEZONE
TZID:Europe/Rome
BEGIN:DAYLIGHT
TZOFFSETFROM:+0100
TZOFFSETTO:+0200
TZNAME:CEST
DTSTART:20170326T010000
END:DAYLIGHT
BEGIN:STANDARD
TZOFFSETFROM:+0200
TZOFFSETTO:+0100
TZNAME:CET
DTSTART:20171029T010000
END:STANDARD
BEGIN:DAYLIGHT
TZOFFSETFROM:+0100
TZOFFSETTO:+0200
TZNAME:CEST
DTSTART:20180325T010000
END:DAYLIGHT
BEGIN:STANDARD
TZOFFSETFROM:+0200
TZOFFSETTO:+0100
TZNAME:CET
DTSTART:20181028T010000
END:STANDARD
BEGIN:DAYLIGHT
TZOFFSETFROM:+0100
TZOFFSETTO:+0200
TZNAME:CEST
DTSTART:20190331T010000
END:DAYLIGHT
BEGIN:STANDARD
TZOFFSETFROM:+0200
TZOFFSETTO:+0100
TZNAME:CET
DTSTART:20191027T010000
END:STANDARD
END:VTIMEZONE
BEGIN:VEVENT
DTSTART;VALUE=DATE:20180802
DTEND;VALUE=DATE:20180803
DTSTAMP:20260424T125548
CREATED:20250610T101134Z
LAST-MODIFIED:20250610T101134Z
UID:10003881-1533168000-1533168000@triestecultura.it
SUMMARY:Un anno di scuola
DESCRIPTION:Il 2 agosto vi aspettiamo in piazza Verdi alle ore 20.15 per la presentazione del Sistema Bibliotecario Giuliano a cui farà seguito una breve lettura scenica dal racconto di Giani Stuparich“Un anno di scuola”\nvoci di Lorenzo Acquaviva e Elke Burul\ncon la collaborazione della Cappella Underground\ne della Associazione Culturale Vitamina T \nSeguirà la proiezione del film “Un anno di scuola” di Franco Giraldi
URL:https://triestecultura.it/evento/un-anno-di-scuola-3/
LOCATION:Sistema Bibliotecario Giuliano\, Trieste\, Trieste\, Italy
CATEGORIES:Evento
ATTACH;FMTTYPE=image/jpeg:https://triestecultura.it/wp-content/uploads/2025/06/annodiscuola_1-592x333_1-ZLMu9g.jpg
END:VEVENT
BEGIN:VEVENT
DTSTART;VALUE=DATE:20180525
DTEND;VALUE=DATE:20180526
DTSTAMP:20260424T125548
CREATED:20250610T095717Z
LAST-MODIFIED:20250610T095717Z
UID:10003783-1527206400-1527206400@triestecultura.it
SUMMARY:Piacere: Sistema Bibliotecario Giuliano
DESCRIPTION:Il 25 maggio alle 16.30 la sala “Marco Sofianopulo” del Museo Revoltella ospiterà la presentazione ufficiale del neonato Sistema Bibliotecario Giuliano che mette in rete 26 biblioteche presenti sul territorio triestino.L’incontro\, inserito nel calendario della manifestazione nazionale Il maggio dei libri 2018\, prevede letture in italiano\, sloveno e serbo e un breve concerto curati da alcune delle biblioteche del sistema\, assieme ad un percorso per adulti sul valore multiculturale della convivialità a cura di Coop Allenza 3.0. e la visita guidata alle biblioteche del Museo Revoltella.\nSarà l’occasione per conoscerci\, per riscoprire il grande patrimonio culturale distribuito tra le varie istituzioni pubbliche e private di Trieste. E verranno presentati i nuovi servizi per i cittadini: un catalogo unico\, l’interprestito bibliotecario tra tutti gli istituti aderenti\, più spazi per iniziative multiculturali e plurilingue come sono anche le biblioteche di Trieste\nIl Sistema Bibliotecario Giuliano è composto da tutte le biblioteche comunali (Hortis\, Quarantotti Gambini\, Mattioni\, le Biblioteche dei Musei e quella dell’Archivio Generale)\, dalle biblioteche dei comuni di S. Dorligo della Valle e di Sgonico\, da quattro biblioteche scolastiche (Carducci-Dante\, Oberdan\, Petrarca\, Volta)\, dalle Biblioteche delle Comunità religiose (Elvetico-Valdese\, Greco orientale\, Serbo ortodossa) e alcune biblioteche di associazioni ed enti privati (Società Istriana di Archeologia e Storia Patria\, Deputazione di Storia Patria\, IRCI\, Istituto regionale per la Storia della Resistenza e dell’età contemporanea nel FVG\, Biblioteca Dušan Černe\, Conservatorio di Trieste\, IRSESS Lega Nazionale\, Istituto Rittmeyer)
URL:https://triestecultura.it/evento/piacere-sistema-bibliotecario-giuliano/
LOCATION:Sistema Bibliotecario Giuliano\, Trieste\, Trieste\, Italy
CATEGORIES:Conferenza
ATTACH;FMTTYPE=image/jpeg:https://triestecultura.it/wp-content/uploads/archivio/eventi/sbg-like_1.jpg
END:VEVENT
END:VCALENDAR